BEGIN:VCALENDAR
VERSION:2.0
PRODID:-//San Dieguito United Methodist Church - ECPv6.15.15//NONSGML v1.0//EN
CALSCALE:GREGORIAN
METHOD:PUBLISH
X-WR-CALNAME:San Dieguito United Methodist Church
X-ORIGINAL-URL:https://encinitaschurch.com
X-WR-CALDESC:Events for San Dieguito United Methodist Church
REFRESH-INTERVAL;VALUE=DURATION:PT1H
X-Robots-Tag:noindex
X-PUBLISHED-TTL:PT1H
BEGIN:VTIMEZONE
TZID:America/Los_Angeles
BEGIN:DAYLIGHT
TZOFFSETFROM:-0800
TZOFFSETTO:-0700
TZNAME:PDT
DTSTART:20240310T100000
END:DAYLIGHT
BEGIN:STANDARD
TZOFFSETFROM:-0700
TZOFFSETTO:-0800
TZNAME:PST
DTSTART:20241103T090000
END:STANDARD
BEGIN:DAYLIGHT
TZOFFSETFROM:-0800
TZOFFSETTO:-0700
TZNAME:PDT
DTSTART:20250309T100000
END:DAYLIGHT
BEGIN:STANDARD
TZOFFSETFROM:-0700
TZOFFSETTO:-0800
TZNAME:PST
DTSTART:20251102T090000
END:STANDARD
BEGIN:DAYLIGHT
TZOFFSETFROM:-0800
TZOFFSETTO:-0700
TZNAME:PDT
DTSTART:20260308T100000
END:DAYLIGHT
BEGIN:STANDARD
TZOFFSETFROM:-0700
TZOFFSETTO:-0800
TZNAME:PST
DTSTART:20261101T090000
END:STANDARD
END:VTIMEZONE
BEGIN:VEVENT
DTSTART;TZID=America/Los_Angeles:20250702T083000
DTEND;TZID=America/Los_Angeles:20250702T163000
DTSTAMP:20260421T023402
CREATED:20250620T231229Z
LAST-MODIFIED:20250621T000603Z
UID:10002266-1751445000-1751473800@encinitaschurch.com
SUMMARY:Red Cross Blood Drive
DESCRIPTION:  \n 
URL:https://encinitaschurch.com/event/red-cross-blood-drive/
LOCATION:Founders Hall
CATEGORIES:Highlight Events
ATTACH;FMTTYPE=image/png:https://encinitaschurch.com/wp-content/uploads/2025/06/REDCROSS.png
END:VEVENT
BEGIN:VEVENT
DTSTART;TZID=America/Los_Angeles:20250703T180000
DTEND;TZID=America/Los_Angeles:20250703T193000
DTSTAMP:20260421T023402
CREATED:20250620T231229Z
LAST-MODIFIED:20250621T195538Z
UID:10002274-1751565600-1751571000@encinitaschurch.com
SUMMARY:Fill-a-Belly Dinner
DESCRIPTION:Dinner on the patio with our food insecure neighbors
URL:https://encinitaschurch.com/event/fill-a-belly-dinner-2/
LOCATION:Founders Hall Patio
CATEGORIES:Highlight Events
ATTACH;FMTTYPE=image/png:https://encinitaschurch.com/wp-content/uploads/2025/06/FillaBelly-300x240-1.png
END:VEVENT
BEGIN:VEVENT
DTSTART;TZID=America/Los_Angeles:20250712T070000
DTEND;TZID=America/Los_Angeles:20250712T220000
DTSTAMP:20260421T023402
CREATED:20250620T231323Z
LAST-MODIFIED:20250711T141451Z
UID:10002310-1752303600-1752357600@encinitaschurch.com
SUMMARY:Build a Miracle Work Trip
DESCRIPTION:Work day in Tijuana building a home for a new life through Build a Miracle \nContact: Mike Breider
URL:https://encinitaschurch.com/event/build-a-miracle-work-trip/
LOCATION:Tijuana\, Baja California\, Mexico
CATEGORIES:Highlight Events,Home Event
ATTACH;FMTTYPE=image/png:https://encinitaschurch.com/wp-content/uploads/2025/06/BAM-200x107-1.png
END:VEVENT
BEGIN:VEVENT
DTSTART;TZID=America/Los_Angeles:20250716T183000
DTEND;TZID=America/Los_Angeles:20250716T203000
DTSTAMP:20260421T023402
CREATED:20250711T141515Z
LAST-MODIFIED:20250711T143554Z
UID:10002333-1752690600-1752697800@encinitaschurch.com
SUMMARY:Faith Flicks Movie NIght
DESCRIPTION:Gather to watch and discuss full-length contemporary movies from a faith perspective \nFavorite movie refreshments available
URL:https://encinitaschurch.com/event/faith-flicks-movie-night/
LOCATION:Founders Hall
CATEGORIES:Highlight Events
END:VEVENT
BEGIN:VEVENT
DTSTART;TZID=America/Los_Angeles:20250717T180000
DTEND;TZID=America/Los_Angeles:20250717T193000
DTSTAMP:20260421T023402
CREATED:20250711T141516Z
LAST-MODIFIED:20250711T143557Z
UID:10002337-1752775200-1752780600@encinitaschurch.com
SUMMARY:Fill-a-Belly Dinner
DESCRIPTION:Dinner on the patio with our food insecure neighbors.\nTo volunteer or provide a dinner register here;\nhttps://www.fillabelly.org/
URL:https://encinitaschurch.com/event/fill-a-belly-dinner-4/
LOCATION:Founders Hall Patio
CATEGORIES:Highlight Events
END:VEVENT
BEGIN:VEVENT
DTSTART;TZID=America/Los_Angeles:20250718T180000
DTEND;TZID=America/Los_Angeles:20250718T200000
DTSTAMP:20260421T023402
CREATED:20250711T141516Z
LAST-MODIFIED:20250711T143544Z
UID:10002340-1752861600-1752868800@encinitaschurch.com
SUMMARY:The Garden Pizza & Games Night
DESCRIPTION:Event hosted by The Garden worship.
URL:https://encinitaschurch.com/event/the-garden-pizza-games-night/
LOCATION:Campus Room
CATEGORIES:Highlight Events,Home Event
END:VEVENT
BEGIN:VEVENT
DTSTART;TZID=America/Los_Angeles:20250719T090000
DTEND;TZID=America/Los_Angeles:20250719T110000
DTSTAMP:20260421T023402
CREATED:20250711T141516Z
LAST-MODIFIED:20250711T143548Z
UID:10002342-1752915600-1752922800@encinitaschurch.com
SUMMARY:Pickleball Drop-in- Open Play
DESCRIPTION:Contact:\nmabreider@yahoo.com
URL:https://encinitaschurch.com/event/pickleball-drop-in-open-play/
LOCATION:Pickleball Courts
CATEGORIES:Highlight Events
END:VEVENT
BEGIN:VEVENT
DTSTART;TZID=America/Los_Angeles:20250720T170000
DTEND;TZID=America/Los_Angeles:20250720T200000
DTSTAMP:20260421T023402
CREATED:20250711T141527Z
LAST-MODIFIED:20250711T143551Z
UID:10002346-1753030800-1753041600@encinitaschurch.com
SUMMARY:Summer Fun Night-Chili Cook Off
DESCRIPTION:Chili Cook Off and Ice Cream Social with live music by Run4Cover
URL:https://encinitaschurch.com/event/summer-fun-night-chili-cook-off/
LOCATION:Founders Patio and lawn area
CATEGORIES:Highlight Events,Home Event
END:VEVENT
BEGIN:VEVENT
DTSTART;TZID=America/Los_Angeles:20250724T180000
DTEND;TZID=America/Los_Angeles:20250724T193000
DTSTAMP:20260421T023402
CREATED:20250711T141551Z
LAST-MODIFIED:20250722T183302Z
UID:10002364-1753380000-1753385400@encinitaschurch.com
SUMMARY:Fill-a-Belly Dinner
DESCRIPTION:Dinner on the patio with our food insecure neighbors.\nTo volunteer or provide a dinner register here;\nhttps://www.fillabelly.org/
URL:https://encinitaschurch.com/event/fill-a-belly-dinner-5/
LOCATION:Founders Hall Patio
CATEGORIES:Highlight Events
END:VEVENT
BEGIN:VEVENT
DTSTART;TZID=America/Los_Angeles:20250728T143000
DTEND;TZID=America/Los_Angeles:20250728T153000
DTSTAMP:20260421T023402
CREATED:20250711T141551Z
LAST-MODIFIED:20250726T164602Z
UID:10002371-1753713000-1753716600@encinitaschurch.com
SUMMARY:QiGong Class
DESCRIPTION:Instructor Martha
URL:https://encinitaschurch.com/event/qigong-class-5/
LOCATION:Chapel
CATEGORIES:Highlight Events
END:VEVENT
BEGIN:VEVENT
DTSTART;TZID=America/Los_Angeles:20250731T100000
DTEND;TZID=America/Los_Angeles:20250731T110000
DTSTAMP:20260421T023402
CREATED:20250711T141615Z
LAST-MODIFIED:20250731T044218Z
UID:10002384-1753956000-1753959600@encinitaschurch.com
SUMMARY:Silver Age Yoga
DESCRIPTION:Yoga instructor – Butch – 760.803.9258https://www.silverageyoga.org/
URL:https://encinitaschurch.com/event/silver-age-yoga-6/
LOCATION:Founders Hall
CATEGORIES:Highlight Events
END:VEVENT
BEGIN:VEVENT
DTSTART;TZID=America/Los_Angeles:20250731T180000
DTEND;TZID=America/Los_Angeles:20250731T193000
DTSTAMP:20260421T023402
CREATED:20250711T141615Z
LAST-MODIFIED:20250802T154750Z
UID:10002386-1753984800-1753990200@encinitaschurch.com
SUMMARY:Fill-a-Belly Dinner
DESCRIPTION:Dinner on the patio with our food insecure neighbors.\nTo volunteer or provide a dinner register here;\nhttps://www.fillabelly.org/
URL:https://encinitaschurch.com/event/fill-a-belly-dinner-6/
LOCATION:Founders Hall Patio
CATEGORIES:Highlight Events
END:VEVENT
END:VCALENDAR