BEGIN:VCALENDAR
VERSION:2.0
PRODID:-//San Dieguito United Methodist Church - ECPv6.15.15//NONSGML v1.0//EN
CALSCALE:GREGORIAN
METHOD:PUBLISH
X-WR-CALNAME:San Dieguito United Methodist Church
X-ORIGINAL-URL:https://encinitaschurch.com
X-WR-CALDESC:Events for San Dieguito United Methodist Church
REFRESH-INTERVAL;VALUE=DURATION:PT1H
X-Robots-Tag:noindex
X-PUBLISHED-TTL:PT1H
BEGIN:VTIMEZONE
TZID:America/Los_Angeles
BEGIN:DAYLIGHT
TZOFFSETFROM:-0800
TZOFFSETTO:-0700
TZNAME:PDT
DTSTART:20240310T100000
END:DAYLIGHT
BEGIN:STANDARD
TZOFFSETFROM:-0700
TZOFFSETTO:-0800
TZNAME:PST
DTSTART:20241103T090000
END:STANDARD
BEGIN:DAYLIGHT
TZOFFSETFROM:-0800
TZOFFSETTO:-0700
TZNAME:PDT
DTSTART:20250309T100000
END:DAYLIGHT
BEGIN:STANDARD
TZOFFSETFROM:-0700
TZOFFSETTO:-0800
TZNAME:PST
DTSTART:20251102T090000
END:STANDARD
BEGIN:DAYLIGHT
TZOFFSETFROM:-0800
TZOFFSETTO:-0700
TZNAME:PDT
DTSTART:20260308T100000
END:DAYLIGHT
BEGIN:STANDARD
TZOFFSETFROM:-0700
TZOFFSETTO:-0800
TZNAME:PST
DTSTART:20261101T090000
END:STANDARD
END:VTIMEZONE
BEGIN:VEVENT
DTSTART;TZID=America/Los_Angeles:20250706T093000
DTEND;TZID=America/Los_Angeles:20250706T103000
DTSTAMP:20260421T070138
CREATED:20250620T231244Z
LAST-MODIFIED:20250621T001634Z
UID:10002282-1751794200-1751797800@encinitaschurch.com
SUMMARY:Worship Service - Critical Conversations
DESCRIPTION:The Unsheltered and People with Food Insecurities\nGuest Speaker: Catherine Blakespear\, California State Senator\, 38th Senate District
URL:https://encinitaschurch.com/event/worship-classic-service-livestream-3/
LOCATION:Sanctuary and Online
CATEGORIES:Home Event
END:VEVENT
BEGIN:VEVENT
DTSTART;TZID=America/Los_Angeles:20250712T070000
DTEND;TZID=America/Los_Angeles:20250712T220000
DTSTAMP:20260421T070138
CREATED:20250620T231323Z
LAST-MODIFIED:20250711T141451Z
UID:10002310-1752303600-1752357600@encinitaschurch.com
SUMMARY:Build a Miracle Work Trip
DESCRIPTION:Work day in Tijuana building a home for a new life through Build a Miracle \nContact: Mike Breider
URL:https://encinitaschurch.com/event/build-a-miracle-work-trip/
LOCATION:Tijuana\, Baja California\, Mexico
CATEGORIES:Highlight Events,Home Event
ATTACH;FMTTYPE=image/png:https://encinitaschurch.com/wp-content/uploads/2025/06/BAM-200x107-1.png
END:VEVENT
BEGIN:VEVENT
DTSTART;TZID=America/Los_Angeles:20250712T143000
DTEND;TZID=America/Los_Angeles:20250712T160000
DTSTAMP:20260421T070138
CREATED:20250620T231323Z
LAST-MODIFIED:20250711T141451Z
UID:10002309-1752330600-1752336000@encinitaschurch.com
SUMMARY:North Coast Symphony Orchestra Summer Concert
DESCRIPTION:Fairy Tales \n 
URL:https://encinitaschurch.com/event/ncso-summer-concert/
LOCATION:Sanctuary
CATEGORIES:Home Event,Music
END:VEVENT
BEGIN:VEVENT
DTSTART;TZID=America/Los_Angeles:20250713T093000
DTEND;TZID=America/Los_Angeles:20250713T103000
DTSTAMP:20260421T070138
CREATED:20250620T231323Z
LAST-MODIFIED:20250621T022604Z
UID:10002312-1752399000-1752402600@encinitaschurch.com
SUMMARY:Worship Service - Summer Playlist - The Beatles
DESCRIPTION:
URL:https://encinitaschurch.com/event/worship-classic-service-livestream-4/
LOCATION:Sanctuary and Online
CATEGORIES:Home Event
END:VEVENT
BEGIN:VEVENT
DTSTART;TZID=America/Los_Angeles:20250718T180000
DTEND;TZID=America/Los_Angeles:20250718T200000
DTSTAMP:20260421T070138
CREATED:20250711T141516Z
LAST-MODIFIED:20250711T143544Z
UID:10002340-1752861600-1752868800@encinitaschurch.com
SUMMARY:The Garden Pizza & Games Night
DESCRIPTION:Event hosted by The Garden worship.
URL:https://encinitaschurch.com/event/the-garden-pizza-games-night/
LOCATION:Campus Room
CATEGORIES:Highlight Events,Home Event
END:VEVENT
BEGIN:VEVENT
DTSTART;TZID=America/Los_Angeles:20250720T093000
DTEND;TZID=America/Los_Angeles:20250720T103000
DTSTAMP:20260421T070138
CREATED:20250711T141527Z
LAST-MODIFIED:20250711T143213Z
UID:10002344-1753003800-1753007400@encinitaschurch.com
SUMMARY:Worship Service
DESCRIPTION:
URL:https://encinitaschurch.com/event/worship-service-2/
LOCATION:Sanctuary and Livestream
CATEGORIES:Home Event
END:VEVENT
BEGIN:VEVENT
DTSTART;TZID=America/Los_Angeles:20250720T170000
DTEND;TZID=America/Los_Angeles:20250720T200000
DTSTAMP:20260421T070138
CREATED:20250711T141527Z
LAST-MODIFIED:20250711T143551Z
UID:10002346-1753030800-1753041600@encinitaschurch.com
SUMMARY:Summer Fun Night-Chili Cook Off
DESCRIPTION:Chili Cook Off and Ice Cream Social with live music by Run4Cover
URL:https://encinitaschurch.com/event/summer-fun-night-chili-cook-off/
LOCATION:Founders Patio and lawn area
CATEGORIES:Highlight Events,Home Event
END:VEVENT
BEGIN:VEVENT
DTSTART;TZID=America/Los_Angeles:20250727T093000
DTEND;TZID=America/Los_Angeles:20250727T103000
DTSTAMP:20260421T070138
CREATED:20250711T141551Z
LAST-MODIFIED:20250726T161723Z
UID:10002367-1753608600-1753612200@encinitaschurch.com
SUMMARY:Worship Service
DESCRIPTION:Summer Playlist – Rock-and-Roll with Harmony road\nA unique looks at scripture passages through a musical lens.
URL:https://encinitaschurch.com/event/worship-service-3/
LOCATION:Sanctuary and Livestream
CATEGORIES:Home Event
END:VEVENT
BEGIN:VEVENT
DTSTART;TZID=America/Los_Angeles:20250727T103000
DTEND;TZID=America/Los_Angeles:20250727T113000
DTSTAMP:20260421T070138
CREATED:20250726T150132Z
LAST-MODIFIED:20250726T162040Z
UID:10003063-1753612200-1753615800@encinitaschurch.com
SUMMARY:Town Hall
DESCRIPTION:Updates on Vision goal progress and plans\, finances and a big screen showcase of our new website and logo \nMid-year giving statements will also be available for pick-up.
URL:https://encinitaschurch.com/event/town-hall/
LOCATION:Founders Hall
CATEGORIES:Home Event
END:VEVENT
END:VCALENDAR