BEGIN:VCALENDAR
VERSION:2.0
PRODID:-//San Dieguito United Methodist Church - ECPv6.15.15//NONSGML v1.0//EN
CALSCALE:GREGORIAN
METHOD:PUBLISH
X-WR-CALNAME:San Dieguito United Methodist Church
X-ORIGINAL-URL:https://encinitaschurch.com
X-WR-CALDESC:Events for San Dieguito United Methodist Church
REFRESH-INTERVAL;VALUE=DURATION:PT1H
X-Robots-Tag:noindex
X-PUBLISHED-TTL:PT1H
BEGIN:VTIMEZONE
TZID:America/Los_Angeles
BEGIN:DAYLIGHT
TZOFFSETFROM:-0800
TZOFFSETTO:-0700
TZNAME:PDT
DTSTART:20240310T100000
END:DAYLIGHT
BEGIN:STANDARD
TZOFFSETFROM:-0700
TZOFFSETTO:-0800
TZNAME:PST
DTSTART:20241103T090000
END:STANDARD
BEGIN:DAYLIGHT
TZOFFSETFROM:-0800
TZOFFSETTO:-0700
TZNAME:PDT
DTSTART:20250309T100000
END:DAYLIGHT
BEGIN:STANDARD
TZOFFSETFROM:-0700
TZOFFSETTO:-0800
TZNAME:PST
DTSTART:20251102T090000
END:STANDARD
BEGIN:DAYLIGHT
TZOFFSETFROM:-0800
TZOFFSETTO:-0700
TZNAME:PDT
DTSTART:20260308T100000
END:DAYLIGHT
BEGIN:STANDARD
TZOFFSETFROM:-0700
TZOFFSETTO:-0800
TZNAME:PST
DTSTART:20261101T090000
END:STANDARD
END:VTIMEZONE
BEGIN:VEVENT
DTSTART;TZID=America/Los_Angeles:20250903T083000
DTEND;TZID=America/Los_Angeles:20250903T163000
DTSTAMP:20260421T023402
CREATED:20250711T141840Z
LAST-MODIFIED:20250902T235103Z
UID:10002509-1756888200-1756917000@encinitaschurch.com
SUMMARY:Red Cross Blood Drive
DESCRIPTION:Reserve an appointment online at:  \nRed Cross Online Appointment Scheduler  \nOr see Dick Sterrett after church to sign up in person  \n  \n  \n 
URL:https://encinitaschurch.com/event/red-cross-blood-drive-3/
LOCATION:Founders Hall
CATEGORIES:Highlight Events,Home Event
END:VEVENT
BEGIN:VEVENT
DTSTART;TZID=America/Los_Angeles:20250907T083000
DTEND;TZID=America/Los_Angeles:20250907T113000
DTSTAMP:20260421T023402
CREATED:20250711T141853Z
LAST-MODIFIED:20250921T203546Z
UID:10002521-1757233800-1757244600@encinitaschurch.com
SUMMARY:Share The Table Sunday
DESCRIPTION:Donations of groceries and personal products for the Community Resource Center gratefully accepted.
URL:https://encinitaschurch.com/event/share-the-table-sunday-3/
LOCATION:Chapel
CATEGORIES:Home Event
END:VEVENT
BEGIN:VEVENT
DTSTART;TZID=America/Los_Angeles:20250907T093000
DTEND;TZID=America/Los_Angeles:20250907T103000
DTSTAMP:20260421T023402
CREATED:20250726T150919Z
LAST-MODIFIED:20250921T203546Z
UID:10003073-1757237400-1757241000@encinitaschurch.com
SUMMARY:Worship Service
DESCRIPTION:
URL:https://encinitaschurch.com/event/worship-service-31/
LOCATION:Sanctuary and Online
CATEGORIES:Home Event
END:VEVENT
BEGIN:VEVENT
DTSTART;TZID=America/Los_Angeles:20250909T130000
DTEND;TZID=America/Los_Angeles:20250909T150000
DTSTAMP:20260421T023402
CREATED:20250711T141904Z
LAST-MODIFIED:20250908T235131Z
UID:10002532-1757422800-1757430000@encinitaschurch.com
SUMMARY:Crafters Group
DESCRIPTION:Crafters group – bring one’s own handiwork or art project.\nSharon Kumpf : sharonkumpf@gmail.com\n2nd Tuesday / once a month
URL:https://encinitaschurch.com/event/crafters-group-3/
LOCATION:Rm.9/10
CATEGORIES:Highlight Events,Home Event
END:VEVENT
BEGIN:VEVENT
DTSTART;TZID=America/Los_Angeles:20250910T103000
DTEND;TZID=America/Los_Angeles:20250910T130000
DTSTAMP:20260421T023402
CREATED:20250711T141917Z
LAST-MODIFIED:20250909T233101Z
UID:10002538-1757500200-1757509200@encinitaschurch.com
SUMMARY:UWF Luncheon Meeting
DESCRIPTION:Women’s Luncheon Meeting \nDate: September\, 10\, 2025 \nUnited Women in Faith General Meeting and Luncheon \nIn recognition of International Clean Air Day\,we’ll celebrate Mother Earth and the many gifts she gives us includingwater\, air\, food and beauty \nThe Village Encinitas\, a local volunteer network ofneighbors helping neighbors\, will give a short presentation about how they makeour community a better place for all \nA healthy luncheon organized by Miriam Circle will be served \nAll women are welcome and encouraged to bring guests
URL:https://encinitaschurch.com/event/uwf-luncheon-meeting/
LOCATION:Founders Hall
CATEGORIES:Highlight Events,Home Event
END:VEVENT
BEGIN:VEVENT
DTSTART;TZID=America/Los_Angeles:20250910T180000
DTEND;TZID=America/Los_Angeles:20250910T200000
DTSTAMP:20260421T023402
CREATED:20250807T230344Z
LAST-MODIFIED:20250910T235116Z
UID:10004316-1757527200-1757534400@encinitaschurch.com
SUMMARY:Game Night
DESCRIPTION:An evening of food\, board games\, and good company hosted by The Garden
URL:https://encinitaschurch.com/event/game-night/
LOCATION:Founders Hall
CATEGORIES:Highlight Events,Home Event
END:VEVENT
BEGIN:VEVENT
DTSTART;TZID=America/Los_Angeles:20250912T060000
DTEND;TZID=America/Los_Angeles:20250912T233000
DTSTAMP:20260421T023402
CREATED:20250901T154351Z
LAST-MODIFIED:20250908T190311Z
UID:10004715-1757656800-1757719800@encinitaschurch.com
SUMMARY:Light Your  World Sign Up
DESCRIPTION:Ready to put your faith into action? \n\nOn Sunday\, September 14\, we’ll take the light of Christ into our community through a series of service projects.  \nMeet at the church at 9 am for a brief time of worship. Afterward\, you’ll connect with your team and head out to one of our many service projects.\n \n\n\nWith opportunities for all ages and abilities\, this is a day for everyone to share the light of Christ. \n\nYou can view the list of projects and sign up online or visit our table on the patio after worship on Sunday. \nIf you have questions\, please email Faith@encinitaschurch.com \n\n 
URL:https://encinitaschurch.com/event/8652-2-2-2-2-4/
LOCATION:Online
CATEGORIES:Home Event
END:VEVENT
BEGIN:VEVENT
DTSTART;TZID=America/Los_Angeles:20250913T110000
DTEND;TZID=America/Los_Angeles:20250913T123000
DTSTAMP:20260421T023402
CREATED:20250711T141928Z
LAST-MODIFIED:20250912T233103Z
UID:10002550-1757761200-1757766600@encinitaschurch.com
SUMMARY:Mary Ragland Memorial
DESCRIPTION:Memorial Service for Mary Ragland
URL:https://encinitaschurch.com/event/memorial-service/
LOCATION:Sanctuary
CATEGORIES:Home Event
END:VEVENT
BEGIN:VEVENT
DTSTART;TZID=America/Los_Angeles:20250914T083000
DTEND;TZID=America/Los_Angeles:20250914T150000
DTSTAMP:20260421T023402
CREATED:20250711T141940Z
LAST-MODIFIED:20250913T234613Z
UID:10002555-1757838600-1757862000@encinitaschurch.com
SUMMARY:Light Your World Service Day
DESCRIPTION:No worship service today. We are serving in the community. Meet at church at 8:30 am – Continental Breakfast 9:00 am – Prayer and send off for service projects Sign-up to serve: https://www.signupgenius.com/go/20F0948A4AA2CA4FF2-57684419-light
URL:https://encinitaschurch.com/event/light-your-world-service-day/
LOCATION:Campus
CATEGORIES:Home Event
END:VEVENT
BEGIN:VEVENT
DTSTART;TZID=America/Los_Angeles:20250917T183000
DTEND;TZID=America/Los_Angeles:20250917T203000
DTSTAMP:20260421T023402
CREATED:20250711T141952Z
LAST-MODIFIED:20250916T234555Z
UID:10002570-1758133800-1758141000@encinitaschurch.com
SUMMARY:Faith Flicks Movie NIght
DESCRIPTION:Gather to watch and discuss full-length contemporary movies from a faith perspective \nFavorite movie refreshments available \nFAITH FLICKS \nSeptember 17\, 2025 \nFounder’s Hall\, 6:30pm \n  \nLes Misérables is a musical based on the novel by Victor Hugo. It’s a story of love\, grace\, hope and redemption and offers timeless truths for our life together. \n            \nStarring: Hugh Jackman\, Russell Crowe\, Anne Hathaway and Amanda Seyfried. \n  \nRated PG-13 and is 2 ½ hrs. long (A brief intermission will be offered) \n  \nThe movie is FREE. Popcorn and candy will be available for a donation of $2.00 per person. \n  \n \nDue to the length of the film\, no discussion will follow. A “Take-home” reflection will be provided.
URL:https://encinitaschurch.com/event/faith-flicks-movie-night-3/
LOCATION:Founders Hall
CATEGORIES:Highlight Events,Home Event
END:VEVENT
BEGIN:VEVENT
DTSTART;TZID=America/Los_Angeles:20250921T093000
DTEND;TZID=America/Los_Angeles:20250921T103000
DTSTAMP:20260421T023402
CREATED:20250726T151033Z
LAST-MODIFIED:20250919T234548Z
UID:10003075-1758447000-1758450600@encinitaschurch.com
SUMMARY:Worship Service
DESCRIPTION:Sermon Message – “Stay Hungry: Don’t lose your appetite” – Rev. Dr. Mark Maddix \nScripture Reading: Mathhew 5: 6 -8
URL:https://encinitaschurch.com/event/worship-service-32/
LOCATION:Sanctuary and Online
CATEGORIES:Home Event
END:VEVENT
BEGIN:VEVENT
DTSTART;TZID=America/Los_Angeles:20250924T180000
DTEND;TZID=America/Los_Angeles:20250924T200000
DTSTAMP:20260421T023402
CREATED:20250807T230453Z
LAST-MODIFIED:20250922T234839Z
UID:10004319-1758736800-1758744000@encinitaschurch.com
SUMMARY:Craft Night
DESCRIPTION:Bring your own craft and enjoy a time of fellowship and snacks\, hosted by The Garden.\nIf you don’t have a craft to bring we will have painting supplies on hand.
URL:https://encinitaschurch.com/event/craft-night/
LOCATION:Founders Hall
CATEGORIES:Highlight Events,Home Event
END:VEVENT
BEGIN:VEVENT
DTSTART;TZID=America/Los_Angeles:20250924T190000
DTEND;TZID=America/Los_Angeles:20250924T200000
DTSTAMP:20260421T023402
CREATED:20250829T233303Z
LAST-MODIFIED:20250922T235313Z
UID:10004712-1758740400-1758744000@encinitaschurch.com
SUMMARY:Membership Class
DESCRIPTION:Thinking about becoming a member of San Dieguito United Methodist Church? \n  \nOur Membership Class is a welcoming space to learn about who we are—our beliefs\, mission\, values\, and history—and how our church operates. It’s also a time for us to get to know you! These sessions serve as a mutual\nintroduction\, helping you explore the commitments of membership and discover ways to connect\, grow\, and serve within our church family.
URL:https://encinitaschurch.com/event/membership-class/
LOCATION:Conference Room
CATEGORIES:Highlight Events,Home Event
END:VEVENT
BEGIN:VEVENT
DTSTART;TZID=America/Los_Angeles:20250927T150000
DTEND;TZID=America/Los_Angeles:20250927T160000
DTSTAMP:20260421T023402
CREATED:20250812T230515Z
LAST-MODIFIED:20250926T233554Z
UID:10004329-1758985200-1758988800@encinitaschurch.com
SUMMARY:Music Series Concert
DESCRIPTION:Basically Baroque Organ Concert performed by Gabriel Arregui\, featuring works by beloved Baroque composers
URL:https://encinitaschurch.com/event/music-series-concert-6/
LOCATION:Sanctuary
CATEGORIES:Home Event,Music
END:VEVENT
BEGIN:VEVENT
DTSTART;TZID=America/Los_Angeles:20250928T093000
DTEND;TZID=America/Los_Angeles:20250928T103000
DTSTAMP:20260421T023402
CREATED:20250726T153200Z
LAST-MODIFIED:20250927T234553Z
UID:10003077-1759051800-1759055400@encinitaschurch.com
SUMMARY:Worship Service
DESCRIPTION:
URL:https://encinitaschurch.com/event/worship-service-7/
LOCATION:Sanctuary and Online
CATEGORIES:Home Event
END:VEVENT
BEGIN:VEVENT
DTSTART;TZID=America/Los_Angeles:20250928T140000
DTEND;TZID=America/Los_Angeles:20250928T163000
DTSTAMP:20260421T023402
CREATED:20250711T142040Z
LAST-MODIFIED:20250927T234553Z
UID:10002609-1759068000-1759077000@encinitaschurch.com
SUMMARY:Rummage Sale Set-up
DESCRIPTION:United Women in Faith Rummage Sale Setup \n  \nDonations accepted daily Sunday afternoon through Thursday at noon \n  \n 
URL:https://encinitaschurch.com/event/rummage-sale-set-up/
LOCATION:Campus
CATEGORIES:Highlight Events,Home Event
END:VEVENT
END:VCALENDAR