BEGIN:VCALENDAR
VERSION:2.0
PRODID:-//San Dieguito United Methodist Church - ECPv6.15.15//NONSGML v1.0//EN
CALSCALE:GREGORIAN
METHOD:PUBLISH
X-WR-CALNAME:San Dieguito United Methodist Church
X-ORIGINAL-URL:https://encinitaschurch.com
X-WR-CALDESC:Events for San Dieguito United Methodist Church
REFRESH-INTERVAL;VALUE=DURATION:PT1H
X-Robots-Tag:noindex
X-PUBLISHED-TTL:PT1H
BEGIN:VTIMEZONE
TZID:America/Los_Angeles
BEGIN:DAYLIGHT
TZOFFSETFROM:-0800
TZOFFSETTO:-0700
TZNAME:PDT
DTSTART:20240310T100000
END:DAYLIGHT
BEGIN:STANDARD
TZOFFSETFROM:-0700
TZOFFSETTO:-0800
TZNAME:PST
DTSTART:20241103T090000
END:STANDARD
BEGIN:DAYLIGHT
TZOFFSETFROM:-0800
TZOFFSETTO:-0700
TZNAME:PDT
DTSTART:20250309T100000
END:DAYLIGHT
BEGIN:STANDARD
TZOFFSETFROM:-0700
TZOFFSETTO:-0800
TZNAME:PST
DTSTART:20251102T090000
END:STANDARD
BEGIN:DAYLIGHT
TZOFFSETFROM:-0800
TZOFFSETTO:-0700
TZNAME:PDT
DTSTART:20260308T100000
END:DAYLIGHT
BEGIN:STANDARD
TZOFFSETFROM:-0700
TZOFFSETTO:-0800
TZNAME:PST
DTSTART:20261101T090000
END:STANDARD
END:VTIMEZONE
BEGIN:VEVENT
DTSTART;TZID=America/Los_Angeles:20250803T083000
DTEND;TZID=America/Los_Angeles:20250803T113000
DTSTAMP:20260421T053455
CREATED:20250711T141627Z
LAST-MODIFIED:20250802T233039Z
UID:10002394-1754209800-1754220600@encinitaschurch.com
SUMMARY:Share The Table Sunday
DESCRIPTION:Groceries and personal products for Community Resource Center
URL:https://encinitaschurch.com/event/share-the-table-sunday-2/
LOCATION:Chapel
CATEGORIES:Home Event
END:VEVENT
BEGIN:VEVENT
DTSTART;TZID=America/Los_Angeles:20250803T093000
DTEND;TZID=America/Los_Angeles:20250803T103000
DTSTAMP:20260421T053455
CREATED:20250711T141616Z
LAST-MODIFIED:20250802T233038Z
UID:10002392-1754213400-1754217000@encinitaschurch.com
SUMMARY:Worship Service
DESCRIPTION:Summer Playlist – Bluegrass with the Key of Gsus \nA unique look at scripture passages through a musical lens
URL:https://encinitaschurch.com/event/worship-service-4/
LOCATION:Sanctuary and Livestream
CATEGORIES:Home Event
END:VEVENT
BEGIN:VEVENT
DTSTART;TZID=America/Los_Angeles:20250803T104500
DTEND;TZID=America/Los_Angeles:20250803T121500
DTSTAMP:20260421T053455
CREATED:20250726T150206Z
LAST-MODIFIED:20250802T233038Z
UID:10003065-1754217900-1754223300@encinitaschurch.com
SUMMARY:New Attenders Brunch
DESCRIPTION:Whether you’re brand new or have been coming for a while\, you’re invited to join us to get better acquainted with our pastors\, staff\, and members over brunch.  Please RSVP by emailing the church office .
URL:https://encinitaschurch.com/event/new-attenders-brunch/
LOCATION:Founders Hall
CATEGORIES:Highlight Events,Home Event
END:VEVENT
BEGIN:VEVENT
DTSTART;TZID=America/Los_Angeles:20250803T170000
DTEND;TZID=America/Los_Angeles:20250803T200000
DTSTAMP:20260421T053455
CREATED:20250711T141627Z
LAST-MODIFIED:20250803T233549Z
UID:10002395-1754240400-1754251200@encinitaschurch.com
SUMMARY:Summer Fun Night- Movie Night
DESCRIPTION:Movie Night “Soul”  Popcorn\, food and ice cream.
URL:https://encinitaschurch.com/event/summer-fun-night-movie-night/
LOCATION:Patio and Lawn\, Founders Hall
CATEGORIES:Highlight Events,Home Event
END:VEVENT
END:VCALENDAR