BEGIN:VCALENDAR
VERSION:2.0
PRODID:-//San Dieguito United Methodist Church - ECPv6.15.15//NONSGML v1.0//EN
CALSCALE:GREGORIAN
METHOD:PUBLISH
X-WR-CALNAME:San Dieguito United Methodist Church
X-ORIGINAL-URL:https://encinitaschurch.com
X-WR-CALDESC:Events for San Dieguito United Methodist Church
REFRESH-INTERVAL;VALUE=DURATION:PT1H
X-Robots-Tag:noindex
X-PUBLISHED-TTL:PT1H
BEGIN:VTIMEZONE
TZID:America/Los_Angeles
BEGIN:DAYLIGHT
TZOFFSETFROM:-0800
TZOFFSETTO:-0700
TZNAME:PDT
DTSTART:20240310T100000
END:DAYLIGHT
BEGIN:STANDARD
TZOFFSETFROM:-0700
TZOFFSETTO:-0800
TZNAME:PST
DTSTART:20241103T090000
END:STANDARD
BEGIN:DAYLIGHT
TZOFFSETFROM:-0800
TZOFFSETTO:-0700
TZNAME:PDT
DTSTART:20250309T100000
END:DAYLIGHT
BEGIN:STANDARD
TZOFFSETFROM:-0700
TZOFFSETTO:-0800
TZNAME:PST
DTSTART:20251102T090000
END:STANDARD
BEGIN:DAYLIGHT
TZOFFSETFROM:-0800
TZOFFSETTO:-0700
TZNAME:PDT
DTSTART:20260308T100000
END:DAYLIGHT
BEGIN:STANDARD
TZOFFSETFROM:-0700
TZOFFSETTO:-0800
TZNAME:PST
DTSTART:20261101T090000
END:STANDARD
END:VTIMEZONE
BEGIN:VEVENT
DTSTART;TZID=America/Los_Angeles:20251005T083000
DTEND;TZID=America/Los_Angeles:20251005T113000
DTSTAMP:20260421T160909
CREATED:20250711T142116Z
LAST-MODIFIED:20251004T235054Z
UID:10002640-1759653000-1759663800@encinitaschurch.com
SUMMARY:Share The Table Sunday
DESCRIPTION:Donations of groceries and personal products for the Community Resource Center gratefully accepted.
URL:https://encinitaschurch.com/event/share-the-table-sunday-4/
LOCATION:Chapel
CATEGORIES:Home Event
END:VEVENT
BEGIN:VEVENT
DTSTART;TZID=America/Los_Angeles:20251005T093000
DTEND;TZID=America/Los_Angeles:20251005T103000
DTSTAMP:20260421T160909
CREATED:20250726T153236Z
LAST-MODIFIED:20251004T235054Z
UID:10003078-1759656600-1759660200@encinitaschurch.com
SUMMARY:Worship Service
DESCRIPTION:World Communion Sunday \nMessage: “Strawberry Preserves & Lightning Bugs”- Rev. Dr. Mark Maddix \nDuring communion today you are invited to be anointed by our clergy for healing. \nBy receiving healing at the healing stations it offers a sacred moment for healing of mind\, body\, or spirit. \nThe healing stations are a place where your burdens can be lifted\, peace imparted\, and hope ignited through God’s grace. \nYou can be anointed for yourself or on behalf of someone and be anointed your head or hand.
URL:https://encinitaschurch.com/event/worship-service-8/
LOCATION:Sanctuary and Online
CATEGORIES:Home Event
END:VEVENT
END:VCALENDAR