BEGIN:VCALENDAR
VERSION:2.0
PRODID:-//San Dieguito United Methodist Church - ECPv6.15.15//NONSGML v1.0//EN
CALSCALE:GREGORIAN
METHOD:PUBLISH
X-WR-CALNAME:San Dieguito United Methodist Church
X-ORIGINAL-URL:https://encinitaschurch.com
X-WR-CALDESC:Events for San Dieguito United Methodist Church
REFRESH-INTERVAL;VALUE=DURATION:PT1H
X-Robots-Tag:noindex
X-PUBLISHED-TTL:PT1H
BEGIN:VTIMEZONE
TZID:America/Los_Angeles
BEGIN:DAYLIGHT
TZOFFSETFROM:-0800
TZOFFSETTO:-0700
TZNAME:PDT
DTSTART:20240310T100000
END:DAYLIGHT
BEGIN:STANDARD
TZOFFSETFROM:-0700
TZOFFSETTO:-0800
TZNAME:PST
DTSTART:20241103T090000
END:STANDARD
BEGIN:DAYLIGHT
TZOFFSETFROM:-0800
TZOFFSETTO:-0700
TZNAME:PDT
DTSTART:20250309T100000
END:DAYLIGHT
BEGIN:STANDARD
TZOFFSETFROM:-0700
TZOFFSETTO:-0800
TZNAME:PST
DTSTART:20251102T090000
END:STANDARD
BEGIN:DAYLIGHT
TZOFFSETFROM:-0800
TZOFFSETTO:-0700
TZNAME:PDT
DTSTART:20260308T100000
END:DAYLIGHT
BEGIN:STANDARD
TZOFFSETFROM:-0700
TZOFFSETTO:-0800
TZNAME:PST
DTSTART:20261101T090000
END:STANDARD
END:VTIMEZONE
BEGIN:VEVENT
DTSTART;TZID=America/Los_Angeles:20251101T150000
DTEND;TZID=America/Los_Angeles:20251101T150000
DTSTAMP:20260419T072801
CREATED:20250812T230828Z
LAST-MODIFIED:20251113T042813Z
UID:10004331-1762009200-1762009200@encinitaschurch.com
SUMMARY:Music Series Concert
DESCRIPTION:Martin Luther King\, Jr. Community Choir San Diego – Ken Anderson\, Music Director \nJoin us for an uplifting afternoon with the Martin Luther King\, Jr. Community Choir San Diego. \nThis free concert will feature powerful\, energetic gospel music that celebrates unity\, hope\, and community.  \nCome experience the joy and inspiration of voices joined together in song\, a performance sure to lift your spirit and bring us all closer through music. \n 
URL:https://encinitaschurch.com/event/music-series-concert-7/
LOCATION:Sanctuary
CATEGORIES:Home Event,Music
END:VEVENT
END:VCALENDAR