BEGIN:VCALENDAR
VERSION:2.0
PRODID:-//San Dieguito United Methodist Church - ECPv6.15.15//NONSGML v1.0//EN
CALSCALE:GREGORIAN
METHOD:PUBLISH
X-ORIGINAL-URL:https://encinitaschurch.com
X-WR-CALDESC:Events for San Dieguito United Methodist Church
REFRESH-INTERVAL;VALUE=DURATION:PT1H
X-Robots-Tag:noindex
X-PUBLISHED-TTL:PT1H
BEGIN:VTIMEZONE
TZID:America/Los_Angeles
BEGIN:DAYLIGHT
TZOFFSETFROM:-0800
TZOFFSETTO:-0700
TZNAME:PDT
DTSTART:20250309T100000
END:DAYLIGHT
BEGIN:STANDARD
TZOFFSETFROM:-0700
TZOFFSETTO:-0800
TZNAME:PST
DTSTART:20251102T090000
END:STANDARD
BEGIN:DAYLIGHT
TZOFFSETFROM:-0800
TZOFFSETTO:-0700
TZNAME:PDT
DTSTART:20260308T100000
END:DAYLIGHT
BEGIN:STANDARD
TZOFFSETFROM:-0700
TZOFFSETTO:-0800
TZNAME:PST
DTSTART:20261101T090000
END:STANDARD
BEGIN:DAYLIGHT
TZOFFSETFROM:-0800
TZOFFSETTO:-0700
TZNAME:PDT
DTSTART:20270314T100000
END:DAYLIGHT
BEGIN:STANDARD
TZOFFSETFROM:-0700
TZOFFSETTO:-0800
TZNAME:PST
DTSTART:20271107T090000
END:STANDARD
END:VTIMEZONE
BEGIN:VEVENT
DTSTART;TZID=America/Los_Angeles:20260424T073000
DTEND;TZID=America/Los_Angeles:20261231T100000
DTSTAMP:20260424T141155
CREATED:20260424T183748Z
LAST-MODIFIED:20260424T183748Z
UID:10006130-1777015800-1798711200@encinitaschurch.com
SUMMARY:Walkers & Talkers
DESCRIPTION:You are invited to join the Walking and Talking Ladies of Cardiff.\nThe walkers meet Fridays at 7:30 am on the Northwest corner of Chesterfield and San Elijo in Cardiff. \nAt about 8:30 or 8:45\, they gather at Pipe’s Café on Liverpool where they are joined by the Talking Ladies of Cardiff for coffee and conversation. \nThe Walkers are the ones who get up early to walk. The Talkers are the ones who join the group at Pipe’s. \nAll are welcome to come along for the walking\, the talking or both. \nPipe’s Café\n121 Liverpool Drive\nCardiff\, CA 92007
URL:https://encinitaschurch.com/event/walkers-talkers/2026-04-24/1/
CATEGORIES:Highlight Events,Home Event
END:VEVENT
END:VCALENDAR