BEGIN:VCALENDAR
VERSION:2.0
PRODID:-//San Dieguito United Methodist Church - ECPv6.15.15//NONSGML v1.0//EN
CALSCALE:GREGORIAN
METHOD:PUBLISH
X-WR-CALNAME:San Dieguito United Methodist Church
X-ORIGINAL-URL:https://encinitaschurch.com
X-WR-CALDESC:Events for San Dieguito United Methodist Church
REFRESH-INTERVAL;VALUE=DURATION:PT1H
X-Robots-Tag:noindex
X-PUBLISHED-TTL:PT1H
BEGIN:VTIMEZONE
TZID:America/Los_Angeles
BEGIN:DAYLIGHT
TZOFFSETFROM:-0800
TZOFFSETTO:-0700
TZNAME:PDT
DTSTART:20240310T100000
END:DAYLIGHT
BEGIN:STANDARD
TZOFFSETFROM:-0700
TZOFFSETTO:-0800
TZNAME:PST
DTSTART:20241103T090000
END:STANDARD
BEGIN:DAYLIGHT
TZOFFSETFROM:-0800
TZOFFSETTO:-0700
TZNAME:PDT
DTSTART:20250309T100000
END:DAYLIGHT
BEGIN:STANDARD
TZOFFSETFROM:-0700
TZOFFSETTO:-0800
TZNAME:PST
DTSTART:20251102T090000
END:STANDARD
BEGIN:DAYLIGHT
TZOFFSETFROM:-0800
TZOFFSETTO:-0700
TZNAME:PDT
DTSTART:20260308T100000
END:DAYLIGHT
BEGIN:STANDARD
TZOFFSETFROM:-0700
TZOFFSETTO:-0800
TZNAME:PST
DTSTART:20261101T090000
END:STANDARD
END:VTIMEZONE
BEGIN:VEVENT
DTSTART;TZID=America/Los_Angeles:20251011T160000
DTEND;TZID=America/Los_Angeles:20251011T170000
DTSTAMP:20260421T023403
CREATED:20250731T044802Z
LAST-MODIFIED:20251010T235048Z
UID:10004294-1760198400-1760202000@encinitaschurch.com
SUMMARY:Sorelle Choir Concert
DESCRIPTION:Folk Tales \nSaturday\, October 11th\, 2025\, 4:00pm \nSan Dieguito United Methodist Church\, 170 Calle Magdalena\, Encinitas CA \n\n\n\n\nWomen’s chamber chorus\, Sorelle San Diego\, will present Folk Tales.\nDirected by Michelle Risling and accompanied by Anna Juliar\,\nSorelle will perform compelling choral works that examine the Maiden\, Mother and Crone\,\neach symbolizing a distinct stage of women’s lives across cultures.\n\n\n\n\n\n\nTickets: https://sorellesandiego.ludus.com/index.php
URL:https://encinitaschurch.com/event/sorelle-choir-concert/
LOCATION:Sanctuary
CATEGORIES:Music
END:VEVENT
BEGIN:VEVENT
DTSTART;TZID=America/Los_Angeles:20251018T143000
DTEND;TZID=America/Los_Angeles:20251018T163000
DTSTAMP:20260421T023403
CREATED:20250711T142229Z
LAST-MODIFIED:20251016T235042Z
UID:10002693-1760797800-1760805000@encinitaschurch.com
SUMMARY:North Coast Symphony Orchestra Concert
DESCRIPTION:“Echoes through Time” \nTickets: https://www.northcoastsymphony.com/concertstickets.html
URL:https://encinitaschurch.com/event/ncso-concert/
LOCATION:Sanctuary
CATEGORIES:Music
END:VEVENT
BEGIN:VEVENT
DTSTART;TZID=America/Los_Angeles:20251018T190000
DTEND;TZID=America/Los_Angeles:20251018T203000
DTSTAMP:20260421T023403
CREATED:20250726T153349Z
LAST-MODIFIED:20251018T233049Z
UID:10003081-1760814000-1760819400@encinitaschurch.com
SUMMARY:Sacra Profana Choir Concert
DESCRIPTION:L.O.S.T. \nJoin us for this unforgettable choral experience inspired by Thomas Tallis and Jason Carl Rosenberg.  \nThe ensemble will explore the concepts of unknowable value\, immeasurability\, loss\, and renewal. \nFive centuries apart\, two companion pieces engage in dialogue across centuries. Thomas Tallis’ “Lamentations of Jeremiah” intertwines with Jason Carl Rosenberg’s bold composition\, “L.O.S.T.\,” a meditation on grief and renewal. \nRenaissance polyphony dissolves into modern harmonies\, reemerging in an unforgettable performance of timeless music made urgent\, intimate\, and profoundly human. \nTickets: https://www.sacraprofana.org/event-details/l-o-s-t
URL:https://encinitaschurch.com/event/sacra-profana-choir-concert/
LOCATION:Sanctuary
CATEGORIES:Music
END:VEVENT
END:VCALENDAR