BEGIN:VCALENDAR
VERSION:2.0
PRODID:-//San Dieguito United Methodist Church - ECPv6.15.15//NONSGML v1.0//EN
CALSCALE:GREGORIAN
METHOD:PUBLISH
X-WR-CALNAME:San Dieguito United Methodist Church
X-ORIGINAL-URL:https://encinitaschurch.com
X-WR-CALDESC:Events for San Dieguito United Methodist Church
REFRESH-INTERVAL;VALUE=DURATION:PT1H
X-Robots-Tag:noindex
X-PUBLISHED-TTL:PT1H
BEGIN:VTIMEZONE
TZID:America/Los_Angeles
BEGIN:DAYLIGHT
TZOFFSETFROM:-0800
TZOFFSETTO:-0700
TZNAME:PDT
DTSTART:20250309T100000
END:DAYLIGHT
BEGIN:STANDARD
TZOFFSETFROM:-0700
TZOFFSETTO:-0800
TZNAME:PST
DTSTART:20251102T090000
END:STANDARD
BEGIN:DAYLIGHT
TZOFFSETFROM:-0800
TZOFFSETTO:-0700
TZNAME:PDT
DTSTART:20260308T100000
END:DAYLIGHT
BEGIN:STANDARD
TZOFFSETFROM:-0700
TZOFFSETTO:-0800
TZNAME:PST
DTSTART:20261101T090000
END:STANDARD
BEGIN:DAYLIGHT
TZOFFSETFROM:-0800
TZOFFSETTO:-0700
TZNAME:PDT
DTSTART:20270314T100000
END:DAYLIGHT
BEGIN:STANDARD
TZOFFSETFROM:-0700
TZOFFSETTO:-0800
TZNAME:PST
DTSTART:20271107T090000
END:STANDARD
END:VTIMEZONE
BEGIN:VEVENT
DTSTART;TZID=America/Los_Angeles:20260507T113000
DTEND;TZID=America/Los_Angeles:20260507T130000
DTSTAMP:20260423T113307
CREATED:20260422T180216Z
LAST-MODIFIED:20260423T181718Z
UID:10006126-1778153400-1778158800@encinitaschurch.com
SUMMARY:Ladies Who Lunch - Claire's on Cedros
DESCRIPTION:Located across from the Train Station in Solana Beach\nAll ladies and friends are welcome. \nIf possible\, please RSVP to Pandora Johnson
URL:https://encinitaschurch.com/event/ladies-who-lunch-claires-on-cedros/
LOCATION:Claire’s on Cedros\, 246 N Cedros Ave\, Solana Beach\, CA\, United States
GEO:32.994373;-117.271128
X-APPLE-STRUCTURED-LOCATION;VALUE=URI;X-ADDRESS=Claire’s on Cedros 246 N Cedros Ave Solana Beach CA United States;X-APPLE-RADIUS=500;X-TITLE=246 N Cedros Ave:geo:-117.271128,32.994373
END:VEVENT
END:VCALENDAR