BEGIN:VCALENDAR
VERSION:2.0
PRODID:-//San Dieguito United Methodist Church - ECPv6.15.15//NONSGML v1.0//EN
CALSCALE:GREGORIAN
METHOD:PUBLISH
X-ORIGINAL-URL:https://encinitaschurch.com
X-WR-CALDESC:Events for San Dieguito United Methodist Church
REFRESH-INTERVAL;VALUE=DURATION:PT1H
X-Robots-Tag:noindex
X-PUBLISHED-TTL:PT1H
BEGIN:VTIMEZONE
TZID:America/Los_Angeles
BEGIN:DAYLIGHT
TZOFFSETFROM:-0800
TZOFFSETTO:-0700
TZNAME:PDT
DTSTART:20240310T100000
END:DAYLIGHT
BEGIN:STANDARD
TZOFFSETFROM:-0700
TZOFFSETTO:-0800
TZNAME:PST
DTSTART:20241103T090000
END:STANDARD
BEGIN:DAYLIGHT
TZOFFSETFROM:-0800
TZOFFSETTO:-0700
TZNAME:PDT
DTSTART:20250309T100000
END:DAYLIGHT
BEGIN:STANDARD
TZOFFSETFROM:-0700
TZOFFSETTO:-0800
TZNAME:PST
DTSTART:20251102T090000
END:STANDARD
BEGIN:DAYLIGHT
TZOFFSETFROM:-0800
TZOFFSETTO:-0700
TZNAME:PDT
DTSTART:20260308T100000
END:DAYLIGHT
BEGIN:STANDARD
TZOFFSETFROM:-0700
TZOFFSETTO:-0800
TZNAME:PST
DTSTART:20261101T090000
END:STANDARD
END:VTIMEZONE
BEGIN:VEVENT
DTSTART;TZID=America/Los_Angeles:20251001T190000
DTEND;TZID=America/Los_Angeles:20251001T200000
DTSTAMP:20260423T064620
CREATED:20251001T221800Z
LAST-MODIFIED:20251001T234544Z
UID:10004917-1759345200-1759348800@encinitaschurch.com
SUMMARY:Book Study
DESCRIPTION:Taking America Back for God by Andrew L. Whitehead and Samuel L. Perry explores how Christian nationalism— the belief that the U.S. should be an explicitly Christian nation—shapes politics\, culture\, and identity in America today. Drawing on surveys\, interviews\, and analysis\, the authors show how this ideology influences debates on immigration\, race\, gender\, and democracy itself. \nLed by Rev. Dr. Mark Maddix and Pastor Faith Daniel.
URL:https://encinitaschurch.com/event/book-study/
LOCATION:Conference Room
END:VEVENT
BEGIN:VEVENT
DTSTART;TZID=America/Los_Angeles:20250930T093000
DTEND;TZID=America/Los_Angeles:20250930T103000
DTSTAMP:20260423T064620
CREATED:20250711T142052Z
LAST-MODIFIED:20250929T234553Z
UID:10002616-1759224600-1759228200@encinitaschurch.com
SUMMARY:Staff Meeting
DESCRIPTION:San Dieguito UMC Staff meeting
URL:https://encinitaschurch.com/event/staff-meeting-15/
LOCATION:Conference Room
END:VEVENT
BEGIN:VEVENT
DTSTART;TZID=America/Los_Angeles:20250929T090000
DTEND;TZID=America/Los_Angeles:20250929T110000
DTSTAMP:20260423T064620
CREATED:20250711T142052Z
LAST-MODIFIED:20250928T234552Z
UID:10002615-1759136400-1759143600@encinitaschurch.com
SUMMARY:Monday Review
DESCRIPTION:
URL:https://encinitaschurch.com/event/monday-review-15/
LOCATION:Conference Room
END:VEVENT
BEGIN:VEVENT
DTSTART;TZID=America/Los_Angeles:20250924T190000
DTEND;TZID=America/Los_Angeles:20250924T200000
DTSTAMP:20260423T064620
CREATED:20250829T233303Z
LAST-MODIFIED:20250922T235313Z
UID:10004712-1758740400-1758744000@encinitaschurch.com
SUMMARY:Membership Class
DESCRIPTION:Thinking about becoming a member of San Dieguito United Methodist Church? \n  \nOur Membership Class is a welcoming space to learn about who we are—our beliefs\, mission\, values\, and history—and how our church operates. It’s also a time for us to get to know you! These sessions serve as a mutual\nintroduction\, helping you explore the commitments of membership and discover ways to connect\, grow\, and serve within our church family.
URL:https://encinitaschurch.com/event/membership-class/
LOCATION:Conference Room
CATEGORIES:Highlight Events,Home Event
END:VEVENT
BEGIN:VEVENT
DTSTART;TZID=America/Los_Angeles:20250923T093000
DTEND;TZID=America/Los_Angeles:20250923T103000
DTSTAMP:20260423T064620
CREATED:20250711T142016Z
LAST-MODIFIED:20250922T233532Z
UID:10002589-1758619800-1758623400@encinitaschurch.com
SUMMARY:Staff Meeting
DESCRIPTION:San Dieguito UMC Staff meeting
URL:https://encinitaschurch.com/event/staff-meeting-14/
LOCATION:Conference Room
END:VEVENT
BEGIN:VEVENT
DTSTART;TZID=America/Los_Angeles:20250922T090000
DTEND;TZID=America/Los_Angeles:20250922T110000
DTSTAMP:20260423T064620
CREATED:20250711T142016Z
LAST-MODIFIED:20250921T233042Z
UID:10002583-1758531600-1758538800@encinitaschurch.com
SUMMARY:Monday Review
DESCRIPTION:
URL:https://encinitaschurch.com/event/monday-review-14/
LOCATION:Conference Room
END:VEVENT
BEGIN:VEVENT
DTSTART;TZID=America/Los_Angeles:20250918T183000
DTEND;TZID=America/Los_Angeles:20250918T203000
DTSTAMP:20260423T064620
CREATED:20250904T233239Z
LAST-MODIFIED:20250918T233056Z
UID:10004735-1758220200-1758227400@encinitaschurch.com
SUMMARY:North Coast Singers Board Meeting
DESCRIPTION:
URL:https://encinitaschurch.com/event/north-coast-singers-board-meeting-3/
LOCATION:Conference Room
END:VEVENT
BEGIN:VEVENT
DTSTART;TZID=America/Los_Angeles:20250916T093000
DTEND;TZID=America/Los_Angeles:20250916T103000
DTSTAMP:20260423T064620
CREATED:20250711T141952Z
LAST-MODIFIED:20250915T233106Z
UID:10002563-1758015000-1758018600@encinitaschurch.com
SUMMARY:Staff Meeting
DESCRIPTION:San Dieguito UMC Staff meeting
URL:https://encinitaschurch.com/event/staff-meeting-13/
LOCATION:Conference Room
END:VEVENT
BEGIN:VEVENT
DTSTART;TZID=America/Los_Angeles:20250915T090000
DTEND;TZID=America/Los_Angeles:20250915T110000
DTSTAMP:20260423T064620
CREATED:20250711T141940Z
LAST-MODIFIED:20250913T234613Z
UID:10002557-1757926800-1757934000@encinitaschurch.com
SUMMARY:Monday Review
DESCRIPTION:
URL:https://encinitaschurch.com/event/monday-review-13/
LOCATION:Conference Room
END:VEVENT
BEGIN:VEVENT
DTSTART;TZID=America/Los_Angeles:20250910T103000
DTEND;TZID=America/Los_Angeles:20250910T123000
DTSTAMP:20260423T064620
CREATED:20250904T233150Z
LAST-MODIFIED:20250909T233101Z
UID:10004728-1757500200-1757507400@encinitaschurch.com
SUMMARY:Gifts and Endowments
DESCRIPTION:
URL:https://encinitaschurch.com/event/gifts-and-endowments/
LOCATION:Conference Room
END:VEVENT
BEGIN:VEVENT
DTSTART;TZID=America/Los_Angeles:20250909T190000
DTEND;TZID=America/Los_Angeles:20250909T210000
DTSTAMP:20260423T064620
CREATED:20250711T141916Z
LAST-MODIFIED:20250904T233137Z
UID:10002537-1757444400-1757451600@encinitaschurch.com
SUMMARY:Board of Trustees Meeting
DESCRIPTION:Bi-monthly Trustees Meeting
URL:https://encinitaschurch.com/event/board-of-trustees-meeting-3/
LOCATION:Conference Room
CATEGORIES:Highlight Events
END:VEVENT
BEGIN:VEVENT
DTSTART;TZID=America/Los_Angeles:20250909T130000
DTEND;TZID=America/Los_Angeles:20250909T140000
DTSTAMP:20260423T064620
CREATED:20250711T141916Z
LAST-MODIFIED:20250908T235131Z
UID:10002533-1757422800-1757426400@encinitaschurch.com
SUMMARY:Small Group Committee
DESCRIPTION:
URL:https://encinitaschurch.com/event/small-group-committee-2/
LOCATION:Conference Room
CATEGORIES:Highlight Events
END:VEVENT
BEGIN:VEVENT
DTSTART;TZID=America/Los_Angeles:20250909T093000
DTEND;TZID=America/Los_Angeles:20250909T103000
DTSTAMP:20260423T064620
CREATED:20250711T141904Z
LAST-MODIFIED:20250908T235131Z
UID:10002531-1757410200-1757413800@encinitaschurch.com
SUMMARY:Staff Meeting
DESCRIPTION:San Dieguito UMC Staff meeting
URL:https://encinitaschurch.com/event/staff-meeting-12/
LOCATION:Conference Room
END:VEVENT
BEGIN:VEVENT
DTSTART;TZID=America/Los_Angeles:20250908T090000
DTEND;TZID=America/Los_Angeles:20250908T110000
DTSTAMP:20260423T064620
CREATED:20250711T141904Z
LAST-MODIFIED:20250921T203547Z
UID:10002525-1757322000-1757329200@encinitaschurch.com
SUMMARY:Monday Review
DESCRIPTION:
URL:https://encinitaschurch.com/event/monday-review-12/
LOCATION:Conference Room
END:VEVENT
BEGIN:VEVENT
DTSTART;TZID=America/Los_Angeles:20250905T093000
DTEND;TZID=America/Los_Angeles:20250905T110000
DTSTAMP:20260423T064620
CREATED:20250830T235119Z
LAST-MODIFIED:20250908T145752Z
UID:10004714-1757064600-1757070000@encinitaschurch.com
SUMMARY:Village Encinitas Meeting
DESCRIPTION:Contact: Nancy Meisenhelder
URL:https://encinitaschurch.com/event/village-encinitas-meeting/
LOCATION:Conference Room
END:VEVENT
BEGIN:VEVENT
DTSTART;TZID=America/Los_Angeles:20250903T090000
DTEND;TZID=America/Los_Angeles:20250903T110000
DTSTAMP:20260423T064620
CREATED:20250711T141828Z
LAST-MODIFIED:20250902T235103Z
UID:10002499-1756890000-1756897200@encinitaschurch.com
SUMMARY:Monday Review
DESCRIPTION:
URL:https://encinitaschurch.com/event/monday-review-11/
LOCATION:Conference Room
END:VEVENT
BEGIN:VEVENT
DTSTART;TZID=America/Los_Angeles:20250902T093000
DTEND;TZID=America/Los_Angeles:20250902T103000
DTSTAMP:20260423T064620
CREATED:20250711T141840Z
LAST-MODIFIED:20250901T233559Z
UID:10002505-1756805400-1756809000@encinitaschurch.com
SUMMARY:Staff Meeting
DESCRIPTION:San Dieguito UMC Staff meeting
URL:https://encinitaschurch.com/event/staff-meeting-11/
LOCATION:Conference Room
END:VEVENT
BEGIN:VEVENT
DTSTART;TZID=America/Los_Angeles:20250827T183000
DTEND;TZID=America/Los_Angeles:20250827T200000
DTSTAMP:20260423T064620
CREATED:20250822T233637Z
LAST-MODIFIED:20250827T233112Z
UID:10004691-1756319400-1756324800@encinitaschurch.com
SUMMARY:SPRC Meeting
DESCRIPTION:
URL:https://encinitaschurch.com/event/sprc-meeting-2/
LOCATION:Conference Room
END:VEVENT
BEGIN:VEVENT
DTSTART;TZID=America/Los_Angeles:20250826T093000
DTEND;TZID=America/Los_Angeles:20250826T103000
DTSTAMP:20260423T064620
CREATED:20250711T141803Z
LAST-MODIFIED:20250825T235102Z
UID:10002480-1756200600-1756204200@encinitaschurch.com
SUMMARY:Staff Meeting
DESCRIPTION:San Dieguito UMC Staff meeting
URL:https://encinitaschurch.com/event/staff-meeting-10/
LOCATION:Conference Room
END:VEVENT
BEGIN:VEVENT
DTSTART;TZID=America/Los_Angeles:20250825T090000
DTEND;TZID=America/Los_Angeles:20250825T110000
DTSTAMP:20260423T064620
CREATED:20250711T141803Z
LAST-MODIFIED:20250824T233109Z
UID:10002475-1756112400-1756119600@encinitaschurch.com
SUMMARY:Monday Review
DESCRIPTION:
URL:https://encinitaschurch.com/event/monday-review-10/
LOCATION:Conference Room
END:VEVENT
BEGIN:VEVENT
DTSTART;TZID=America/Los_Angeles:20250819T183000
DTEND;TZID=America/Los_Angeles:20250819T193000
DTSTAMP:20260423T064620
CREATED:20250805T234705Z
LAST-MODIFIED:20250818T233559Z
UID:10004309-1755628200-1755631800@encinitaschurch.com
SUMMARY:SPRC Meeting
DESCRIPTION:
URL:https://encinitaschurch.com/event/sprc-meeting/
LOCATION:Conference Room
END:VEVENT
BEGIN:VEVENT
DTSTART;TZID=America/Los_Angeles:20250819T093000
DTEND;TZID=America/Los_Angeles:20250819T103000
DTSTAMP:20260423T064620
CREATED:20250711T141739Z
LAST-MODIFIED:20250818T233559Z
UID:10002458-1755595800-1755599400@encinitaschurch.com
SUMMARY:Staff Meeting
DESCRIPTION:San Dieguito UMC Staff meeting
URL:https://encinitaschurch.com/event/staff-meeting-9/
LOCATION:Conference Room
END:VEVENT
BEGIN:VEVENT
DTSTART;TZID=America/Los_Angeles:20250818T090000
DTEND;TZID=America/Los_Angeles:20250818T110000
DTSTAMP:20260423T064620
CREATED:20250711T141739Z
LAST-MODIFIED:20250817T231559Z
UID:10002453-1755507600-1755514800@encinitaschurch.com
SUMMARY:Monday Review
DESCRIPTION:
URL:https://encinitaschurch.com/event/monday-review-9/
LOCATION:Conference Room
END:VEVENT
BEGIN:VEVENT
DTSTART;TZID=America/Los_Angeles:20250812T190000
DTEND;TZID=America/Los_Angeles:20250812T210000
DTSTAMP:20260423T064620
CREATED:20250711T141715Z
LAST-MODIFIED:20250812T230117Z
UID:10002433-1755025200-1755032400@encinitaschurch.com
SUMMARY:Board of Trustees Meeting
DESCRIPTION:Bi-monthly Trustees Meeting
URL:https://encinitaschurch.com/event/board-of-trustees-meeting-2/
LOCATION:Conference Room
END:VEVENT
BEGIN:VEVENT
DTSTART;TZID=America/Los_Angeles:20250812T130000
DTEND;TZID=America/Los_Angeles:20250812T140000
DTSTAMP:20260423T064620
CREATED:20250711T141704Z
LAST-MODIFIED:20250810T234610Z
UID:10002431-1755003600-1755007200@encinitaschurch.com
SUMMARY:Small Group Committee
DESCRIPTION:
URL:https://encinitaschurch.com/event/small-group-committee/
LOCATION:Conference Room
END:VEVENT
BEGIN:VEVENT
DTSTART;TZID=America/Los_Angeles:20250812T093000
DTEND;TZID=America/Los_Angeles:20250812T103000
DTSTAMP:20260423T064620
CREATED:20250711T141704Z
LAST-MODIFIED:20250810T234557Z
UID:10002430-1754991000-1754994600@encinitaschurch.com
SUMMARY:Staff Meeting
DESCRIPTION:San Dieguito UMC Staff meeting
URL:https://encinitaschurch.com/event/staff-meeting-8/
LOCATION:Conference Room
END:VEVENT
BEGIN:VEVENT
DTSTART;TZID=America/Los_Angeles:20250811T090000
DTEND;TZID=America/Los_Angeles:20250811T110000
DTSTAMP:20260423T064620
CREATED:20250711T141703Z
LAST-MODIFIED:20250810T234557Z
UID:10002424-1754902800-1754910000@encinitaschurch.com
SUMMARY:Monday Review
DESCRIPTION:
URL:https://encinitaschurch.com/event/monday-review-8/
LOCATION:Conference Room
END:VEVENT
BEGIN:VEVENT
DTSTART;TZID=America/Los_Angeles:20250805T093000
DTEND;TZID=America/Los_Angeles:20250805T103000
DTSTAMP:20260423T064620
CREATED:20250711T141640Z
LAST-MODIFIED:20250804T234550Z
UID:10002403-1754386200-1754389800@encinitaschurch.com
SUMMARY:Staff Meeting
DESCRIPTION:San Dieguito UMC Staff meeting
URL:https://encinitaschurch.com/event/staff-meeting-7/
LOCATION:Conference Room
END:VEVENT
BEGIN:VEVENT
DTSTART;TZID=America/Los_Angeles:20250804T090000
DTEND;TZID=America/Los_Angeles:20250804T110000
DTSTAMP:20260423T064620
CREATED:20250711T141627Z
LAST-MODIFIED:20250803T233550Z
UID:10002397-1754298000-1754305200@encinitaschurch.com
SUMMARY:Monday Review
DESCRIPTION:
URL:https://encinitaschurch.com/event/monday-review-7/
LOCATION:Conference Room
END:VEVENT
BEGIN:VEVENT
DTSTART;TZID=America/Los_Angeles:20250801T093000
DTEND;TZID=America/Los_Angeles:20250801T110000
DTSTAMP:20260423T064620
CREATED:20250729T233203Z
LAST-MODIFIED:20250802T154750Z
UID:10003135-1754040600-1754046000@encinitaschurch.com
SUMMARY:Village Encinitas
DESCRIPTION:Meeting for community volunteers
URL:https://encinitaschurch.com/event/village-encinitas/
LOCATION:Conference Room
END:VEVENT
END:VCALENDAR