BEGIN:VCALENDAR
VERSION:2.0
PRODID:-//San Dieguito United Methodist Church - ECPv6.15.15//NONSGML v1.0//EN
CALSCALE:GREGORIAN
METHOD:PUBLISH
X-WR-CALNAME:San Dieguito United Methodist Church
X-ORIGINAL-URL:https://encinitaschurch.com
X-WR-CALDESC:Events for San Dieguito United Methodist Church
REFRESH-INTERVAL;VALUE=DURATION:PT1H
X-Robots-Tag:noindex
X-PUBLISHED-TTL:PT1H
BEGIN:VTIMEZONE
TZID:America/Los_Angeles
BEGIN:DAYLIGHT
TZOFFSETFROM:-0800
TZOFFSETTO:-0700
TZNAME:PDT
DTSTART:20260308T100000
END:DAYLIGHT
BEGIN:STANDARD
TZOFFSETFROM:-0700
TZOFFSETTO:-0800
TZNAME:PST
DTSTART:20261101T090000
END:STANDARD
BEGIN:DAYLIGHT
TZOFFSETFROM:-0800
TZOFFSETTO:-0700
TZNAME:PDT
DTSTART:20270314T100000
END:DAYLIGHT
BEGIN:STANDARD
TZOFFSETFROM:-0700
TZOFFSETTO:-0800
TZNAME:PST
DTSTART:20271107T090000
END:STANDARD
BEGIN:DAYLIGHT
TZOFFSETFROM:-0800
TZOFFSETTO:-0700
TZNAME:PDT
DTSTART:20280312T100000
END:DAYLIGHT
BEGIN:STANDARD
TZOFFSETFROM:-0700
TZOFFSETTO:-0800
TZNAME:PST
DTSTART:20281105T090000
END:STANDARD
END:VTIMEZONE
BEGIN:VEVENT
DTSTART;TZID=America/Los_Angeles:20270309T130000
DTEND;TZID=America/Los_Angeles:20270309T140000
DTSTAMP:20260423T050530
CREATED:20250730T021806Z
LAST-MODIFIED:20250730T021806Z
UID:10004189-1804597200-1804600800@encinitaschurch.com
SUMMARY:Small Group Committee
DESCRIPTION:
URL:https://encinitaschurch.com/event/small-group-committee-20/
LOCATION:Conference Room
END:VEVENT
BEGIN:VEVENT
DTSTART;TZID=America/Los_Angeles:20270309T190000
DTEND;TZID=America/Los_Angeles:20270309T210000
DTSTAMP:20260423T050530
CREATED:20250730T021818Z
LAST-MODIFIED:20250730T021818Z
UID:10004191-1804618800-1804626000@encinitaschurch.com
SUMMARY:Board of Trustees Meeting
DESCRIPTION:Bi-monthly Trustees Meeting
URL:https://encinitaschurch.com/event/board-of-trustees-meeting-21/
LOCATION:Conference Room
END:VEVENT
BEGIN:VEVENT
DTSTART;TZID=America/Los_Angeles:20270315T090000
DTEND;TZID=America/Los_Angeles:20270315T110000
DTSTAMP:20260423T050530
CREATED:20250730T021830Z
LAST-MODIFIED:20250730T021830Z
UID:10004201-1805101200-1805108400@encinitaschurch.com
SUMMARY:Monday Review
DESCRIPTION:
URL:https://encinitaschurch.com/event/monday-review-91/
LOCATION:Conference Room
END:VEVENT
BEGIN:VEVENT
DTSTART;TZID=America/Los_Angeles:20270316T093000
DTEND;TZID=America/Los_Angeles:20270316T103000
DTSTAMP:20260423T050530
CREATED:20250730T021830Z
LAST-MODIFIED:20250730T021830Z
UID:10004204-1805189400-1805193000@encinitaschurch.com
SUMMARY:Staff Meeting
DESCRIPTION:San Dieguito UMC Staff meeting
URL:https://encinitaschurch.com/event/staff-meeting-91/
LOCATION:Conference Room
END:VEVENT
BEGIN:VEVENT
DTSTART;TZID=America/Los_Angeles:20270322T090000
DTEND;TZID=America/Los_Angeles:20270322T110000
DTSTAMP:20260423T050530
CREATED:20250730T021843Z
LAST-MODIFIED:20250730T021843Z
UID:10004216-1805706000-1805713200@encinitaschurch.com
SUMMARY:Monday Review
DESCRIPTION:
URL:https://encinitaschurch.com/event/monday-review-92/
LOCATION:Conference Room
END:VEVENT
BEGIN:VEVENT
DTSTART;TZID=America/Los_Angeles:20270323T093000
DTEND;TZID=America/Los_Angeles:20270323T103000
DTSTAMP:20260423T050530
CREATED:20250730T021843Z
LAST-MODIFIED:20250730T021843Z
UID:10004219-1805794200-1805797800@encinitaschurch.com
SUMMARY:Staff Meeting
DESCRIPTION:San Dieguito UMC Staff meeting
URL:https://encinitaschurch.com/event/staff-meeting-92/
LOCATION:Conference Room
END:VEVENT
BEGIN:VEVENT
DTSTART;TZID=America/Los_Angeles:20270329T090000
DTEND;TZID=America/Los_Angeles:20270329T110000
DTSTAMP:20260423T050530
CREATED:20250730T021856Z
LAST-MODIFIED:20250730T021856Z
UID:10004230-1806310800-1806318000@encinitaschurch.com
SUMMARY:Monday Review
DESCRIPTION:
URL:https://encinitaschurch.com/event/monday-review-93/
LOCATION:Conference Room
END:VEVENT
BEGIN:VEVENT
DTSTART;TZID=America/Los_Angeles:20270330T093000
DTEND;TZID=America/Los_Angeles:20270330T103000
DTSTAMP:20260423T050530
CREATED:20250730T021907Z
LAST-MODIFIED:20250730T021907Z
UID:10004233-1806399000-1806402600@encinitaschurch.com
SUMMARY:Staff Meeting
DESCRIPTION:San Dieguito UMC Staff meeting
URL:https://encinitaschurch.com/event/staff-meeting-93/
LOCATION:Conference Room
END:VEVENT
BEGIN:VEVENT
DTSTART;TZID=America/Los_Angeles:20270405T090000
DTEND;TZID=America/Los_Angeles:20270405T110000
DTSTAMP:20260423T050530
CREATED:20250730T021920Z
LAST-MODIFIED:20250730T021920Z
UID:10004245-1806915600-1806922800@encinitaschurch.com
SUMMARY:Monday Review
DESCRIPTION:
URL:https://encinitaschurch.com/event/monday-review-94/
LOCATION:Conference Room
END:VEVENT
BEGIN:VEVENT
DTSTART;TZID=America/Los_Angeles:20270406T093000
DTEND;TZID=America/Los_Angeles:20270406T103000
DTSTAMP:20260423T050530
CREATED:20250730T021920Z
LAST-MODIFIED:20250730T021920Z
UID:10004248-1807003800-1807007400@encinitaschurch.com
SUMMARY:Staff Meeting
DESCRIPTION:San Dieguito UMC Staff meeting
URL:https://encinitaschurch.com/event/staff-meeting-94/
LOCATION:Conference Room
END:VEVENT
BEGIN:VEVENT
DTSTART;TZID=America/Los_Angeles:20270412T090000
DTEND;TZID=America/Los_Angeles:20270412T110000
DTSTAMP:20260423T050530
CREATED:20250730T021933Z
LAST-MODIFIED:20250730T021933Z
UID:10004259-1807520400-1807527600@encinitaschurch.com
SUMMARY:Monday Review
DESCRIPTION:
URL:https://encinitaschurch.com/event/monday-review-95/
LOCATION:Conference Room
END:VEVENT
BEGIN:VEVENT
DTSTART;TZID=America/Los_Angeles:20270413T093000
DTEND;TZID=America/Los_Angeles:20270413T103000
DTSTAMP:20260423T050530
CREATED:20250730T021945Z
LAST-MODIFIED:20250730T021945Z
UID:10004263-1807608600-1807612200@encinitaschurch.com
SUMMARY:Staff Meeting
DESCRIPTION:San Dieguito UMC Staff meeting
URL:https://encinitaschurch.com/event/staff-meeting-95/
LOCATION:Conference Room
END:VEVENT
BEGIN:VEVENT
DTSTART;TZID=America/Los_Angeles:20270413T130000
DTEND;TZID=America/Los_Angeles:20270413T140000
DTSTAMP:20260423T050530
CREATED:20250730T021945Z
LAST-MODIFIED:20250730T021945Z
UID:10004264-1807621200-1807624800@encinitaschurch.com
SUMMARY:Small Group Committee
DESCRIPTION:
URL:https://encinitaschurch.com/event/small-group-committee-21/
LOCATION:Conference Room
END:VEVENT
BEGIN:VEVENT
DTSTART;TZID=America/Los_Angeles:20270413T190000
DTEND;TZID=America/Los_Angeles:20270413T210000
DTSTAMP:20260423T050530
CREATED:20250730T021945Z
LAST-MODIFIED:20250730T021945Z
UID:10004267-1807642800-1807650000@encinitaschurch.com
SUMMARY:Board of Trustees Meeting
DESCRIPTION:Bi-monthly Trustees Meeting
URL:https://encinitaschurch.com/event/board-of-trustees-meeting-22/
LOCATION:Conference Room
END:VEVENT
BEGIN:VEVENT
DTSTART;TZID=America/Los_Angeles:20270419T090000
DTEND;TZID=America/Los_Angeles:20270419T110000
DTSTAMP:20260423T050530
CREATED:20250730T021957Z
LAST-MODIFIED:20250815T041458Z
UID:10004277-1808125200-1808132400@encinitaschurch.com
SUMMARY:Monday Review
DESCRIPTION:
URL:https://encinitaschurch.com/event/monday-review-96/
LOCATION:Conference Room
END:VEVENT
BEGIN:VEVENT
DTSTART;TZID=America/Los_Angeles:20270420T093000
DTEND;TZID=America/Los_Angeles:20270420T103000
DTSTAMP:20260423T050530
CREATED:20250730T021957Z
LAST-MODIFIED:20250815T041458Z
UID:10004280-1808213400-1808217000@encinitaschurch.com
SUMMARY:Staff Meeting
DESCRIPTION:San Dieguito UMC Staff meeting
URL:https://encinitaschurch.com/event/staff-meeting-96/
LOCATION:Conference Room
END:VEVENT
BEGIN:VEVENT
DTSTART;TZID=America/Los_Angeles:20270426T090000
DTEND;TZID=America/Los_Angeles:20270426T110000
DTSTAMP:20260423T050530
CREATED:20250815T041511Z
LAST-MODIFIED:20250815T041511Z
UID:10004343-1808730000-1808737200@encinitaschurch.com
SUMMARY:Monday Review
DESCRIPTION:
URL:https://encinitaschurch.com/event/monday-review-97/
LOCATION:Conference Room
END:VEVENT
BEGIN:VEVENT
DTSTART;TZID=America/Los_Angeles:20270427T093000
DTEND;TZID=America/Los_Angeles:20270427T103000
DTSTAMP:20260423T050530
CREATED:20250815T041523Z
LAST-MODIFIED:20250815T041523Z
UID:10004346-1808818200-1808821800@encinitaschurch.com
SUMMARY:Staff Meeting
DESCRIPTION:San Dieguito UMC Staff meeting
URL:https://encinitaschurch.com/event/staff-meeting-97/
LOCATION:Conference Room
END:VEVENT
BEGIN:VEVENT
DTSTART;TZID=America/Los_Angeles:20270503T090000
DTEND;TZID=America/Los_Angeles:20270503T110000
DTSTAMP:20260423T050530
CREATED:20250815T041537Z
LAST-MODIFIED:20250815T041537Z
UID:10004358-1809334800-1809342000@encinitaschurch.com
SUMMARY:Monday Review
DESCRIPTION:
URL:https://encinitaschurch.com/event/monday-review-98/
LOCATION:Conference Room
END:VEVENT
BEGIN:VEVENT
DTSTART;TZID=America/Los_Angeles:20270504T093000
DTEND;TZID=America/Los_Angeles:20270504T103000
DTSTAMP:20260423T050530
CREATED:20250815T041537Z
LAST-MODIFIED:20250815T041537Z
UID:10004361-1809423000-1809426600@encinitaschurch.com
SUMMARY:Staff Meeting
DESCRIPTION:San Dieguito UMC Staff meeting
URL:https://encinitaschurch.com/event/staff-meeting-98/
LOCATION:Conference Room
END:VEVENT
BEGIN:VEVENT
DTSTART;TZID=America/Los_Angeles:20270510T090000
DTEND;TZID=America/Los_Angeles:20270510T110000
DTSTAMP:20260423T050530
CREATED:20250815T041550Z
LAST-MODIFIED:20250815T041550Z
UID:10004372-1809939600-1809946800@encinitaschurch.com
SUMMARY:Monday Review
DESCRIPTION:
URL:https://encinitaschurch.com/event/monday-review-99/
LOCATION:Conference Room
END:VEVENT
BEGIN:VEVENT
DTSTART;TZID=America/Los_Angeles:20270511T093000
DTEND;TZID=America/Los_Angeles:20270511T103000
DTSTAMP:20260423T050530
CREATED:20250815T041601Z
LAST-MODIFIED:20250815T041601Z
UID:10004376-1810027800-1810031400@encinitaschurch.com
SUMMARY:Staff Meeting
DESCRIPTION:San Dieguito UMC Staff meeting
URL:https://encinitaschurch.com/event/staff-meeting-99/
LOCATION:Conference Room
END:VEVENT
BEGIN:VEVENT
DTSTART;TZID=America/Los_Angeles:20270511T130000
DTEND;TZID=America/Los_Angeles:20270511T140000
DTSTAMP:20260423T050530
CREATED:20250815T041601Z
LAST-MODIFIED:20250815T041601Z
UID:10004378-1810040400-1810044000@encinitaschurch.com
SUMMARY:Small Group Committee
DESCRIPTION:
URL:https://encinitaschurch.com/event/small-group-committee-22/
LOCATION:Conference Room
END:VEVENT
BEGIN:VEVENT
DTSTART;TZID=America/Los_Angeles:20270511T190000
DTEND;TZID=America/Los_Angeles:20270511T210000
DTSTAMP:20260423T050530
CREATED:20250815T041602Z
LAST-MODIFIED:20250815T041602Z
UID:10004380-1810062000-1810069200@encinitaschurch.com
SUMMARY:Board of Trustees Meeting
DESCRIPTION:Bi-monthly Trustees Meeting
URL:https://encinitaschurch.com/event/board-of-trustees-meeting-23/
LOCATION:Conference Room
END:VEVENT
BEGIN:VEVENT
DTSTART;TZID=America/Los_Angeles:20270517T090000
DTEND;TZID=America/Los_Angeles:20270517T110000
DTSTAMP:20260423T050530
CREATED:20250815T041615Z
LAST-MODIFIED:20250815T041615Z
UID:10004390-1810544400-1810551600@encinitaschurch.com
SUMMARY:Monday Review
DESCRIPTION:
URL:https://encinitaschurch.com/event/monday-review-100/
LOCATION:Conference Room
END:VEVENT
BEGIN:VEVENT
DTSTART;TZID=America/Los_Angeles:20270518T093000
DTEND;TZID=America/Los_Angeles:20270518T103000
DTSTAMP:20260423T050530
CREATED:20250815T041615Z
LAST-MODIFIED:20250815T041615Z
UID:10004393-1810632600-1810636200@encinitaschurch.com
SUMMARY:Staff Meeting
DESCRIPTION:San Dieguito UMC Staff meeting
URL:https://encinitaschurch.com/event/staff-meeting-100/
LOCATION:Conference Room
END:VEVENT
BEGIN:VEVENT
DTSTART;TZID=America/Los_Angeles:20270524T090000
DTEND;TZID=America/Los_Angeles:20270524T110000
DTSTAMP:20260423T050530
CREATED:20250815T041640Z
LAST-MODIFIED:20250815T041640Z
UID:10004405-1811149200-1811156400@encinitaschurch.com
SUMMARY:Monday Review
DESCRIPTION:
URL:https://encinitaschurch.com/event/monday-review-101/
LOCATION:Conference Room
END:VEVENT
BEGIN:VEVENT
DTSTART;TZID=America/Los_Angeles:20270525T093000
DTEND;TZID=America/Los_Angeles:20270525T103000
DTSTAMP:20260423T050530
CREATED:20250815T041641Z
LAST-MODIFIED:20250815T041641Z
UID:10004408-1811237400-1811241000@encinitaschurch.com
SUMMARY:Staff Meeting
DESCRIPTION:San Dieguito UMC Staff meeting
URL:https://encinitaschurch.com/event/staff-meeting-101/
LOCATION:Conference Room
END:VEVENT
BEGIN:VEVENT
DTSTART;TZID=America/Los_Angeles:20270531T090000
DTEND;TZID=America/Los_Angeles:20270531T110000
DTSTAMP:20260423T050530
CREATED:20250815T041653Z
LAST-MODIFIED:20250815T041653Z
UID:10004419-1811754000-1811761200@encinitaschurch.com
SUMMARY:Monday Review
DESCRIPTION:
URL:https://encinitaschurch.com/event/monday-review-102/
LOCATION:Conference Room
END:VEVENT
BEGIN:VEVENT
DTSTART;TZID=America/Los_Angeles:20270601T093000
DTEND;TZID=America/Los_Angeles:20270601T103000
DTSTAMP:20260423T050530
CREATED:20250815T041653Z
LAST-MODIFIED:20250815T041653Z
UID:10004422-1811842200-1811845800@encinitaschurch.com
SUMMARY:Staff Meeting
DESCRIPTION:San Dieguito UMC Staff meeting
URL:https://encinitaschurch.com/event/staff-meeting-102/
LOCATION:Conference Room
END:VEVENT
END:VCALENDAR