BEGIN:VCALENDAR
VERSION:2.0
PRODID:-//San Dieguito United Methodist Church - ECPv6.15.15//NONSGML v1.0//EN
CALSCALE:GREGORIAN
METHOD:PUBLISH
X-WR-CALNAME:San Dieguito United Methodist Church
X-ORIGINAL-URL:https://encinitaschurch.com
X-WR-CALDESC:Events for San Dieguito United Methodist Church
REFRESH-INTERVAL;VALUE=DURATION:PT1H
X-Robots-Tag:noindex
X-PUBLISHED-TTL:PT1H
BEGIN:VTIMEZONE
TZID:America/Los_Angeles
BEGIN:DAYLIGHT
TZOFFSETFROM:-0800
TZOFFSETTO:-0700
TZNAME:PDT
DTSTART:20260308T100000
END:DAYLIGHT
BEGIN:STANDARD
TZOFFSETFROM:-0700
TZOFFSETTO:-0800
TZNAME:PST
DTSTART:20261101T090000
END:STANDARD
BEGIN:DAYLIGHT
TZOFFSETFROM:-0800
TZOFFSETTO:-0700
TZNAME:PDT
DTSTART:20270314T100000
END:DAYLIGHT
BEGIN:STANDARD
TZOFFSETFROM:-0700
TZOFFSETTO:-0800
TZNAME:PST
DTSTART:20271107T090000
END:STANDARD
BEGIN:DAYLIGHT
TZOFFSETFROM:-0800
TZOFFSETTO:-0700
TZNAME:PDT
DTSTART:20280312T100000
END:DAYLIGHT
BEGIN:STANDARD
TZOFFSETFROM:-0700
TZOFFSETTO:-0800
TZNAME:PST
DTSTART:20281105T090000
END:STANDARD
END:VTIMEZONE
BEGIN:VEVENT
DTSTART;TZID=America/Los_Angeles:20270517T090000
DTEND;TZID=America/Los_Angeles:20270517T110000
DTSTAMP:20260423T095107
CREATED:20250815T041615Z
LAST-MODIFIED:20250815T041615Z
UID:10004390-1810544400-1810551600@encinitaschurch.com
SUMMARY:Monday Review
DESCRIPTION:
URL:https://encinitaschurch.com/event/monday-review-100/
LOCATION:Conference Room
END:VEVENT
BEGIN:VEVENT
DTSTART;TZID=America/Los_Angeles:20270518T093000
DTEND;TZID=America/Los_Angeles:20270518T103000
DTSTAMP:20260423T095107
CREATED:20250815T041615Z
LAST-MODIFIED:20250815T041615Z
UID:10004393-1810632600-1810636200@encinitaschurch.com
SUMMARY:Staff Meeting
DESCRIPTION:San Dieguito UMC Staff meeting
URL:https://encinitaschurch.com/event/staff-meeting-100/
LOCATION:Conference Room
END:VEVENT
BEGIN:VEVENT
DTSTART;TZID=America/Los_Angeles:20270524T090000
DTEND;TZID=America/Los_Angeles:20270524T110000
DTSTAMP:20260423T095107
CREATED:20250815T041640Z
LAST-MODIFIED:20250815T041640Z
UID:10004405-1811149200-1811156400@encinitaschurch.com
SUMMARY:Monday Review
DESCRIPTION:
URL:https://encinitaschurch.com/event/monday-review-101/
LOCATION:Conference Room
END:VEVENT
BEGIN:VEVENT
DTSTART;TZID=America/Los_Angeles:20270525T093000
DTEND;TZID=America/Los_Angeles:20270525T103000
DTSTAMP:20260423T095107
CREATED:20250815T041641Z
LAST-MODIFIED:20250815T041641Z
UID:10004408-1811237400-1811241000@encinitaschurch.com
SUMMARY:Staff Meeting
DESCRIPTION:San Dieguito UMC Staff meeting
URL:https://encinitaschurch.com/event/staff-meeting-101/
LOCATION:Conference Room
END:VEVENT
BEGIN:VEVENT
DTSTART;TZID=America/Los_Angeles:20270531T090000
DTEND;TZID=America/Los_Angeles:20270531T110000
DTSTAMP:20260423T095107
CREATED:20250815T041653Z
LAST-MODIFIED:20250815T041653Z
UID:10004419-1811754000-1811761200@encinitaschurch.com
SUMMARY:Monday Review
DESCRIPTION:
URL:https://encinitaschurch.com/event/monday-review-102/
LOCATION:Conference Room
END:VEVENT
BEGIN:VEVENT
DTSTART;TZID=America/Los_Angeles:20270601T093000
DTEND;TZID=America/Los_Angeles:20270601T103000
DTSTAMP:20260423T095107
CREATED:20250815T041653Z
LAST-MODIFIED:20250815T041653Z
UID:10004422-1811842200-1811845800@encinitaschurch.com
SUMMARY:Staff Meeting
DESCRIPTION:San Dieguito UMC Staff meeting
URL:https://encinitaschurch.com/event/staff-meeting-102/
LOCATION:Conference Room
END:VEVENT
BEGIN:VEVENT
DTSTART;TZID=America/Los_Angeles:20270607T090000
DTEND;TZID=America/Los_Angeles:20270607T110000
DTSTAMP:20260423T095107
CREATED:20250815T041718Z
LAST-MODIFIED:20250815T041718Z
UID:10004434-1812358800-1812366000@encinitaschurch.com
SUMMARY:Monday Review
DESCRIPTION:
URL:https://encinitaschurch.com/event/monday-review-103/
LOCATION:Conference Room
END:VEVENT
BEGIN:VEVENT
DTSTART;TZID=America/Los_Angeles:20270608T093000
DTEND;TZID=America/Los_Angeles:20270608T103000
DTSTAMP:20260423T095107
CREATED:20250815T041718Z
LAST-MODIFIED:20250815T041718Z
UID:10004437-1812447000-1812450600@encinitaschurch.com
SUMMARY:Staff Meeting
DESCRIPTION:San Dieguito UMC Staff meeting
URL:https://encinitaschurch.com/event/staff-meeting-103/
LOCATION:Conference Room
END:VEVENT
BEGIN:VEVENT
DTSTART;TZID=America/Los_Angeles:20270608T130000
DTEND;TZID=America/Los_Angeles:20270608T140000
DTSTAMP:20260423T095107
CREATED:20250815T041718Z
LAST-MODIFIED:20250815T041718Z
UID:10004438-1812459600-1812463200@encinitaschurch.com
SUMMARY:Small Group Committee
DESCRIPTION:
URL:https://encinitaschurch.com/event/small-group-committee-23/
LOCATION:Conference Room
END:VEVENT
BEGIN:VEVENT
DTSTART;TZID=America/Los_Angeles:20270608T190000
DTEND;TZID=America/Los_Angeles:20270608T210000
DTSTAMP:20260423T095107
CREATED:20250815T041718Z
LAST-MODIFIED:20250815T041718Z
UID:10004441-1812481200-1812488400@encinitaschurch.com
SUMMARY:Board of Trustees Meeting
DESCRIPTION:Bi-monthly Trustees Meeting
URL:https://encinitaschurch.com/event/board-of-trustees-meeting-24/
LOCATION:Conference Room
END:VEVENT
BEGIN:VEVENT
DTSTART;TZID=America/Los_Angeles:20270614T090000
DTEND;TZID=America/Los_Angeles:20270614T110000
DTSTAMP:20260423T095107
CREATED:20250815T041731Z
LAST-MODIFIED:20250815T041731Z
UID:10004451-1812963600-1812970800@encinitaschurch.com
SUMMARY:Monday Review
DESCRIPTION:
URL:https://encinitaschurch.com/event/monday-review-104/
LOCATION:Conference Room
END:VEVENT
BEGIN:VEVENT
DTSTART;TZID=America/Los_Angeles:20270615T093000
DTEND;TZID=America/Los_Angeles:20270615T103000
DTSTAMP:20260423T095107
CREATED:20250815T041743Z
LAST-MODIFIED:20250815T041743Z
UID:10004455-1813051800-1813055400@encinitaschurch.com
SUMMARY:Staff Meeting
DESCRIPTION:San Dieguito UMC Staff meeting
URL:https://encinitaschurch.com/event/staff-meeting-104/
LOCATION:Conference Room
END:VEVENT
BEGIN:VEVENT
DTSTART;TZID=America/Los_Angeles:20270621T090000
DTEND;TZID=America/Los_Angeles:20270621T110000
DTSTAMP:20260423T095107
CREATED:20250815T041757Z
LAST-MODIFIED:20250815T041757Z
UID:10004467-1813568400-1813575600@encinitaschurch.com
SUMMARY:Monday Review
DESCRIPTION:
URL:https://encinitaschurch.com/event/monday-review-105/
LOCATION:Conference Room
END:VEVENT
BEGIN:VEVENT
DTSTART;TZID=America/Los_Angeles:20270622T093000
DTEND;TZID=America/Los_Angeles:20270622T103000
DTSTAMP:20260423T095107
CREATED:20250815T041757Z
LAST-MODIFIED:20250815T041757Z
UID:10004470-1813656600-1813660200@encinitaschurch.com
SUMMARY:Staff Meeting
DESCRIPTION:San Dieguito UMC Staff meeting
URL:https://encinitaschurch.com/event/staff-meeting-105/
LOCATION:Conference Room
END:VEVENT
BEGIN:VEVENT
DTSTART;TZID=America/Los_Angeles:20270628T090000
DTEND;TZID=America/Los_Angeles:20270628T110000
DTSTAMP:20260423T095107
CREATED:20250815T041809Z
LAST-MODIFIED:20250815T041809Z
UID:10004480-1814173200-1814180400@encinitaschurch.com
SUMMARY:Monday Review
DESCRIPTION:
URL:https://encinitaschurch.com/event/monday-review-106/
LOCATION:Conference Room
END:VEVENT
BEGIN:VEVENT
DTSTART;TZID=America/Los_Angeles:20270629T093000
DTEND;TZID=America/Los_Angeles:20270629T103000
DTSTAMP:20260423T095107
CREATED:20250815T041810Z
LAST-MODIFIED:20250815T041810Z
UID:10004483-1814261400-1814265000@encinitaschurch.com
SUMMARY:Staff Meeting
DESCRIPTION:San Dieguito UMC Staff meeting
URL:https://encinitaschurch.com/event/staff-meeting-106/
LOCATION:Conference Room
END:VEVENT
BEGIN:VEVENT
DTSTART;TZID=America/Los_Angeles:20270705T090000
DTEND;TZID=America/Los_Angeles:20270705T110000
DTSTAMP:20260423T095107
CREATED:20250815T041834Z
LAST-MODIFIED:20250815T041834Z
UID:10004494-1814778000-1814785200@encinitaschurch.com
SUMMARY:Monday Review
DESCRIPTION:
URL:https://encinitaschurch.com/event/monday-review-107/
LOCATION:Conference Room
END:VEVENT
BEGIN:VEVENT
DTSTART;TZID=America/Los_Angeles:20270706T093000
DTEND;TZID=America/Los_Angeles:20270706T103000
DTSTAMP:20260423T095107
CREATED:20250815T041834Z
LAST-MODIFIED:20250815T041834Z
UID:10004497-1814866200-1814869800@encinitaschurch.com
SUMMARY:Staff Meeting
DESCRIPTION:San Dieguito UMC Staff meeting
URL:https://encinitaschurch.com/event/staff-meeting-107/
LOCATION:Conference Room
END:VEVENT
BEGIN:VEVENT
DTSTART;TZID=America/Los_Angeles:20270712T090000
DTEND;TZID=America/Los_Angeles:20270712T110000
DTSTAMP:20260423T095107
CREATED:20250815T041847Z
LAST-MODIFIED:20250815T041847Z
UID:10004507-1815382800-1815390000@encinitaschurch.com
SUMMARY:Monday Review
DESCRIPTION:
URL:https://encinitaschurch.com/event/monday-review-108/
LOCATION:Conference Room
END:VEVENT
BEGIN:VEVENT
DTSTART;TZID=America/Los_Angeles:20270713T093000
DTEND;TZID=America/Los_Angeles:20270713T103000
DTSTAMP:20260423T095107
CREATED:20250815T041847Z
LAST-MODIFIED:20250815T041847Z
UID:10004511-1815471000-1815474600@encinitaschurch.com
SUMMARY:Staff Meeting
DESCRIPTION:San Dieguito UMC Staff meeting
URL:https://encinitaschurch.com/event/staff-meeting-108/
LOCATION:Conference Room
END:VEVENT
BEGIN:VEVENT
DTSTART;TZID=America/Los_Angeles:20270713T130000
DTEND;TZID=America/Los_Angeles:20270713T140000
DTSTAMP:20260423T095107
CREATED:20250815T041847Z
LAST-MODIFIED:20250815T041847Z
UID:10004512-1815483600-1815487200@encinitaschurch.com
SUMMARY:Small Group Committee
DESCRIPTION:
URL:https://encinitaschurch.com/event/small-group-committee-24/
LOCATION:Conference Room
END:VEVENT
BEGIN:VEVENT
DTSTART;TZID=America/Los_Angeles:20270713T190000
DTEND;TZID=America/Los_Angeles:20270713T210000
DTSTAMP:20260423T095107
CREATED:20250815T041859Z
LAST-MODIFIED:20250815T041859Z
UID:10004514-1815505200-1815512400@encinitaschurch.com
SUMMARY:Board of Trustees Meeting
DESCRIPTION:Bi-monthly Trustees Meeting
URL:https://encinitaschurch.com/event/board-of-trustees-meeting-25/
LOCATION:Conference Room
END:VEVENT
BEGIN:VEVENT
DTSTART;TZID=America/Los_Angeles:20270719T090000
DTEND;TZID=America/Los_Angeles:20270719T110000
DTSTAMP:20260423T095107
CREATED:20250815T041911Z
LAST-MODIFIED:20250815T041911Z
UID:10004524-1815987600-1815994800@encinitaschurch.com
SUMMARY:Monday Review
DESCRIPTION:
URL:https://encinitaschurch.com/event/monday-review-109/
LOCATION:Conference Room
END:VEVENT
BEGIN:VEVENT
DTSTART;TZID=America/Los_Angeles:20270720T093000
DTEND;TZID=America/Los_Angeles:20270720T103000
DTSTAMP:20260423T095107
CREATED:20250815T041911Z
LAST-MODIFIED:20250815T041911Z
UID:10004527-1816075800-1816079400@encinitaschurch.com
SUMMARY:Staff Meeting
DESCRIPTION:San Dieguito UMC Staff meeting
URL:https://encinitaschurch.com/event/staff-meeting-109/
LOCATION:Conference Room
END:VEVENT
BEGIN:VEVENT
DTSTART;TZID=America/Los_Angeles:20270726T090000
DTEND;TZID=America/Los_Angeles:20270726T110000
DTSTAMP:20260423T095107
CREATED:20250815T041924Z
LAST-MODIFIED:20250815T041924Z
UID:10004538-1816592400-1816599600@encinitaschurch.com
SUMMARY:Monday Review
DESCRIPTION:
URL:https://encinitaschurch.com/event/monday-review-110/
LOCATION:Conference Room
END:VEVENT
BEGIN:VEVENT
DTSTART;TZID=America/Los_Angeles:20270727T093000
DTEND;TZID=America/Los_Angeles:20270727T103000
DTSTAMP:20260423T095107
CREATED:20250815T041924Z
LAST-MODIFIED:20250815T041924Z
UID:10004541-1816680600-1816684200@encinitaschurch.com
SUMMARY:Staff Meeting
DESCRIPTION:San Dieguito UMC Staff meeting
URL:https://encinitaschurch.com/event/staff-meeting-110/
LOCATION:Conference Room
END:VEVENT
BEGIN:VEVENT
DTSTART;TZID=America/Los_Angeles:20270802T090000
DTEND;TZID=America/Los_Angeles:20270802T110000
DTSTAMP:20260423T095107
CREATED:20250815T041937Z
LAST-MODIFIED:20250815T041937Z
UID:10004552-1817197200-1817204400@encinitaschurch.com
SUMMARY:Monday Review
DESCRIPTION:
URL:https://encinitaschurch.com/event/monday-review-111/
LOCATION:Conference Room
END:VEVENT
BEGIN:VEVENT
DTSTART;TZID=America/Los_Angeles:20270803T093000
DTEND;TZID=America/Los_Angeles:20270803T103000
DTSTAMP:20260423T095107
CREATED:20250815T041949Z
LAST-MODIFIED:20250815T041949Z
UID:10004555-1817285400-1817289000@encinitaschurch.com
SUMMARY:Staff Meeting
DESCRIPTION:San Dieguito UMC Staff meeting
URL:https://encinitaschurch.com/event/staff-meeting-111/
LOCATION:Conference Room
END:VEVENT
BEGIN:VEVENT
DTSTART;TZID=America/Los_Angeles:20270809T090000
DTEND;TZID=America/Los_Angeles:20270809T110000
DTSTAMP:20260423T095107
CREATED:20250815T042001Z
LAST-MODIFIED:20250815T042001Z
UID:10004565-1817802000-1817809200@encinitaschurch.com
SUMMARY:Monday Review
DESCRIPTION:
URL:https://encinitaschurch.com/event/monday-review-112/
LOCATION:Conference Room
END:VEVENT
BEGIN:VEVENT
DTSTART;TZID=America/Los_Angeles:20270810T093000
DTEND;TZID=America/Los_Angeles:20270810T103000
DTSTAMP:20260423T095107
CREATED:20250815T042002Z
LAST-MODIFIED:20250815T042002Z
UID:10004569-1817890200-1817893800@encinitaschurch.com
SUMMARY:Staff Meeting
DESCRIPTION:San Dieguito UMC Staff meeting
URL:https://encinitaschurch.com/event/staff-meeting-112/
LOCATION:Conference Room
END:VEVENT
END:VCALENDAR