BEGIN:VCALENDAR
VERSION:2.0
PRODID:-//San Dieguito United Methodist Church - ECPv6.15.15//NONSGML v1.0//EN
CALSCALE:GREGORIAN
METHOD:PUBLISH
X-ORIGINAL-URL:https://encinitaschurch.com
X-WR-CALDESC:Events for San Dieguito United Methodist Church
REFRESH-INTERVAL;VALUE=DURATION:PT1H
X-Robots-Tag:noindex
X-PUBLISHED-TTL:PT1H
BEGIN:VTIMEZONE
TZID:America/Los_Angeles
BEGIN:DAYLIGHT
TZOFFSETFROM:-0800
TZOFFSETTO:-0700
TZNAME:PDT
DTSTART:20240310T100000
END:DAYLIGHT
BEGIN:STANDARD
TZOFFSETFROM:-0700
TZOFFSETTO:-0800
TZNAME:PST
DTSTART:20241103T090000
END:STANDARD
BEGIN:DAYLIGHT
TZOFFSETFROM:-0800
TZOFFSETTO:-0700
TZNAME:PDT
DTSTART:20250309T100000
END:DAYLIGHT
BEGIN:STANDARD
TZOFFSETFROM:-0700
TZOFFSETTO:-0800
TZNAME:PST
DTSTART:20251102T090000
END:STANDARD
BEGIN:DAYLIGHT
TZOFFSETFROM:-0800
TZOFFSETTO:-0700
TZNAME:PDT
DTSTART:20260308T100000
END:DAYLIGHT
BEGIN:STANDARD
TZOFFSETFROM:-0700
TZOFFSETTO:-0800
TZNAME:PST
DTSTART:20261101T090000
END:STANDARD
END:VTIMEZONE
BEGIN:VEVENT
DTSTART;TZID=America/Los_Angeles:20251230T093000
DTEND;TZID=America/Los_Angeles:20251230T103000
DTSTAMP:20260421T053516
CREATED:20250711T142812Z
LAST-MODIFIED:20251229T233552Z
UID:10002978-1767087000-1767090600@encinitaschurch.com
SUMMARY:Staff Meeting
DESCRIPTION:San Dieguito UMC Staff meeting
URL:https://encinitaschurch.com/event/staff-meeting-28/
LOCATION:Conference Room
END:VEVENT
BEGIN:VEVENT
DTSTART;TZID=America/Los_Angeles:20251229T090000
DTEND;TZID=America/Los_Angeles:20251229T110000
DTSTAMP:20260421T053516
CREATED:20250711T142811Z
LAST-MODIFIED:20251227T234555Z
UID:10002973-1766998800-1767006000@encinitaschurch.com
SUMMARY:Monday Review
DESCRIPTION:
URL:https://encinitaschurch.com/event/monday-review-28/
LOCATION:Conference Room
END:VEVENT
BEGIN:VEVENT
DTSTART;TZID=America/Los_Angeles:20251223T093000
DTEND;TZID=America/Los_Angeles:20251223T103000
DTSTAMP:20260421T053516
CREATED:20250711T142748Z
LAST-MODIFIED:20251221T235058Z
UID:10002954-1766482200-1766485800@encinitaschurch.com
SUMMARY:Staff Meeting
DESCRIPTION:San Dieguito UMC Staff meeting
URL:https://encinitaschurch.com/event/staff-meeting-27/
LOCATION:Conference Room
END:VEVENT
BEGIN:VEVENT
DTSTART;TZID=America/Los_Angeles:20251222T090000
DTEND;TZID=America/Los_Angeles:20251222T110000
DTSTAMP:20260421T053516
CREATED:20250711T142736Z
LAST-MODIFIED:20251221T235058Z
UID:10002949-1766394000-1766401200@encinitaschurch.com
SUMMARY:Monday Review
DESCRIPTION:
URL:https://encinitaschurch.com/event/monday-review-27/
LOCATION:Conference Room
END:VEVENT
BEGIN:VEVENT
DTSTART;TZID=America/Los_Angeles:20251216T093000
DTEND;TZID=America/Los_Angeles:20251216T103000
DTSTAMP:20260421T053516
CREATED:20250711T142712Z
LAST-MODIFIED:20251215T235053Z
UID:10002929-1765877400-1765881000@encinitaschurch.com
SUMMARY:Staff Meeting
DESCRIPTION:San Dieguito UMC Staff meeting
URL:https://encinitaschurch.com/event/staff-meeting-26/
LOCATION:Conference Room
END:VEVENT
BEGIN:VEVENT
DTSTART;TZID=America/Los_Angeles:20251215T090000
DTEND;TZID=America/Los_Angeles:20251215T110000
DTSTAMP:20260421T053516
CREATED:20250711T142712Z
LAST-MODIFIED:20251214T233528Z
UID:10002924-1765789200-1765796400@encinitaschurch.com
SUMMARY:Monday Review
DESCRIPTION:
URL:https://encinitaschurch.com/event/monday-review-26/
LOCATION:Conference Room
END:VEVENT
BEGIN:VEVENT
DTSTART;TZID=America/Los_Angeles:20251210T100000
DTEND;TZID=America/Los_Angeles:20251210T113000
DTSTAMP:20260421T053516
CREATED:20251202T233145Z
LAST-MODIFIED:20251209T234551Z
UID:10005050-1765360800-1765366200@encinitaschurch.com
SUMMARY:Gifts & Endowments committee
DESCRIPTION:
URL:https://encinitaschurch.com/event/gifts-endowments-committee/
LOCATION:Conference Room
END:VEVENT
BEGIN:VEVENT
DTSTART;TZID=America/Los_Angeles:20251209T190000
DTEND;TZID=America/Los_Angeles:20251209T210000
DTSTAMP:20260421T053516
CREATED:20250711T142637Z
LAST-MODIFIED:20251209T234550Z
UID:10002901-1765306800-1765314000@encinitaschurch.com
SUMMARY:Board of Trustees Meeting
DESCRIPTION:Bi-monthly Trustees Meeting
URL:https://encinitaschurch.com/event/board-of-trustees-meeting-6/
LOCATION:Conference Room
END:VEVENT
BEGIN:VEVENT
DTSTART;TZID=America/Los_Angeles:20251209T130000
DTEND;TZID=America/Los_Angeles:20251209T140000
DTSTAMP:20260421T053516
CREATED:20250711T142637Z
LAST-MODIFIED:20251208T233054Z
UID:10002898-1765285200-1765288800@encinitaschurch.com
SUMMARY:Small Group Committee
DESCRIPTION:
URL:https://encinitaschurch.com/event/small-group-committee-5/
LOCATION:Conference Room
CATEGORIES:Highlight Events
END:VEVENT
BEGIN:VEVENT
DTSTART;TZID=America/Los_Angeles:20251209T093000
DTEND;TZID=America/Los_Angeles:20251209T103000
DTSTAMP:20260421T053516
CREATED:20250711T142637Z
LAST-MODIFIED:20251208T233054Z
UID:10002896-1765272600-1765276200@encinitaschurch.com
SUMMARY:Staff Meeting
DESCRIPTION:San Dieguito UMC Staff meeting
URL:https://encinitaschurch.com/event/staff-meeting-25/
LOCATION:Conference Room
END:VEVENT
BEGIN:VEVENT
DTSTART;TZID=America/Los_Angeles:20251208T090000
DTEND;TZID=America/Los_Angeles:20251208T110000
DTSTAMP:20260421T053516
CREATED:20250711T142624Z
LAST-MODIFIED:20251206T234601Z
UID:10002890-1765184400-1765191600@encinitaschurch.com
SUMMARY:Monday Review
DESCRIPTION:
URL:https://encinitaschurch.com/event/monday-review-25/
LOCATION:Conference Room
END:VEVENT
BEGIN:VEVENT
DTSTART;TZID=America/Los_Angeles:20251202T093000
DTEND;TZID=America/Los_Angeles:20251202T103000
DTSTAMP:20260421T053516
CREATED:20250711T142600Z
LAST-MODIFIED:20251130T234559Z
UID:10002866-1764667800-1764671400@encinitaschurch.com
SUMMARY:Staff Meeting
DESCRIPTION:San Dieguito UMC Staff meeting
URL:https://encinitaschurch.com/event/staff-meeting-24/
LOCATION:Conference Room
END:VEVENT
BEGIN:VEVENT
DTSTART;TZID=America/Los_Angeles:20251201T090000
DTEND;TZID=America/Los_Angeles:20251201T110000
DTSTAMP:20260421T053516
CREATED:20250711T142547Z
LAST-MODIFIED:20251130T234559Z
UID:10002861-1764579600-1764586800@encinitaschurch.com
SUMMARY:Monday Review
DESCRIPTION:
URL:https://encinitaschurch.com/event/monday-review-24/
LOCATION:Conference Room
END:VEVENT
BEGIN:VEVENT
DTSTART;TZID=America/Los_Angeles:20251125T093000
DTEND;TZID=America/Los_Angeles:20251125T103000
DTSTAMP:20260421T053516
CREATED:20250711T142522Z
LAST-MODIFIED:20251124T234549Z
UID:10002840-1764063000-1764066600@encinitaschurch.com
SUMMARY:Staff Meeting
DESCRIPTION:San Dieguito UMC Staff meeting
URL:https://encinitaschurch.com/event/staff-meeting-23/
LOCATION:Conference Room
END:VEVENT
BEGIN:VEVENT
DTSTART;TZID=America/Los_Angeles:20251124T090000
DTEND;TZID=America/Los_Angeles:20251124T110000
DTSTAMP:20260421T053516
CREATED:20250711T142522Z
LAST-MODIFIED:20251123T233046Z
UID:10002834-1763974800-1763982000@encinitaschurch.com
SUMMARY:Monday Review
DESCRIPTION:
URL:https://encinitaschurch.com/event/monday-review-23/
LOCATION:Conference Room
END:VEVENT
BEGIN:VEVENT
DTSTART;TZID=America/Los_Angeles:20251120T183000
DTEND;TZID=America/Los_Angeles:20251120T203000
DTSTAMP:20260421T053516
CREATED:20250904T233841Z
LAST-MODIFIED:20251120T233045Z
UID:10004773-1763663400-1763670600@encinitaschurch.com
SUMMARY:North Coast Singers Board Meeting
DESCRIPTION:
URL:https://encinitaschurch.com/event/north-coast-singers-board-meeting-4/
LOCATION:Conference Room
END:VEVENT
BEGIN:VEVENT
DTSTART;TZID=America/Los_Angeles:20251119T100000
DTEND;TZID=America/Los_Angeles:20251119T113000
DTSTAMP:20260421T053516
CREATED:20251111T233636Z
LAST-MODIFIED:20251118T234601Z
UID:10004997-1763546400-1763551800@encinitaschurch.com
SUMMARY:Gifts & Endowment Committee meeting
DESCRIPTION:Gifts & Endowment Committee meeting
URL:https://encinitaschurch.com/event/gifts-endowment-committee-meeting/
LOCATION:Conference Room
END:VEVENT
BEGIN:VEVENT
DTSTART;TZID=America/Los_Angeles:20251118T093000
DTEND;TZID=America/Los_Angeles:20251118T103000
DTSTAMP:20260421T053516
CREATED:20250711T142457Z
LAST-MODIFIED:20251117T233041Z
UID:10002814-1763458200-1763461800@encinitaschurch.com
SUMMARY:Staff Meeting
DESCRIPTION:San Dieguito UMC Staff meeting
URL:https://encinitaschurch.com/event/staff-meeting-22/
LOCATION:Conference Room
END:VEVENT
BEGIN:VEVENT
DTSTART;TZID=America/Los_Angeles:20251117T090000
DTEND;TZID=America/Los_Angeles:20251117T110000
DTSTAMP:20260421T053516
CREATED:20250711T142445Z
LAST-MODIFIED:20251115T235039Z
UID:10002809-1763370000-1763377200@encinitaschurch.com
SUMMARY:Monday Review
DESCRIPTION:
URL:https://encinitaschurch.com/event/monday-review-22/
LOCATION:Conference Room
END:VEVENT
BEGIN:VEVENT
DTSTART;TZID=America/Los_Angeles:20251114T093000
DTEND;TZID=America/Los_Angeles:20251114T113000
DTSTAMP:20260421T053516
CREATED:20251106T234645Z
LAST-MODIFIED:20251112T234550Z
UID:10004994-1763112600-1763119800@encinitaschurch.com
SUMMARY:UWF budget meeting
DESCRIPTION:United Women of Faith 2026 budget planning meeting
URL:https://encinitaschurch.com/event/uwf-budget-meeting-2/
LOCATION:Conference Room
END:VEVENT
BEGIN:VEVENT
DTSTART;TZID=America/Los_Angeles:20251112T190000
DTEND;TZID=America/Los_Angeles:20251112T200000
DTSTAMP:20260421T053516
CREATED:20251001T222206Z
LAST-MODIFIED:20251112T234538Z
UID:10004936-1762974000-1762977600@encinitaschurch.com
SUMMARY:Book Study
DESCRIPTION:Taking America Back for God by Andrew L. Whitehead and Samuel L. Perry explores how Christian nationalism— the belief that the U.S. should be an explicitly Christian nation—shapes politics\, culture\, and identity in America today. Drawing on surveys\, interviews\, and analysis\, the authors show how this ideology influences debates on immigration\, race\, gender\, and democracy itself. \nLed by Rev. Dr. Mark Maddix and Pastor Faith Daniel.
URL:https://encinitaschurch.com/event/book-study-7/
LOCATION:Conference Room
CATEGORIES:Highlight Events
END:VEVENT
BEGIN:VEVENT
DTSTART;TZID=America/Los_Angeles:20251111T190000
DTEND;TZID=America/Los_Angeles:20251111T210000
DTSTAMP:20260421T053516
CREATED:20250711T142419Z
LAST-MODIFIED:20251103T234652Z
UID:10002789-1762887600-1762894800@encinitaschurch.com
SUMMARY:Board of Trustees Meeting
DESCRIPTION:Bi-monthly Trustees Meeting
URL:https://encinitaschurch.com/event/board-of-trustees-meeting-5/
LOCATION:Conference Room
END:VEVENT
BEGIN:VEVENT
DTSTART;TZID=America/Los_Angeles:20251111T130000
DTEND;TZID=America/Los_Angeles:20251111T140000
DTSTAMP:20260421T053516
CREATED:20250711T142419Z
LAST-MODIFIED:20251111T002710Z
UID:10002786-1762866000-1762869600@encinitaschurch.com
SUMMARY:Small Group Committee
DESCRIPTION:
URL:https://encinitaschurch.com/event/small-group-committee-4/
LOCATION:Conference Room
CATEGORIES:Highlight Events
END:VEVENT
BEGIN:VEVENT
DTSTART;TZID=America/Los_Angeles:20251111T093000
DTEND;TZID=America/Los_Angeles:20251111T103000
DTSTAMP:20260421T053516
CREATED:20250711T142419Z
LAST-MODIFIED:20251109T234604Z
UID:10002784-1762853400-1762857000@encinitaschurch.com
SUMMARY:Staff Meeting
DESCRIPTION:San Dieguito UMC Staff meeting
URL:https://encinitaschurch.com/event/staff-meeting-21/
LOCATION:Conference Room
END:VEVENT
BEGIN:VEVENT
DTSTART;TZID=America/Los_Angeles:20251110T120000
DTEND;TZID=America/Los_Angeles:20251110T140000
DTSTAMP:20260421T053516
CREATED:20251030T233154Z
LAST-MODIFIED:20251109T234552Z
UID:10004971-1762776000-1762783200@encinitaschurch.com
SUMMARY:South District Meeting
DESCRIPTION:
URL:https://encinitaschurch.com/event/south-district-meeting/
LOCATION:Conference Room
END:VEVENT
BEGIN:VEVENT
DTSTART;TZID=America/Los_Angeles:20251110T090000
DTEND;TZID=America/Los_Angeles:20251110T110000
DTSTAMP:20260421T053516
CREATED:20250711T142408Z
LAST-MODIFIED:20251109T234552Z
UID:10002778-1762765200-1762772400@encinitaschurch.com
SUMMARY:Monday Review
DESCRIPTION:
URL:https://encinitaschurch.com/event/monday-review-21/
LOCATION:Conference Room
END:VEVENT
BEGIN:VEVENT
DTSTART;TZID=America/Los_Angeles:20251105T190000
DTEND;TZID=America/Los_Angeles:20251105T200000
DTSTAMP:20260421T053516
CREATED:20251001T222120Z
LAST-MODIFIED:20251105T233101Z
UID:10004932-1762369200-1762372800@encinitaschurch.com
SUMMARY:Book Study
DESCRIPTION:Taking America Back for God by Andrew L. Whitehead and Samuel L. Perry explores how Christian nationalism— the belief that the U.S. should be an explicitly Christian nation—shapes politics\, culture\, and identity in America today. Drawing on surveys\, interviews\, and analysis\, the authors show how this ideology influences debates on immigration\, race\, gender\, and democracy itself. \nLed by Rev. Dr. Mark Maddix and Pastor Faith Daniel.
URL:https://encinitaschurch.com/event/book-study-6/
LOCATION:Conference Room
END:VEVENT
BEGIN:VEVENT
DTSTART;TZID=America/Los_Angeles:20251104T093000
DTEND;TZID=America/Los_Angeles:20251104T103000
DTSTAMP:20260421T053516
CREATED:20250711T142343Z
LAST-MODIFIED:20251103T234601Z
UID:10002757-1762248600-1762252200@encinitaschurch.com
SUMMARY:Staff Meeting
DESCRIPTION:San Dieguito UMC Staff meeting
URL:https://encinitaschurch.com/event/staff-meeting-20/
LOCATION:Conference Room
END:VEVENT
BEGIN:VEVENT
DTSTART;TZID=America/Los_Angeles:20251103T090000
DTEND;TZID=America/Los_Angeles:20251103T110000
DTSTAMP:20260421T053516
CREATED:20250711T142332Z
LAST-MODIFIED:20251102T233605Z
UID:10002752-1762160400-1762167600@encinitaschurch.com
SUMMARY:Monday Review
DESCRIPTION:
URL:https://encinitaschurch.com/event/monday-review-20/
LOCATION:Conference Room
END:VEVENT
BEGIN:VEVENT
DTSTART;TZID=America/Los_Angeles:20251029T190000
DTEND;TZID=America/Los_Angeles:20251029T200000
DTSTAMP:20260421T053516
CREATED:20251001T222043Z
LAST-MODIFIED:20251028T235111Z
UID:10004930-1761764400-1761768000@encinitaschurch.com
SUMMARY:Book Study
DESCRIPTION:Taking America Back for God by Andrew L. Whitehead and Samuel L. Perry explores how Christian nationalism— the belief that the U.S. should be an explicitly Christian nation—shapes politics\, culture\, and identity in America today. Drawing on surveys\, interviews\, and analysis\, the authors show how this ideology influences debates on immigration\, race\, gender\, and democracy itself. \nLed by Rev. Dr. Mark Maddix and Pastor Faith Daniel.
URL:https://encinitaschurch.com/event/book-study-5/
LOCATION:Conference Room
END:VEVENT
END:VCALENDAR