BEGIN:VCALENDAR
VERSION:2.0
PRODID:-//San Dieguito United Methodist Church - ECPv6.15.15//NONSGML v1.0//EN
CALSCALE:GREGORIAN
METHOD:PUBLISH
X-WR-CALNAME:San Dieguito United Methodist Church
X-ORIGINAL-URL:https://encinitaschurch.com
X-WR-CALDESC:Events for San Dieguito United Methodist Church
REFRESH-INTERVAL;VALUE=DURATION:PT1H
X-Robots-Tag:noindex
X-PUBLISHED-TTL:PT1H
BEGIN:VTIMEZONE
TZID:America/Los_Angeles
BEGIN:DAYLIGHT
TZOFFSETFROM:-0800
TZOFFSETTO:-0700
TZNAME:PDT
DTSTART:20240310T100000
END:DAYLIGHT
BEGIN:STANDARD
TZOFFSETFROM:-0700
TZOFFSETTO:-0800
TZNAME:PST
DTSTART:20241103T090000
END:STANDARD
BEGIN:DAYLIGHT
TZOFFSETFROM:-0800
TZOFFSETTO:-0700
TZNAME:PDT
DTSTART:20250309T100000
END:DAYLIGHT
BEGIN:STANDARD
TZOFFSETFROM:-0700
TZOFFSETTO:-0800
TZNAME:PST
DTSTART:20251102T090000
END:STANDARD
BEGIN:DAYLIGHT
TZOFFSETFROM:-0800
TZOFFSETTO:-0700
TZNAME:PDT
DTSTART:20260308T100000
END:DAYLIGHT
BEGIN:STANDARD
TZOFFSETFROM:-0700
TZOFFSETTO:-0800
TZNAME:PST
DTSTART:20261101T090000
END:STANDARD
END:VTIMEZONE
BEGIN:VEVENT
DTSTART;TZID=America/Los_Angeles:20251119T100000
DTEND;TZID=America/Los_Angeles:20251119T113000
DTSTAMP:20260421T100521
CREATED:20251111T233636Z
LAST-MODIFIED:20251118T234601Z
UID:10004997-1763546400-1763551800@encinitaschurch.com
SUMMARY:Gifts & Endowment Committee meeting
DESCRIPTION:Gifts & Endowment Committee meeting
URL:https://encinitaschurch.com/event/gifts-endowment-committee-meeting/
LOCATION:Conference Room
END:VEVENT
BEGIN:VEVENT
DTSTART;TZID=America/Los_Angeles:20251118T093000
DTEND;TZID=America/Los_Angeles:20251118T103000
DTSTAMP:20260421T100521
CREATED:20250711T142457Z
LAST-MODIFIED:20251117T233041Z
UID:10002814-1763458200-1763461800@encinitaschurch.com
SUMMARY:Staff Meeting
DESCRIPTION:San Dieguito UMC Staff meeting
URL:https://encinitaschurch.com/event/staff-meeting-22/
LOCATION:Conference Room
END:VEVENT
BEGIN:VEVENT
DTSTART;TZID=America/Los_Angeles:20251117T090000
DTEND;TZID=America/Los_Angeles:20251117T110000
DTSTAMP:20260421T100521
CREATED:20250711T142445Z
LAST-MODIFIED:20251115T235039Z
UID:10002809-1763370000-1763377200@encinitaschurch.com
SUMMARY:Monday Review
DESCRIPTION:
URL:https://encinitaschurch.com/event/monday-review-22/
LOCATION:Conference Room
END:VEVENT
BEGIN:VEVENT
DTSTART;TZID=America/Los_Angeles:20251114T093000
DTEND;TZID=America/Los_Angeles:20251114T113000
DTSTAMP:20260421T100521
CREATED:20251106T234645Z
LAST-MODIFIED:20251112T234550Z
UID:10004994-1763112600-1763119800@encinitaschurch.com
SUMMARY:UWF budget meeting
DESCRIPTION:United Women of Faith 2026 budget planning meeting
URL:https://encinitaschurch.com/event/uwf-budget-meeting-2/
LOCATION:Conference Room
END:VEVENT
BEGIN:VEVENT
DTSTART;TZID=America/Los_Angeles:20251112T190000
DTEND;TZID=America/Los_Angeles:20251112T200000
DTSTAMP:20260421T100521
CREATED:20251001T222206Z
LAST-MODIFIED:20251112T234538Z
UID:10004936-1762974000-1762977600@encinitaschurch.com
SUMMARY:Book Study
DESCRIPTION:Taking America Back for God by Andrew L. Whitehead and Samuel L. Perry explores how Christian nationalism— the belief that the U.S. should be an explicitly Christian nation—shapes politics\, culture\, and identity in America today. Drawing on surveys\, interviews\, and analysis\, the authors show how this ideology influences debates on immigration\, race\, gender\, and democracy itself. \nLed by Rev. Dr. Mark Maddix and Pastor Faith Daniel.
URL:https://encinitaschurch.com/event/book-study-7/
LOCATION:Conference Room
CATEGORIES:Highlight Events
END:VEVENT
BEGIN:VEVENT
DTSTART;TZID=America/Los_Angeles:20251111T190000
DTEND;TZID=America/Los_Angeles:20251111T210000
DTSTAMP:20260421T100521
CREATED:20250711T142419Z
LAST-MODIFIED:20251103T234652Z
UID:10002789-1762887600-1762894800@encinitaschurch.com
SUMMARY:Board of Trustees Meeting
DESCRIPTION:Bi-monthly Trustees Meeting
URL:https://encinitaschurch.com/event/board-of-trustees-meeting-5/
LOCATION:Conference Room
END:VEVENT
BEGIN:VEVENT
DTSTART;TZID=America/Los_Angeles:20251111T130000
DTEND;TZID=America/Los_Angeles:20251111T140000
DTSTAMP:20260421T100521
CREATED:20250711T142419Z
LAST-MODIFIED:20251111T002710Z
UID:10002786-1762866000-1762869600@encinitaschurch.com
SUMMARY:Small Group Committee
DESCRIPTION:
URL:https://encinitaschurch.com/event/small-group-committee-4/
LOCATION:Conference Room
CATEGORIES:Highlight Events
END:VEVENT
BEGIN:VEVENT
DTSTART;TZID=America/Los_Angeles:20251111T093000
DTEND;TZID=America/Los_Angeles:20251111T103000
DTSTAMP:20260421T100521
CREATED:20250711T142419Z
LAST-MODIFIED:20251109T234604Z
UID:10002784-1762853400-1762857000@encinitaschurch.com
SUMMARY:Staff Meeting
DESCRIPTION:San Dieguito UMC Staff meeting
URL:https://encinitaschurch.com/event/staff-meeting-21/
LOCATION:Conference Room
END:VEVENT
BEGIN:VEVENT
DTSTART;TZID=America/Los_Angeles:20251110T120000
DTEND;TZID=America/Los_Angeles:20251110T140000
DTSTAMP:20260421T100521
CREATED:20251030T233154Z
LAST-MODIFIED:20251109T234552Z
UID:10004971-1762776000-1762783200@encinitaschurch.com
SUMMARY:South District Meeting
DESCRIPTION:
URL:https://encinitaschurch.com/event/south-district-meeting/
LOCATION:Conference Room
END:VEVENT
BEGIN:VEVENT
DTSTART;TZID=America/Los_Angeles:20251110T090000
DTEND;TZID=America/Los_Angeles:20251110T110000
DTSTAMP:20260421T100521
CREATED:20250711T142408Z
LAST-MODIFIED:20251109T234552Z
UID:10002778-1762765200-1762772400@encinitaschurch.com
SUMMARY:Monday Review
DESCRIPTION:
URL:https://encinitaschurch.com/event/monday-review-21/
LOCATION:Conference Room
END:VEVENT
BEGIN:VEVENT
DTSTART;TZID=America/Los_Angeles:20251105T190000
DTEND;TZID=America/Los_Angeles:20251105T200000
DTSTAMP:20260421T100521
CREATED:20251001T222120Z
LAST-MODIFIED:20251105T233101Z
UID:10004932-1762369200-1762372800@encinitaschurch.com
SUMMARY:Book Study
DESCRIPTION:Taking America Back for God by Andrew L. Whitehead and Samuel L. Perry explores how Christian nationalism— the belief that the U.S. should be an explicitly Christian nation—shapes politics\, culture\, and identity in America today. Drawing on surveys\, interviews\, and analysis\, the authors show how this ideology influences debates on immigration\, race\, gender\, and democracy itself. \nLed by Rev. Dr. Mark Maddix and Pastor Faith Daniel.
URL:https://encinitaschurch.com/event/book-study-6/
LOCATION:Conference Room
END:VEVENT
BEGIN:VEVENT
DTSTART;TZID=America/Los_Angeles:20251104T093000
DTEND;TZID=America/Los_Angeles:20251104T103000
DTSTAMP:20260421T100521
CREATED:20250711T142343Z
LAST-MODIFIED:20251103T234601Z
UID:10002757-1762248600-1762252200@encinitaschurch.com
SUMMARY:Staff Meeting
DESCRIPTION:San Dieguito UMC Staff meeting
URL:https://encinitaschurch.com/event/staff-meeting-20/
LOCATION:Conference Room
END:VEVENT
BEGIN:VEVENT
DTSTART;TZID=America/Los_Angeles:20251103T090000
DTEND;TZID=America/Los_Angeles:20251103T110000
DTSTAMP:20260421T100521
CREATED:20250711T142332Z
LAST-MODIFIED:20251102T233605Z
UID:10002752-1762160400-1762167600@encinitaschurch.com
SUMMARY:Monday Review
DESCRIPTION:
URL:https://encinitaschurch.com/event/monday-review-20/
LOCATION:Conference Room
END:VEVENT
BEGIN:VEVENT
DTSTART;TZID=America/Los_Angeles:20251029T190000
DTEND;TZID=America/Los_Angeles:20251029T200000
DTSTAMP:20260421T100521
CREATED:20251001T222043Z
LAST-MODIFIED:20251028T235111Z
UID:10004930-1761764400-1761768000@encinitaschurch.com
SUMMARY:Book Study
DESCRIPTION:Taking America Back for God by Andrew L. Whitehead and Samuel L. Perry explores how Christian nationalism— the belief that the U.S. should be an explicitly Christian nation—shapes politics\, culture\, and identity in America today. Drawing on surveys\, interviews\, and analysis\, the authors show how this ideology influences debates on immigration\, race\, gender\, and democracy itself. \nLed by Rev. Dr. Mark Maddix and Pastor Faith Daniel.
URL:https://encinitaschurch.com/event/book-study-5/
LOCATION:Conference Room
END:VEVENT
BEGIN:VEVENT
DTSTART;TZID=America/Los_Angeles:20251029T093000
DTEND;TZID=America/Los_Angeles:20251029T113000
DTSTAMP:20260421T100521
CREATED:20251007T234802Z
LAST-MODIFIED:20251028T235058Z
UID:10004948-1761730200-1761737400@encinitaschurch.com
SUMMARY:Mission Giving Panel
DESCRIPTION:United Women in Faith 2025 Mission Giving Panel Meeting
URL:https://encinitaschurch.com/event/mission-giving-panel/
LOCATION:Conference Room
END:VEVENT
BEGIN:VEVENT
DTSTART;TZID=America/Los_Angeles:20251028T120000
DTEND;TZID=America/Los_Angeles:20251028T130000
DTSTAMP:20260421T100522
CREATED:20251027T233051Z
LAST-MODIFIED:20251027T233051Z
UID:10004967-1761652800-1761656400@encinitaschurch.com
SUMMARY:Small Groups Meeting
DESCRIPTION:
URL:https://encinitaschurch.com/event/small-groups-meeting/
LOCATION:Conference Room
END:VEVENT
BEGIN:VEVENT
DTSTART;TZID=America/Los_Angeles:20251028T093000
DTEND;TZID=America/Los_Angeles:20251028T103000
DTSTAMP:20260421T100522
CREATED:20250711T142308Z
LAST-MODIFIED:20251027T233051Z
UID:10002731-1761643800-1761647400@encinitaschurch.com
SUMMARY:Staff Meeting
DESCRIPTION:San Dieguito UMC Staff meeting
URL:https://encinitaschurch.com/event/staff-meeting-19/
LOCATION:Conference Room
END:VEVENT
BEGIN:VEVENT
DTSTART;TZID=America/Los_Angeles:20251027T090000
DTEND;TZID=America/Los_Angeles:20251027T110000
DTSTAMP:20260421T100522
CREATED:20250711T142308Z
LAST-MODIFIED:20251025T235035Z
UID:10002725-1761555600-1761562800@encinitaschurch.com
SUMMARY:Monday Review
DESCRIPTION:
URL:https://encinitaschurch.com/event/monday-review-19/
LOCATION:Conference Room
END:VEVENT
BEGIN:VEVENT
DTSTART;TZID=America/Los_Angeles:20251022T190000
DTEND;TZID=America/Los_Angeles:20251022T200000
DTSTAMP:20260421T100522
CREATED:20251001T222007Z
LAST-MODIFIED:20251022T235029Z
UID:10004926-1761159600-1761163200@encinitaschurch.com
SUMMARY:Book Study
DESCRIPTION:Taking America Back for God by Andrew L. Whitehead and Samuel L. Perry explores how Christian nationalism— the belief that the U.S. should be an explicitly Christian nation—shapes politics\, culture\, and identity in America today. Drawing on surveys\, interviews\, and analysis\, the authors show how this ideology influences debates on immigration\, race\, gender\, and democracy itself. \nLed by Rev. Dr. Mark Maddix and Pastor Faith Daniel.
URL:https://encinitaschurch.com/event/book-study-4/
LOCATION:Conference Room
END:VEVENT
BEGIN:VEVENT
DTSTART;TZID=America/Los_Angeles:20251022T183000
DTEND;TZID=America/Los_Angeles:20251022T193000
DTSTAMP:20260421T100522
CREATED:20251015T233640Z
LAST-MODIFIED:20251022T235029Z
UID:10004957-1761157800-1761161400@encinitaschurch.com
SUMMARY:Mission Commission Meeting
DESCRIPTION:Get to Know Joy Prim: Missionary to Filipino workers in Hong Kong\nJoin us on Zoom or in the office conference room at 6:30 PM for an interactive\nsession with  missionary Joy Prim. This is a great opportunity to ask questions\, learn\nmore about her work\, and hear about any prayer needs she may have.\nSan Dieguito entered into a covenant relationship with Joy at the beginning of 2025. We are contributing to her financial support for 3 years\, supporting her through prayer\, and sending encouraging emails to her. She in return communicates with us through her newsletters which are posted with her picture on the e-news.
URL:https://encinitaschurch.com/event/mission-commission-meeting/
LOCATION:Conference Room
END:VEVENT
BEGIN:VEVENT
DTSTART;TZID=America/Los_Angeles:20251021T093000
DTEND;TZID=America/Los_Angeles:20251021T103000
DTSTAMP:20260421T100522
CREATED:20250711T142242Z
LAST-MODIFIED:20251019T235103Z
UID:10002704-1761039000-1761042600@encinitaschurch.com
SUMMARY:Staff Meeting
DESCRIPTION:San Dieguito UMC Staff meeting
URL:https://encinitaschurch.com/event/staff-meeting-18/
LOCATION:Conference Room
END:VEVENT
BEGIN:VEVENT
DTSTART;TZID=America/Los_Angeles:20251020T090000
DTEND;TZID=America/Los_Angeles:20251020T110000
DTSTAMP:20260421T100522
CREATED:20250711T142229Z
LAST-MODIFIED:20251019T235103Z
UID:10002699-1760950800-1760958000@encinitaschurch.com
SUMMARY:Monday Review
DESCRIPTION:
URL:https://encinitaschurch.com/event/monday-review-18/
LOCATION:Conference Room
END:VEVENT
BEGIN:VEVENT
DTSTART;TZID=America/Los_Angeles:20251015T190000
DTEND;TZID=America/Los_Angeles:20251015T200000
DTSTAMP:20260421T100522
CREATED:20251001T221921Z
LAST-MODIFIED:20251015T233555Z
UID:10004923-1760554800-1760558400@encinitaschurch.com
SUMMARY:Book Study
DESCRIPTION:Taking America Back for God by Andrew L. Whitehead and Samuel L. Perry explores how Christian nationalism— the belief that the U.S. should be an explicitly Christian nation—shapes politics\, culture\, and identity in America today. Drawing on surveys\, interviews\, and analysis\, the authors show how this ideology influences debates on immigration\, race\, gender\, and democracy itself. \nLed by Rev. Dr. Mark Maddix and Pastor Faith Daniel.
URL:https://encinitaschurch.com/event/book-study-3/
LOCATION:Conference Room
END:VEVENT
BEGIN:VEVENT
DTSTART;TZID=America/Los_Angeles:20251014T190000
DTEND;TZID=America/Los_Angeles:20251014T210000
DTSTAMP:20260421T100522
CREATED:20250711T142204Z
LAST-MODIFIED:20251013T235046Z
UID:10002679-1760468400-1760475600@encinitaschurch.com
SUMMARY:Board of Trustees Meeting
DESCRIPTION:Bi-monthly Trustees Meeting
URL:https://encinitaschurch.com/event/board-of-trustees-meeting-4/
LOCATION:Conference Room
CATEGORIES:Highlight Events
END:VEVENT
BEGIN:VEVENT
DTSTART;TZID=America/Los_Angeles:20251014T130000
DTEND;TZID=America/Los_Angeles:20251014T140000
DTSTAMP:20260421T100522
CREATED:20250711T142204Z
LAST-MODIFIED:20251013T235035Z
UID:10002675-1760446800-1760450400@encinitaschurch.com
SUMMARY:Small Group Committee
DESCRIPTION:
URL:https://encinitaschurch.com/event/small-group-committee-3/
LOCATION:Conference Room
CATEGORIES:Highlight Events
END:VEVENT
BEGIN:VEVENT
DTSTART;TZID=America/Los_Angeles:20251014T093000
DTEND;TZID=America/Los_Angeles:20251014T103000
DTSTAMP:20260421T100522
CREATED:20250711T142204Z
LAST-MODIFIED:20251013T235035Z
UID:10002674-1760434200-1760437800@encinitaschurch.com
SUMMARY:Staff Meeting
DESCRIPTION:San Dieguito UMC Staff meeting
URL:https://encinitaschurch.com/event/staff-meeting-17/
LOCATION:Conference Room
END:VEVENT
BEGIN:VEVENT
DTSTART;TZID=America/Los_Angeles:20251013T090000
DTEND;TZID=America/Los_Angeles:20251013T110000
DTSTAMP:20260421T100522
CREATED:20250711T142152Z
LAST-MODIFIED:20251012T233053Z
UID:10002668-1760346000-1760353200@encinitaschurch.com
SUMMARY:Monday Review
DESCRIPTION:
URL:https://encinitaschurch.com/event/monday-review-17/
LOCATION:Conference Room
END:VEVENT
BEGIN:VEVENT
DTSTART;TZID=America/Los_Angeles:20251008T190000
DTEND;TZID=America/Los_Angeles:20251008T200000
DTSTAMP:20260421T100522
CREATED:20251001T221834Z
LAST-MODIFIED:20251008T192228Z
UID:10004919-1759950000-1759953600@encinitaschurch.com
SUMMARY:Book Study
DESCRIPTION:Taking America Back for God by Andrew L. Whitehead and Samuel L. Perry explores how Christian nationalism— the belief that the U.S. should be an explicitly Christian nation—shapes politics\, culture\, and identity in America today. Drawing on surveys\, interviews\, and analysis\, the authors show how this ideology influences debates on immigration\, race\, gender\, and democracy itself. \nLed by Rev. Dr. Mark Maddix and Pastor Faith Daniel.
URL:https://encinitaschurch.com/event/book-study-2/
LOCATION:Conference Room
CATEGORIES:Highlight Events
END:VEVENT
BEGIN:VEVENT
DTSTART;TZID=America/Los_Angeles:20251007T093000
DTEND;TZID=America/Los_Angeles:20251007T103000
DTSTAMP:20260421T100522
CREATED:20250711T142128Z
LAST-MODIFIED:20251006T233555Z
UID:10002649-1759829400-1759833000@encinitaschurch.com
SUMMARY:Staff Meeting
DESCRIPTION:San Dieguito UMC Staff meeting
URL:https://encinitaschurch.com/event/staff-meeting-16/
LOCATION:Conference Room
END:VEVENT
BEGIN:VEVENT
DTSTART;TZID=America/Los_Angeles:20251006T090000
DTEND;TZID=America/Los_Angeles:20251006T110000
DTSTAMP:20260421T100522
CREATED:20250711T142128Z
LAST-MODIFIED:20251004T235055Z
UID:10002644-1759741200-1759748400@encinitaschurch.com
SUMMARY:Monday Review
DESCRIPTION:
URL:https://encinitaschurch.com/event/monday-review-16/
LOCATION:Conference Room
END:VEVENT
END:VCALENDAR