BEGIN:VCALENDAR
VERSION:2.0
PRODID:-//San Dieguito United Methodist Church - ECPv6.15.15//NONSGML v1.0//EN
CALSCALE:GREGORIAN
METHOD:PUBLISH
X-WR-CALNAME:San Dieguito United Methodist Church
X-ORIGINAL-URL:https://encinitaschurch.com
X-WR-CALDESC:Events for San Dieguito United Methodist Church
REFRESH-INTERVAL;VALUE=DURATION:PT1H
X-Robots-Tag:noindex
X-PUBLISHED-TTL:PT1H
BEGIN:VTIMEZONE
TZID:America/Los_Angeles
BEGIN:DAYLIGHT
TZOFFSETFROM:-0800
TZOFFSETTO:-0700
TZNAME:PDT
DTSTART:20250309T100000
END:DAYLIGHT
BEGIN:STANDARD
TZOFFSETFROM:-0700
TZOFFSETTO:-0800
TZNAME:PST
DTSTART:20251102T090000
END:STANDARD
BEGIN:DAYLIGHT
TZOFFSETFROM:-0800
TZOFFSETTO:-0700
TZNAME:PDT
DTSTART:20260308T100000
END:DAYLIGHT
BEGIN:STANDARD
TZOFFSETFROM:-0700
TZOFFSETTO:-0800
TZNAME:PST
DTSTART:20261101T090000
END:STANDARD
BEGIN:DAYLIGHT
TZOFFSETFROM:-0800
TZOFFSETTO:-0700
TZNAME:PDT
DTSTART:20270314T100000
END:DAYLIGHT
BEGIN:STANDARD
TZOFFSETFROM:-0700
TZOFFSETTO:-0800
TZNAME:PST
DTSTART:20271107T090000
END:STANDARD
BEGIN:DAYLIGHT
TZOFFSETFROM:-0800
TZOFFSETTO:-0700
TZNAME:PDT
DTSTART:20280312T100000
END:DAYLIGHT
BEGIN:STANDARD
TZOFFSETFROM:-0700
TZOFFSETTO:-0800
TZNAME:PST
DTSTART:20281105T090000
END:STANDARD
END:VTIMEZONE
BEGIN:VEVENT
DTSTART;TZID=America/Los_Angeles:20261019T090000
DTEND;TZID=America/Los_Angeles:20261019T110000
DTSTAMP:20260421T053045
CREATED:20250730T000248Z
LAST-MODIFIED:20260223T220656Z
UID:10003839-1792400400-1792407600@encinitaschurch.com
SUMMARY:Monday Review
DESCRIPTION:
URL:https://encinitaschurch.com/event/monday-review-70/
LOCATION:Conference Room
END:VEVENT
BEGIN:VEVENT
DTSTART;TZID=America/Los_Angeles:20261020T093000
DTEND;TZID=America/Los_Angeles:20261020T103000
DTSTAMP:20260421T053045
CREATED:20250730T000248Z
LAST-MODIFIED:20260223T220709Z
UID:10003842-1792488600-1792492200@encinitaschurch.com
SUMMARY:Staff Meeting
DESCRIPTION:San Dieguito UMC Staff meeting
URL:https://encinitaschurch.com/event/staff-meeting-70/
LOCATION:Conference Room
END:VEVENT
BEGIN:VEVENT
DTSTART;TZID=America/Los_Angeles:20261026T090000
DTEND;TZID=America/Los_Angeles:20261026T110000
DTSTAMP:20260421T053045
CREATED:20250730T000312Z
LAST-MODIFIED:20250730T000803Z
UID:10003857-1793005200-1793012400@encinitaschurch.com
SUMMARY:Monday Review
DESCRIPTION:
URL:https://encinitaschurch.com/event/monday-review-71/
LOCATION:Conference Room
END:VEVENT
BEGIN:VEVENT
DTSTART;TZID=America/Los_Angeles:20261027T093000
DTEND;TZID=America/Los_Angeles:20261027T103000
DTSTAMP:20260421T053045
CREATED:20250730T000312Z
LAST-MODIFIED:20250730T000803Z
UID:10003860-1793093400-1793097000@encinitaschurch.com
SUMMARY:Staff Meeting
DESCRIPTION:San Dieguito UMC Staff meeting
URL:https://encinitaschurch.com/event/staff-meeting-71/
LOCATION:Conference Room
END:VEVENT
BEGIN:VEVENT
DTSTART;TZID=America/Los_Angeles:20261102T090000
DTEND;TZID=America/Los_Angeles:20261102T110000
DTSTAMP:20260421T053045
CREATED:20250730T000817Z
LAST-MODIFIED:20250730T000817Z
UID:10003875-1793610000-1793617200@encinitaschurch.com
SUMMARY:Monday Review
DESCRIPTION:
URL:https://encinitaschurch.com/event/monday-review-72/
LOCATION:Conference Room
END:VEVENT
BEGIN:VEVENT
DTSTART;TZID=America/Los_Angeles:20261103T093000
DTEND;TZID=America/Los_Angeles:20261103T103000
DTSTAMP:20260421T053045
CREATED:20250730T000829Z
LAST-MODIFIED:20250730T000829Z
UID:10003878-1793698200-1793701800@encinitaschurch.com
SUMMARY:Staff Meeting
DESCRIPTION:San Dieguito UMC Staff meeting
URL:https://encinitaschurch.com/event/staff-meeting-72/
LOCATION:Conference Room
END:VEVENT
BEGIN:VEVENT
DTSTART;TZID=America/Los_Angeles:20261109T090000
DTEND;TZID=America/Los_Angeles:20261109T110000
DTSTAMP:20260421T053045
CREATED:20250730T000844Z
LAST-MODIFIED:20250730T000844Z
UID:10003892-1794214800-1794222000@encinitaschurch.com
SUMMARY:Monday Review
DESCRIPTION:
URL:https://encinitaschurch.com/event/monday-review-73/
LOCATION:Conference Room
END:VEVENT
BEGIN:VEVENT
DTSTART;TZID=America/Los_Angeles:20261110T093000
DTEND;TZID=America/Los_Angeles:20261110T103000
DTSTAMP:20260421T053045
CREATED:20250730T000857Z
LAST-MODIFIED:20250730T000857Z
UID:10003896-1794303000-1794306600@encinitaschurch.com
SUMMARY:Staff Meeting
DESCRIPTION:San Dieguito UMC Staff meeting
URL:https://encinitaschurch.com/event/staff-meeting-73/
LOCATION:Conference Room
END:VEVENT
BEGIN:VEVENT
DTSTART;TZID=America/Los_Angeles:20261110T130000
DTEND;TZID=America/Los_Angeles:20261110T140000
DTSTAMP:20260421T053045
CREATED:20250730T000857Z
LAST-MODIFIED:20250730T000857Z
UID:10003897-1794315600-1794319200@encinitaschurch.com
SUMMARY:Small Group Committee
DESCRIPTION:
URL:https://encinitaschurch.com/event/small-group-committee-16/
LOCATION:Conference Room
END:VEVENT
BEGIN:VEVENT
DTSTART;TZID=America/Los_Angeles:20261110T190000
DTEND;TZID=America/Los_Angeles:20261110T210000
DTSTAMP:20260421T053045
CREATED:20250730T000857Z
LAST-MODIFIED:20250730T000857Z
UID:10003900-1794337200-1794344400@encinitaschurch.com
SUMMARY:Board of Trustees Meeting
DESCRIPTION:Bi-monthly Trustees Meeting
URL:https://encinitaschurch.com/event/board-of-trustees-meeting-17/
LOCATION:Conference Room
END:VEVENT
BEGIN:VEVENT
DTSTART;TZID=America/Los_Angeles:20261116T090000
DTEND;TZID=America/Los_Angeles:20261116T110000
DTSTAMP:20260421T053045
CREATED:20250730T000910Z
LAST-MODIFIED:20250730T000910Z
UID:10003913-1794819600-1794826800@encinitaschurch.com
SUMMARY:Monday Review
DESCRIPTION:
URL:https://encinitaschurch.com/event/monday-review-74/
LOCATION:Conference Room
END:VEVENT
BEGIN:VEVENT
DTSTART;TZID=America/Los_Angeles:20261117T093000
DTEND;TZID=America/Los_Angeles:20261117T103000
DTSTAMP:20260421T053045
CREATED:20250730T000923Z
LAST-MODIFIED:20250730T000923Z
UID:10003916-1794907800-1794911400@encinitaschurch.com
SUMMARY:Staff Meeting
DESCRIPTION:San Dieguito UMC Staff meeting
URL:https://encinitaschurch.com/event/staff-meeting-74/
LOCATION:Conference Room
END:VEVENT
BEGIN:VEVENT
DTSTART;TZID=America/Los_Angeles:20261123T090000
DTEND;TZID=America/Los_Angeles:20261123T110000
DTSTAMP:20260421T053045
CREATED:20250730T000937Z
LAST-MODIFIED:20250730T000937Z
UID:10003931-1795424400-1795431600@encinitaschurch.com
SUMMARY:Monday Review
DESCRIPTION:
URL:https://encinitaschurch.com/event/monday-review-75/
LOCATION:Conference Room
END:VEVENT
BEGIN:VEVENT
DTSTART;TZID=America/Los_Angeles:20261124T093000
DTEND;TZID=America/Los_Angeles:20261124T103000
DTSTAMP:20260421T053045
CREATED:20250730T000938Z
LAST-MODIFIED:20250730T000938Z
UID:10003934-1795512600-1795516200@encinitaschurch.com
SUMMARY:Staff Meeting
DESCRIPTION:San Dieguito UMC Staff meeting
URL:https://encinitaschurch.com/event/staff-meeting-75/
LOCATION:Conference Room
END:VEVENT
BEGIN:VEVENT
DTSTART;TZID=America/Los_Angeles:20261130T090000
DTEND;TZID=America/Los_Angeles:20261130T110000
DTSTAMP:20260421T053045
CREATED:20250730T001002Z
LAST-MODIFIED:20250730T001002Z
UID:10003948-1796029200-1796036400@encinitaschurch.com
SUMMARY:Monday Review
DESCRIPTION:
URL:https://encinitaschurch.com/event/monday-review-76/
LOCATION:Conference Room
END:VEVENT
BEGIN:VEVENT
DTSTART;TZID=America/Los_Angeles:20261201T093000
DTEND;TZID=America/Los_Angeles:20261201T103000
DTSTAMP:20260421T053045
CREATED:20250730T001002Z
LAST-MODIFIED:20250730T001002Z
UID:10003951-1796117400-1796121000@encinitaschurch.com
SUMMARY:Staff Meeting
DESCRIPTION:San Dieguito UMC Staff meeting
URL:https://encinitaschurch.com/event/staff-meeting-76/
LOCATION:Conference Room
END:VEVENT
BEGIN:VEVENT
DTSTART;TZID=America/Los_Angeles:20261207T090000
DTEND;TZID=America/Los_Angeles:20261207T110000
DTSTAMP:20260421T053045
CREATED:20250730T001032Z
LAST-MODIFIED:20250730T001032Z
UID:10003967-1796634000-1796641200@encinitaschurch.com
SUMMARY:Monday Review
DESCRIPTION:
URL:https://encinitaschurch.com/event/monday-review-77/
LOCATION:Conference Room
END:VEVENT
BEGIN:VEVENT
DTSTART;TZID=America/Los_Angeles:20261208T093000
DTEND;TZID=America/Los_Angeles:20261208T103000
DTSTAMP:20260421T053045
CREATED:20250730T001032Z
LAST-MODIFIED:20250730T001032Z
UID:10003970-1796722200-1796725800@encinitaschurch.com
SUMMARY:Staff Meeting
DESCRIPTION:San Dieguito UMC Staff meeting
URL:https://encinitaschurch.com/event/staff-meeting-77/
LOCATION:Conference Room
END:VEVENT
BEGIN:VEVENT
DTSTART;TZID=America/Los_Angeles:20261208T130000
DTEND;TZID=America/Los_Angeles:20261208T140000
DTSTAMP:20260421T053045
CREATED:20250730T001032Z
LAST-MODIFIED:20250730T001032Z
UID:10003972-1796734800-1796738400@encinitaschurch.com
SUMMARY:Small Group Committee
DESCRIPTION:
URL:https://encinitaschurch.com/event/small-group-committee-17/
LOCATION:Conference Room
END:VEVENT
BEGIN:VEVENT
DTSTART;TZID=America/Los_Angeles:20261208T190000
DTEND;TZID=America/Los_Angeles:20261208T210000
DTSTAMP:20260421T053045
CREATED:20250730T001032Z
LAST-MODIFIED:20250730T001032Z
UID:10003974-1796756400-1796763600@encinitaschurch.com
SUMMARY:Board of Trustees Meeting
DESCRIPTION:Bi-monthly Trustees Meeting
URL:https://encinitaschurch.com/event/board-of-trustees-meeting-18/
LOCATION:Conference Room
END:VEVENT
BEGIN:VEVENT
DTSTART;TZID=America/Los_Angeles:20261214T090000
DTEND;TZID=America/Los_Angeles:20261214T110000
DTSTAMP:20260421T053045
CREATED:20250730T001057Z
LAST-MODIFIED:20250730T001057Z
UID:10003990-1797238800-1797246000@encinitaschurch.com
SUMMARY:Monday Review
DESCRIPTION:
URL:https://encinitaschurch.com/event/monday-review-78/
LOCATION:Conference Room
END:VEVENT
BEGIN:VEVENT
DTSTART;TZID=America/Los_Angeles:20261215T093000
DTEND;TZID=America/Los_Angeles:20261215T103000
DTSTAMP:20260421T053045
CREATED:20250730T001057Z
LAST-MODIFIED:20250730T001057Z
UID:10003994-1797327000-1797330600@encinitaschurch.com
SUMMARY:Staff Meeting
DESCRIPTION:San Dieguito UMC Staff meeting
URL:https://encinitaschurch.com/event/staff-meeting-78/
LOCATION:Conference Room
END:VEVENT
BEGIN:VEVENT
DTSTART;TZID=America/Los_Angeles:20261221T090000
DTEND;TZID=America/Los_Angeles:20261221T110000
DTSTAMP:20260421T053045
CREATED:20250730T001122Z
LAST-MODIFIED:20250730T001122Z
UID:10004009-1797843600-1797850800@encinitaschurch.com
SUMMARY:Monday Review
DESCRIPTION:
URL:https://encinitaschurch.com/event/monday-review-79/
LOCATION:Conference Room
END:VEVENT
BEGIN:VEVENT
DTSTART;TZID=America/Los_Angeles:20261222T093000
DTEND;TZID=America/Los_Angeles:20261222T103000
DTSTAMP:20260421T053045
CREATED:20250730T001122Z
LAST-MODIFIED:20250730T001122Z
UID:10004012-1797931800-1797935400@encinitaschurch.com
SUMMARY:Staff Meeting
DESCRIPTION:San Dieguito UMC Staff meeting
URL:https://encinitaschurch.com/event/staff-meeting-79/
LOCATION:Conference Room
END:VEVENT
BEGIN:VEVENT
DTSTART;TZID=America/Los_Angeles:20261228T090000
DTEND;TZID=America/Los_Angeles:20261228T110000
DTSTAMP:20260421T053045
CREATED:20250730T001148Z
LAST-MODIFIED:20250730T001148Z
UID:10004026-1798448400-1798455600@encinitaschurch.com
SUMMARY:Monday Review
DESCRIPTION:
URL:https://encinitaschurch.com/event/monday-review-80/
LOCATION:Conference Room
END:VEVENT
BEGIN:VEVENT
DTSTART;TZID=America/Los_Angeles:20261229T093000
DTEND;TZID=America/Los_Angeles:20261229T103000
DTSTAMP:20260421T053045
CREATED:20250730T001148Z
LAST-MODIFIED:20250730T001148Z
UID:10004029-1798536600-1798540200@encinitaschurch.com
SUMMARY:Staff Meeting
DESCRIPTION:San Dieguito UMC Staff meeting
URL:https://encinitaschurch.com/event/staff-meeting-80/
LOCATION:Conference Room
END:VEVENT
BEGIN:VEVENT
DTSTART;TZID=America/Los_Angeles:20270104T090000
DTEND;TZID=America/Los_Angeles:20270104T110000
DTSTAMP:20260421T053045
CREATED:20250730T001201Z
LAST-MODIFIED:20250730T001201Z
UID:10004044-1799053200-1799060400@encinitaschurch.com
SUMMARY:Monday Review
DESCRIPTION:
URL:https://encinitaschurch.com/event/monday-review-81/
LOCATION:Conference Room
END:VEVENT
BEGIN:VEVENT
DTSTART;TZID=America/Los_Angeles:20270105T093000
DTEND;TZID=America/Los_Angeles:20270105T103000
DTSTAMP:20260421T053045
CREATED:20250730T001214Z
LAST-MODIFIED:20250730T001214Z
UID:10004047-1799141400-1799145000@encinitaschurch.com
SUMMARY:Staff Meeting
DESCRIPTION:San Dieguito UMC Staff meeting
URL:https://encinitaschurch.com/event/staff-meeting-81/
LOCATION:Conference Room
END:VEVENT
BEGIN:VEVENT
DTSTART;TZID=America/Los_Angeles:20270111T090000
DTEND;TZID=America/Los_Angeles:20270111T110000
DTSTAMP:20260421T053045
CREATED:20250730T001227Z
LAST-MODIFIED:20250730T001227Z
UID:10004059-1799658000-1799665200@encinitaschurch.com
SUMMARY:Monday Review
DESCRIPTION:
URL:https://encinitaschurch.com/event/monday-review-82/
LOCATION:Conference Room
END:VEVENT
BEGIN:VEVENT
DTSTART;TZID=America/Los_Angeles:20270112T093000
DTEND;TZID=America/Los_Angeles:20270112T103000
DTSTAMP:20260421T053045
CREATED:20250730T001228Z
LAST-MODIFIED:20250730T001228Z
UID:10004063-1799746200-1799749800@encinitaschurch.com
SUMMARY:Staff Meeting
DESCRIPTION:San Dieguito UMC Staff meeting
URL:https://encinitaschurch.com/event/staff-meeting-82/
LOCATION:Conference Room
END:VEVENT
END:VCALENDAR