BEGIN:VCALENDAR
VERSION:2.0
PRODID:-//San Dieguito United Methodist Church - ECPv6.15.15//NONSGML v1.0//EN
CALSCALE:GREGORIAN
METHOD:PUBLISH
X-ORIGINAL-URL:https://encinitaschurch.com
X-WR-CALDESC:Events for San Dieguito United Methodist Church
REFRESH-INTERVAL;VALUE=DURATION:PT1H
X-Robots-Tag:noindex
X-PUBLISHED-TTL:PT1H
BEGIN:VTIMEZONE
TZID:America/Los_Angeles
BEGIN:DAYLIGHT
TZOFFSETFROM:-0800
TZOFFSETTO:-0700
TZNAME:PDT
DTSTART:20240310T100000
END:DAYLIGHT
BEGIN:STANDARD
TZOFFSETFROM:-0700
TZOFFSETTO:-0800
TZNAME:PST
DTSTART:20241103T090000
END:STANDARD
BEGIN:DAYLIGHT
TZOFFSETFROM:-0800
TZOFFSETTO:-0700
TZNAME:PDT
DTSTART:20250309T100000
END:DAYLIGHT
BEGIN:STANDARD
TZOFFSETFROM:-0700
TZOFFSETTO:-0800
TZNAME:PST
DTSTART:20251102T090000
END:STANDARD
BEGIN:DAYLIGHT
TZOFFSETFROM:-0800
TZOFFSETTO:-0700
TZNAME:PDT
DTSTART:20260308T100000
END:DAYLIGHT
BEGIN:STANDARD
TZOFFSETFROM:-0700
TZOFFSETTO:-0800
TZNAME:PST
DTSTART:20261101T090000
END:STANDARD
END:VTIMEZONE
BEGIN:VEVENT
DTSTART;TZID=America/Los_Angeles:20251218T100000
DTEND;TZID=America/Los_Angeles:20251218T110000
DTSTAMP:20260421T102011
CREATED:20250711T142724Z
LAST-MODIFIED:20251215T235105Z
UID:10002938-1766052000-1766055600@encinitaschurch.com
SUMMARY:Silver Age Yoga
DESCRIPTION:Yoga instructor – Butch – 760.803.9258https://www.silverageyoga.org/
URL:https://encinitaschurch.com/event/silver-age-yoga-26/
LOCATION:Founders Hall
CATEGORIES:Highlight Events
END:VEVENT
BEGIN:VEVENT
DTSTART;TZID=America/Los_Angeles:20251217T183000
DTEND;TZID=America/Los_Angeles:20251217T203000
DTSTAMP:20260421T102011
CREATED:20250711T142724Z
LAST-MODIFIED:20251215T235105Z
UID:10002937-1765996200-1766003400@encinitaschurch.com
SUMMARY:Faith Flicks Movie NIght
DESCRIPTION:Join us for A Boy Called Christmas\, The story is about what lies at the heart of Christmas. We will also host our annual Christmas Party. There will be a drawing for gifts. The movie is free and so are the refreshments. Join the holiday fun.
URL:https://encinitaschurch.com/event/faith-flicks-movie-night-6/
LOCATION:Founders Hall
CATEGORIES:Highlight Events,Home Event
END:VEVENT
BEGIN:VEVENT
DTSTART;TZID=America/Los_Angeles:20251213T133000
DTEND;TZID=America/Los_Angeles:20251213T133000
DTSTAMP:20260421T102011
CREATED:20251120T001106Z
LAST-MODIFIED:20251125T040145Z
UID:10005005-1765632600-1765632600@encinitaschurch.com
SUMMARY:YULE for ALL Ice Cream Social
DESCRIPTION:A Church-Wide Christmas Ice Cream Social – Hosted by United Women in Faith\n \nYou’re invited to YULE for ALL\, a festive\, church-wide Christmas celebration for the whole congregation\, family\, and friends.\n \nIce Cream Sundae Bar – Build your own sundae with all the toppings\nHoliday Boutique – Find unique\, hand-crafted treasures perfect for Christmas giving\n \nEnjoy the spirit of the season with a photo booth and other joyful surprises. Come share in the warmth\, laughter\, and fellowship — because this YULE is for everyone.
URL:https://encinitaschurch.com/event/yule-for-all-ice-cream-social/
LOCATION:Founders Hall
CATEGORIES:Home Event
END:VEVENT
BEGIN:VEVENT
DTSTART;TZID=America/Los_Angeles:20251211T100000
DTEND;TZID=America/Los_Angeles:20251211T110000
DTSTAMP:20260421T102011
CREATED:20250711T142648Z
LAST-MODIFIED:20251209T234602Z
UID:10002908-1765447200-1765450800@encinitaschurch.com
SUMMARY:Silver Age Yoga
DESCRIPTION:Yoga instructor – Butch – 760.803.9258https://www.silverageyoga.org/
URL:https://encinitaschurch.com/event/silver-age-yoga-25/
LOCATION:Founders Hall
CATEGORIES:Highlight Events
END:VEVENT
BEGIN:VEVENT
DTSTART;TZID=America/Los_Angeles:20251209T183000
DTEND;TZID=America/Los_Angeles:20251209T210000
DTSTAMP:20260421T102011
CREATED:20250818T234522Z
LAST-MODIFIED:20251209T234551Z
UID:10004643-1765305000-1765314000@encinitaschurch.com
SUMMARY:North Coast Symphony Orchestra Rehearsal
DESCRIPTION:
URL:https://encinitaschurch.com/event/north-coast-symphony-orchestra-rehearsal-17/
LOCATION:Founders Hall
END:VEVENT
BEGIN:VEVENT
DTSTART;TZID=America/Los_Angeles:20251208T173000
DTEND;TZID=America/Los_Angeles:20251208T210000
DTSTAMP:20260421T102011
CREATED:20250711T142624Z
LAST-MODIFIED:20251208T233054Z
UID:10002892-1765215000-1765227600@encinitaschurch.com
SUMMARY:Coin Club  Meeting
DESCRIPTION:Oceanside/Carlsbad Coin Club Monthly Meeting
URL:https://encinitaschurch.com/event/coin-club-meeting-6/
LOCATION:Founders Hall
END:VEVENT
BEGIN:VEVENT
DTSTART;TZID=America/Los_Angeles:20251204T100000
DTEND;TZID=America/Los_Angeles:20251204T110000
DTSTAMP:20260421T102011
CREATED:20250711T142612Z
LAST-MODIFIED:20251203T234551Z
UID:10002875-1764842400-1764846000@encinitaschurch.com
SUMMARY:Silver Age Yoga
DESCRIPTION:Yoga instructor – Butch – 760.803.9258https://www.silverageyoga.org/
URL:https://encinitaschurch.com/event/silver-age-yoga-24/
LOCATION:Founders Hall
CATEGORIES:Highlight Events
END:VEVENT
BEGIN:VEVENT
DTSTART;TZID=America/Los_Angeles:20251203T083000
DTEND;TZID=America/Los_Angeles:20251203T163000
DTSTAMP:20260421T102011
CREATED:20250711T142600Z
LAST-MODIFIED:20251203T234551Z
UID:10002870-1764750600-1764779400@encinitaschurch.com
SUMMARY:Red Cross Blood Drive
DESCRIPTION:Reserve an appointment online at:  \nRed Cross Online Appointment Scheduler  \nOr see Dick Sterrett after church to sign up in person 
URL:https://encinitaschurch.com/event/red-cross-blood-drive-6/
LOCATION:Founders Hall
CATEGORIES:Highlight Events,Home Event
END:VEVENT
BEGIN:VEVENT
DTSTART;TZID=America/Los_Angeles:20251202T183000
DTEND;TZID=America/Los_Angeles:20251202T210000
DTSTAMP:20260421T102011
CREATED:20250818T234448Z
LAST-MODIFIED:20251202T233057Z
UID:10004641-1764700200-1764709200@encinitaschurch.com
SUMMARY:North Coast Symphony Orchestra Rehearsal
DESCRIPTION:
URL:https://encinitaschurch.com/event/north-coast-symphony-orchestra-rehearsal-16/
LOCATION:Founders Hall
END:VEVENT
BEGIN:VEVENT
DTSTART;TZID=America/Los_Angeles:20251127T100000
DTEND;TZID=America/Los_Angeles:20251127T110000
DTSTAMP:20260421T102011
CREATED:20250711T142534Z
LAST-MODIFIED:20251126T233545Z
UID:10002849-1764237600-1764241200@encinitaschurch.com
SUMMARY:Silver Age Yoga
DESCRIPTION:Yoga instructor – Butch – 760.803.9258https://www.silverageyoga.org/
URL:https://encinitaschurch.com/event/silver-age-yoga-23/
LOCATION:Founders Hall
CATEGORIES:Highlight Events
END:VEVENT
BEGIN:VEVENT
DTSTART;TZID=America/Los_Angeles:20251123T113000
DTEND;TZID=America/Los_Angeles:20251123T123000
DTSTAMP:20260421T102011
CREATED:20251006T234022Z
LAST-MODIFIED:20251121T234601Z
UID:10004947-1763897400-1763901000@encinitaschurch.com
SUMMARY:Annual Charge Conference
DESCRIPTION:San Dieguito United Methodist Church – Annual Charge Conference \nRev. Bob Rhoads\, pastor of La Jolla United Methodist Church is the presiding elder.
URL:https://encinitaschurch.com/event/annual-charge-conference/
LOCATION:Founders Hall
END:VEVENT
BEGIN:VEVENT
DTSTART;TZID=America/Los_Angeles:20251120T100000
DTEND;TZID=America/Los_Angeles:20251120T110000
DTSTAMP:20260421T102011
CREATED:20250711T142510Z
LAST-MODIFIED:20251118T234614Z
UID:10002823-1763632800-1763636400@encinitaschurch.com
SUMMARY:Silver Age Yoga
DESCRIPTION:Yoga instructor – Butch – 760.803.9258https://www.silverageyoga.org/
URL:https://encinitaschurch.com/event/silver-age-yoga-22/
LOCATION:Founders Hall
CATEGORIES:Highlight Events
END:VEVENT
BEGIN:VEVENT
DTSTART;TZID=America/Los_Angeles:20251119T183000
DTEND;TZID=America/Los_Angeles:20251119T203000
DTSTAMP:20260421T102011
CREATED:20250711T142457Z
LAST-MODIFIED:20251118T234602Z
UID:10002821-1763577000-1763584200@encinitaschurch.com
SUMMARY:Faith Flicks Movie Night
DESCRIPTION:The movie tonight is Pinocchio\, an adapted and animated film by Guillermo del Toro. \nIt’s an old story given new meanings and offering lessons about family\, love\, loyalty\, sacrifice and courage.\nIt won an Oscar for Best Animated Feature Film in 2023.\nIt’s rated PG and is 2 hours in length. \n\nViewing is Free. Refreshments are available for a suggested donation of $3.00 per person.\nRev Faith and Shannon will lead a discussion following the showing. All are welcome. \n 
URL:https://encinitaschurch.com/event/faith-flicks-movie-night-5/
LOCATION:Founders Hall
CATEGORIES:Highlight Events,Home Event
END:VEVENT
BEGIN:VEVENT
DTSTART;TZID=America/Los_Angeles:20251118T183000
DTEND;TZID=America/Los_Angeles:20251118T210000
DTSTAMP:20260421T102011
CREATED:20250818T234348Z
LAST-MODIFIED:20251118T234601Z
UID:10004638-1763490600-1763499600@encinitaschurch.com
SUMMARY:North Coast Symphony Orchestra Rehearsal
DESCRIPTION:
URL:https://encinitaschurch.com/event/north-coast-symphony-orchestra-rehearsal-15/
LOCATION:Founders Hall
END:VEVENT
BEGIN:VEVENT
DTSTART;TZID=America/Los_Angeles:20251116T163000
DTEND;TZID=America/Los_Angeles:20251116T180000
DTSTAMP:20260421T102011
CREATED:20251013T235358Z
LAST-MODIFIED:20251115T235027Z
UID:10004953-1763310600-1763316000@encinitaschurch.com
SUMMARY:Assisteens Service Group
DESCRIPTION:For information contact: Jan 
URL:https://encinitaschurch.com/event/assisteens-service-group-3/
LOCATION:Founders Hall
END:VEVENT
BEGIN:VEVENT
DTSTART;TZID=America/Los_Angeles:20251113T100000
DTEND;TZID=America/Los_Angeles:20251113T110000
DTSTAMP:20260421T102011
CREATED:20250711T142432Z
LAST-MODIFIED:20251112T234538Z
UID:10002796-1763028000-1763031600@encinitaschurch.com
SUMMARY:Silver Age Yoga
DESCRIPTION:Yoga instructor – Butch – 760.803.9258https://www.silverageyoga.org/
URL:https://encinitaschurch.com/event/silver-age-yoga-21/
LOCATION:Founders Hall
CATEGORIES:Highlight Events
END:VEVENT
BEGIN:VEVENT
DTSTART;TZID=America/Los_Angeles:20251112T103000
DTEND;TZID=America/Los_Angeles:20251112T133000
DTSTAMP:20260421T102011
CREATED:20250711T142419Z
LAST-MODIFIED:20251111T233549Z
UID:10002790-1762943400-1762954200@encinitaschurch.com
SUMMARY:UWF Luncheon Meeting
DESCRIPTION:United Women in Faith General Meeting and Luncheon \n  \nProgram: World Thank Offering
URL:https://encinitaschurch.com/event/uwf-luncheon-meeting-2/
LOCATION:Founders Hall
CATEGORIES:Highlight Events,Home Event
END:VEVENT
BEGIN:VEVENT
DTSTART;TZID=America/Los_Angeles:20251111T183000
DTEND;TZID=America/Los_Angeles:20251111T210000
DTSTAMP:20260421T102011
CREATED:20250818T234314Z
LAST-MODIFIED:20251111T233549Z
UID:10004637-1762885800-1762894800@encinitaschurch.com
SUMMARY:North Coast Symphony Orchestra Rehearsal
DESCRIPTION:
URL:https://encinitaschurch.com/event/north-coast-symphony-orchestra-rehearsal-14/
LOCATION:Founders Hall
END:VEVENT
BEGIN:VEVENT
DTSTART;TZID=America/Los_Angeles:20251110T173000
DTEND;TZID=America/Los_Angeles:20251110T210000
DTSTAMP:20260421T102011
CREATED:20250711T142419Z
LAST-MODIFIED:20251109T234604Z
UID:10002783-1762795800-1762808400@encinitaschurch.com
SUMMARY:Coin Club  Meeting
DESCRIPTION:Oceanside/Carlsbad Coin Club Monthly Meeting
URL:https://encinitaschurch.com/event/coin-club-meeting-5/
LOCATION:Founders Hall
END:VEVENT
BEGIN:VEVENT
DTSTART;TZID=America/Los_Angeles:20251110T100000
DTEND;TZID=America/Los_Angeles:20251110T113000
DTSTAMP:20260421T102011
CREATED:20251027T233202Z
LAST-MODIFIED:20251109T234552Z
UID:10004969-1762768800-1762774200@encinitaschurch.com
SUMMARY:The Village Encinitas Monthly Gathering
DESCRIPTION:Topic: Tech Tips 101 –  An Easy Introduction to AI  \n Gwyn Chafetz\, strategic marketingconsultant\, will lead us in a fun\,hands-on workshop \n about what AI really is and how you can use it in everydaylife. \n The class will give you confidence and skills to tap into AI’s power.  \nNotech experience needed!
URL:https://encinitaschurch.com/event/the-village-encinitas-monthly-gathering-2/
LOCATION:Founders Hall
END:VEVENT
BEGIN:VEVENT
DTSTART;TZID=America/Los_Angeles:20251107T180000
DTEND;TZID=America/Los_Angeles:20251107T200000
DTSTAMP:20260421T102011
CREATED:20251001T222131Z
LAST-MODIFIED:20251106T234554Z
UID:10004934-1762538400-1762545600@encinitaschurch.com
SUMMARY:Poetry Night
DESCRIPTION:Hosted by The Garden – Come share a favorite poem or short story.
URL:https://encinitaschurch.com/event/poetry-night/
LOCATION:Founders Hall
END:VEVENT
BEGIN:VEVENT
DTSTART;TZID=America/Los_Angeles:20251106T100000
DTEND;TZID=America/Los_Angeles:20251106T110000
DTSTAMP:20260421T102011
CREATED:20250711T142356Z
LAST-MODIFIED:20251105T233101Z
UID:10002766-1762423200-1762426800@encinitaschurch.com
SUMMARY:Silver Age Yoga
DESCRIPTION:Yoga instructor – Butch – 760.803.9258https://www.silverageyoga.org/
URL:https://encinitaschurch.com/event/silver-age-yoga-20/
LOCATION:Founders Hall
CATEGORIES:Highlight Events
END:VEVENT
BEGIN:VEVENT
DTSTART;TZID=America/Los_Angeles:20251105T083000
DTEND;TZID=America/Los_Angeles:20251105T163000
DTSTAMP:20260421T102011
CREATED:20250711T142344Z
LAST-MODIFIED:20251105T233101Z
UID:10002761-1762331400-1762360200@encinitaschurch.com
SUMMARY:Red Cross Blood Drive
DESCRIPTION:Reserve an appointment online at:  \nRed Cross Online Appointment Scheduler  \nOr see Dick Sterrett after church to sign up in person 
URL:https://encinitaschurch.com/event/red-cross-blood-drive-5/
LOCATION:Founders Hall
CATEGORIES:Highlight Events,Home Event
END:VEVENT
BEGIN:VEVENT
DTSTART;TZID=America/Los_Angeles:20251104T183000
DTEND;TZID=America/Los_Angeles:20251104T210000
DTSTAMP:20260421T102011
CREATED:20250818T234238Z
LAST-MODIFIED:20251103T234601Z
UID:10004634-1762281000-1762290000@encinitaschurch.com
SUMMARY:North Coast Symphony Orchestra Rehearsal
DESCRIPTION:
URL:https://encinitaschurch.com/event/north-coast-symphony-orchestra-rehearsal-13/
LOCATION:Founders Hall
END:VEVENT
BEGIN:VEVENT
DTSTART;TZID=America/Los_Angeles:20251102T170000
DTEND;TZID=America/Los_Angeles:20251102T180000
DTSTAMP:20260421T102011
CREATED:20251001T222108Z
LAST-MODIFIED:20251102T233605Z
UID:10004931-1762102800-1762106400@encinitaschurch.com
SUMMARY:Public Lecture - Dr. Christopher Hays
DESCRIPTION: Dr. Christopher Hays is the D. Wilson Moore Professor of Old Testament and Ancient Near Eastern Studies at Fuller Theological Seminary. He co-authored The Widening of God’s Mercy: Sexuality within the Biblical Story with his father\, Richard Hays. The book highlights a gracious God who is willing to change God’s mind\, continually widening grace to welcome outsiders and challenging those who enforce exclusive boundaries.  \nDr. Hays will also be with us in worship on Sunday\, November 2 at 9:30 am
URL:https://encinitaschurch.com/event/public-lecture-dr-christopher-hays/
LOCATION:Founders Hall
END:VEVENT
BEGIN:VEVENT
DTSTART;TZID=America/Los_Angeles:20251030T100000
DTEND;TZID=America/Los_Angeles:20251030T110000
DTSTAMP:20260421T102011
CREATED:20250711T142320Z
LAST-MODIFIED:20250919T234936Z
UID:10002739-1761818400-1761822000@encinitaschurch.com
SUMMARY:Silver Age Yoga
DESCRIPTION:Yoga instructor – Butch – 760.803.9258https://www.silverageyoga.org/
URL:https://encinitaschurch.com/event/silver-age-yoga-19/
LOCATION:Founders Hall
CATEGORIES:Highlight Events
END:VEVENT
BEGIN:VEVENT
DTSTART;TZID=America/Los_Angeles:20251027T180000
DTEND;TZID=America/Los_Angeles:20251027T200000
DTSTAMP:20260421T102011
CREATED:20250711T142308Z
LAST-MODIFIED:20251025T235035Z
UID:10002729-1761588000-1761595200@encinitaschurch.com
SUMMARY:Miriam Circle Meeting
DESCRIPTION:United Women in Faith Miriam Circle Meeting
URL:https://encinitaschurch.com/event/miriam-circle-meeting-2/
LOCATION:Founders Hall
CATEGORIES:Highlight Events
END:VEVENT
BEGIN:VEVENT
DTSTART;TZID=America/Los_Angeles:20251025T170000
DTEND;TZID=America/Los_Angeles:20251025T213000
DTSTAMP:20260421T102011
CREATED:20250711T142255Z
LAST-MODIFIED:20251025T235034Z
UID:10002719-1761411600-1761427800@encinitaschurch.com
SUMMARY:Octoberfest Square Dance
DESCRIPTION:Sandpiper Square Dance Club- Oktoberfest potluck \nOpen to the public
URL:https://encinitaschurch.com/event/octoberfest-square-dance/
LOCATION:Founders Hall
END:VEVENT
BEGIN:VEVENT
DTSTART;TZID=America/Los_Angeles:20251023T100000
DTEND;TZID=America/Los_Angeles:20251023T110000
DTSTAMP:20260421T102011
CREATED:20250711T142255Z
LAST-MODIFIED:20251022T235029Z
UID:10002713-1761213600-1761217200@encinitaschurch.com
SUMMARY:Silver Age Yoga
DESCRIPTION:Yoga instructor – Butch – 760.803.9258https://www.silverageyoga.org/
URL:https://encinitaschurch.com/event/silver-age-yoga-18/
LOCATION:Founders Hall
CATEGORIES:Highlight Events
END:VEVENT
BEGIN:VEVENT
DTSTART;TZID=America/Los_Angeles:20251022T093000
DTEND;TZID=America/Los_Angeles:20251022T114500
DTSTAMP:20260421T102011
CREATED:20250711T142242Z
LAST-MODIFIED:20251021T233058Z
UID:10002707-1761125400-1761133500@encinitaschurch.com
SUMMARY:Martha Circle Meeting
DESCRIPTION:
URL:https://encinitaschurch.com/event/martha-circle-meeting-3/
LOCATION:Founders Hall
CATEGORIES:Highlight Events
END:VEVENT
END:VCALENDAR