BEGIN:VCALENDAR
VERSION:2.0
PRODID:-//San Dieguito United Methodist Church - ECPv6.15.15//NONSGML v1.0//EN
CALSCALE:GREGORIAN
METHOD:PUBLISH
X-WR-CALNAME:San Dieguito United Methodist Church
X-ORIGINAL-URL:https://encinitaschurch.com
X-WR-CALDESC:Events for San Dieguito United Methodist Church
REFRESH-INTERVAL;VALUE=DURATION:PT1H
X-Robots-Tag:noindex
X-PUBLISHED-TTL:PT1H
BEGIN:VTIMEZONE
TZID:America/Los_Angeles
BEGIN:DAYLIGHT
TZOFFSETFROM:-0800
TZOFFSETTO:-0700
TZNAME:PDT
DTSTART:20260308T100000
END:DAYLIGHT
BEGIN:STANDARD
TZOFFSETFROM:-0700
TZOFFSETTO:-0800
TZNAME:PST
DTSTART:20261101T090000
END:STANDARD
BEGIN:DAYLIGHT
TZOFFSETFROM:-0800
TZOFFSETTO:-0700
TZNAME:PDT
DTSTART:20270314T100000
END:DAYLIGHT
BEGIN:STANDARD
TZOFFSETFROM:-0700
TZOFFSETTO:-0800
TZNAME:PST
DTSTART:20271107T090000
END:STANDARD
BEGIN:DAYLIGHT
TZOFFSETFROM:-0800
TZOFFSETTO:-0700
TZNAME:PDT
DTSTART:20280312T100000
END:DAYLIGHT
BEGIN:STANDARD
TZOFFSETFROM:-0700
TZOFFSETTO:-0800
TZNAME:PST
DTSTART:20281105T090000
END:STANDARD
END:VTIMEZONE
BEGIN:VEVENT
DTSTART;TZID=America/Los_Angeles:20270121T100000
DTEND;TZID=America/Los_Angeles:20270121T110000
DTSTAMP:20260421T070048
CREATED:20250730T001252Z
LAST-MODIFIED:20250730T021604Z
UID:10004085-1800525600-1800529200@encinitaschurch.com
SUMMARY:Silver Age Yoga
DESCRIPTION:Yoga instructor – Butch – 760.803.9258https://www.silverageyoga.org/
URL:https://encinitaschurch.com/event/silver-age-yoga-83/
LOCATION:Founders Hall
END:VEVENT
BEGIN:VEVENT
DTSTART;TZID=America/Los_Angeles:20270128T100000
DTEND;TZID=America/Los_Angeles:20270128T110000
DTSTAMP:20260421T070048
CREATED:20250730T021617Z
LAST-MODIFIED:20250730T021617Z
UID:10004099-1801130400-1801134000@encinitaschurch.com
SUMMARY:Silver Age Yoga
DESCRIPTION:Yoga instructor – Butch – 760.803.9258https://www.silverageyoga.org/
URL:https://encinitaschurch.com/event/silver-age-yoga-84/
LOCATION:Founders Hall
END:VEVENT
BEGIN:VEVENT
DTSTART;TZID=America/Los_Angeles:20270204T100000
DTEND;TZID=America/Los_Angeles:20270204T110000
DTSTAMP:20260421T070048
CREATED:20250730T021641Z
LAST-MODIFIED:20250730T021641Z
UID:10004113-1801735200-1801738800@encinitaschurch.com
SUMMARY:Silver Age Yoga
DESCRIPTION:Yoga instructor – Butch – 760.803.9258https://www.silverageyoga.org/
URL:https://encinitaschurch.com/event/silver-age-yoga-85/
LOCATION:Founders Hall
END:VEVENT
BEGIN:VEVENT
DTSTART;TZID=America/Los_Angeles:20270208T173000
DTEND;TZID=America/Los_Angeles:20270208T210000
DTSTAMP:20260421T070048
CREATED:20250730T021652Z
LAST-MODIFIED:20250730T021652Z
UID:10004123-1802107800-1802120400@encinitaschurch.com
SUMMARY:Coin Club  Meeting
DESCRIPTION:Oceanside/Carlsbad Coin Club Monthly Meeting
URL:https://encinitaschurch.com/event/coin-club-meeting-20/
LOCATION:Founders Hall
END:VEVENT
BEGIN:VEVENT
DTSTART;TZID=America/Los_Angeles:20270211T100000
DTEND;TZID=America/Los_Angeles:20270211T110000
DTSTAMP:20260421T070048
CREATED:20250730T021704Z
LAST-MODIFIED:20250730T021704Z
UID:10004132-1802340000-1802343600@encinitaschurch.com
SUMMARY:Silver Age Yoga
DESCRIPTION:Yoga instructor – Butch – 760.803.9258https://www.silverageyoga.org/
URL:https://encinitaschurch.com/event/silver-age-yoga-86/
LOCATION:Founders Hall
END:VEVENT
BEGIN:VEVENT
DTSTART;TZID=America/Los_Angeles:20270217T183000
DTEND;TZID=America/Los_Angeles:20270217T203000
DTSTAMP:20260421T070048
CREATED:20250730T021716Z
LAST-MODIFIED:20250730T021716Z
UID:10004144-1802889000-1802896200@encinitaschurch.com
SUMMARY:Faith Flicks Movie NIght
DESCRIPTION:Gather to watch and discuss full-length contemporary movies from a faith perspective \nFavorite movie refreshments available
URL:https://encinitaschurch.com/event/faith-flicks-movie-night-20/
LOCATION:Founders Hall
END:VEVENT
BEGIN:VEVENT
DTSTART;TZID=America/Los_Angeles:20270218T100000
DTEND;TZID=America/Los_Angeles:20270218T110000
DTSTAMP:20260421T070048
CREATED:20250730T021716Z
LAST-MODIFIED:20250730T021716Z
UID:10004147-1802944800-1802948400@encinitaschurch.com
SUMMARY:Silver Age Yoga
DESCRIPTION:Yoga instructor – Butch – 760.803.9258https://www.silverageyoga.org/
URL:https://encinitaschurch.com/event/silver-age-yoga-87/
LOCATION:Founders Hall
END:VEVENT
BEGIN:VEVENT
DTSTART;TZID=America/Los_Angeles:20270225T100000
DTEND;TZID=America/Los_Angeles:20270225T110000
DTSTAMP:20260421T070048
CREATED:20250730T021741Z
LAST-MODIFIED:20250730T021741Z
UID:10004161-1803549600-1803553200@encinitaschurch.com
SUMMARY:Silver Age Yoga
DESCRIPTION:Yoga instructor – Butch – 760.803.9258https://www.silverageyoga.org/
URL:https://encinitaschurch.com/event/silver-age-yoga-88/
LOCATION:Founders Hall
END:VEVENT
BEGIN:VEVENT
DTSTART;TZID=America/Los_Angeles:20270304T100000
DTEND;TZID=America/Los_Angeles:20270304T110000
DTSTAMP:20260421T070048
CREATED:20250730T021754Z
LAST-MODIFIED:20250730T021754Z
UID:10004175-1804154400-1804158000@encinitaschurch.com
SUMMARY:Silver Age Yoga
DESCRIPTION:Yoga instructor – Butch – 760.803.9258https://www.silverageyoga.org/
URL:https://encinitaschurch.com/event/silver-age-yoga-89/
LOCATION:Founders Hall
END:VEVENT
BEGIN:VEVENT
DTSTART;TZID=America/Los_Angeles:20270308T173000
DTEND;TZID=America/Los_Angeles:20270308T210000
DTSTAMP:20260421T070048
CREATED:20250730T021806Z
LAST-MODIFIED:20250730T021806Z
UID:10004186-1804527000-1804539600@encinitaschurch.com
SUMMARY:Coin Club  Meeting
DESCRIPTION:Oceanside/Carlsbad Coin Club Monthly Meeting
URL:https://encinitaschurch.com/event/coin-club-meeting-21/
LOCATION:Founders Hall
END:VEVENT
BEGIN:VEVENT
DTSTART;TZID=America/Los_Angeles:20270311T100000
DTEND;TZID=America/Los_Angeles:20270311T110000
DTSTAMP:20260421T070048
CREATED:20250730T021818Z
LAST-MODIFIED:20250730T021818Z
UID:10004194-1804759200-1804762800@encinitaschurch.com
SUMMARY:Silver Age Yoga
DESCRIPTION:Yoga instructor – Butch – 760.803.9258https://www.silverageyoga.org/
URL:https://encinitaschurch.com/event/silver-age-yoga-90/
LOCATION:Founders Hall
END:VEVENT
BEGIN:VEVENT
DTSTART;TZID=America/Los_Angeles:20270317T183000
DTEND;TZID=America/Los_Angeles:20270317T203000
DTSTAMP:20260421T070048
CREATED:20250730T021830Z
LAST-MODIFIED:20250730T021830Z
UID:10004208-1805308200-1805315400@encinitaschurch.com
SUMMARY:Faith Flicks Movie NIght
DESCRIPTION:Gather to watch and discuss full-length contemporary movies from a faith perspective \nFavorite movie refreshments available
URL:https://encinitaschurch.com/event/faith-flicks-movie-night-21/
LOCATION:Founders Hall
END:VEVENT
BEGIN:VEVENT
DTSTART;TZID=America/Los_Angeles:20270318T100000
DTEND;TZID=America/Los_Angeles:20270318T110000
DTSTAMP:20260421T070048
CREATED:20250730T021830Z
LAST-MODIFIED:20250730T021830Z
UID:10004209-1805364000-1805367600@encinitaschurch.com
SUMMARY:Silver Age Yoga
DESCRIPTION:Yoga instructor – Butch – 760.803.9258https://www.silverageyoga.org/
URL:https://encinitaschurch.com/event/silver-age-yoga-91/
LOCATION:Founders Hall
END:VEVENT
BEGIN:VEVENT
DTSTART;TZID=America/Los_Angeles:20270325T100000
DTEND;TZID=America/Los_Angeles:20270325T110000
DTSTAMP:20260421T070048
CREATED:20250730T021855Z
LAST-MODIFIED:20250730T021855Z
UID:10004223-1805968800-1805972400@encinitaschurch.com
SUMMARY:Silver Age Yoga
DESCRIPTION:Yoga instructor – Butch – 760.803.9258https://www.silverageyoga.org/
URL:https://encinitaschurch.com/event/silver-age-yoga-92/
LOCATION:Founders Hall
END:VEVENT
BEGIN:VEVENT
DTSTART;TZID=America/Los_Angeles:20270401T100000
DTEND;TZID=America/Los_Angeles:20270401T110000
DTSTAMP:20260421T070048
CREATED:20250730T021908Z
LAST-MODIFIED:20250730T021908Z
UID:10004237-1806573600-1806577200@encinitaschurch.com
SUMMARY:Silver Age Yoga
DESCRIPTION:Yoga instructor – Butch – 760.803.9258https://www.silverageyoga.org/
URL:https://encinitaschurch.com/event/silver-age-yoga-93/
LOCATION:Founders Hall
END:VEVENT
BEGIN:VEVENT
DTSTART;TZID=America/Los_Angeles:20270408T100000
DTEND;TZID=America/Los_Angeles:20270408T110000
DTSTAMP:20260421T070048
CREATED:20250730T021933Z
LAST-MODIFIED:20250730T021933Z
UID:10004252-1807178400-1807182000@encinitaschurch.com
SUMMARY:Silver Age Yoga
DESCRIPTION:Yoga instructor – Butch – 760.803.9258https://www.silverageyoga.org/
URL:https://encinitaschurch.com/event/silver-age-yoga-94/
LOCATION:Founders Hall
END:VEVENT
BEGIN:VEVENT
DTSTART;TZID=America/Los_Angeles:20270412T173000
DTEND;TZID=America/Los_Angeles:20270412T210000
DTSTAMP:20260421T070048
CREATED:20250730T021933Z
LAST-MODIFIED:20250730T021933Z
UID:10004260-1807551000-1807563600@encinitaschurch.com
SUMMARY:Coin Club  Meeting
DESCRIPTION:Oceanside/Carlsbad Coin Club Monthly Meeting
URL:https://encinitaschurch.com/event/coin-club-meeting-22/
LOCATION:Founders Hall
END:VEVENT
BEGIN:VEVENT
DTSTART;TZID=America/Los_Angeles:20270415T100000
DTEND;TZID=America/Los_Angeles:20270415T110000
DTSTAMP:20260421T070048
CREATED:20250730T021945Z
LAST-MODIFIED:20250730T021945Z
UID:10004270-1807783200-1807786800@encinitaschurch.com
SUMMARY:Silver Age Yoga
DESCRIPTION:Yoga instructor – Butch – 760.803.9258https://www.silverageyoga.org/
URL:https://encinitaschurch.com/event/silver-age-yoga-95/
LOCATION:Founders Hall
END:VEVENT
BEGIN:VEVENT
DTSTART;TZID=America/Los_Angeles:20270421T183000
DTEND;TZID=America/Los_Angeles:20270421T203000
DTSTAMP:20260421T070048
CREATED:20250815T041458Z
LAST-MODIFIED:20250815T041458Z
UID:10004333-1808332200-1808339400@encinitaschurch.com
SUMMARY:Faith Flicks Movie NIght
DESCRIPTION:Gather to watch and discuss full-length contemporary movies from a faith perspective \nFavorite movie refreshments available
URL:https://encinitaschurch.com/event/faith-flicks-movie-night-22/
LOCATION:Founders Hall
END:VEVENT
BEGIN:VEVENT
DTSTART;TZID=America/Los_Angeles:20270422T100000
DTEND;TZID=America/Los_Angeles:20270422T110000
DTSTAMP:20260421T070048
CREATED:20250815T041510Z
LAST-MODIFIED:20250815T041510Z
UID:10004336-1808388000-1808391600@encinitaschurch.com
SUMMARY:Silver Age Yoga
DESCRIPTION:Yoga instructor – Butch – 760.803.9258https://www.silverageyoga.org/
URL:https://encinitaschurch.com/event/silver-age-yoga-96/
LOCATION:Founders Hall
END:VEVENT
BEGIN:VEVENT
DTSTART;TZID=America/Los_Angeles:20270429T100000
DTEND;TZID=America/Los_Angeles:20270429T110000
DTSTAMP:20260421T070048
CREATED:20250815T041524Z
LAST-MODIFIED:20250815T041524Z
UID:10004350-1808992800-1808996400@encinitaschurch.com
SUMMARY:Silver Age Yoga
DESCRIPTION:Yoga instructor – Butch – 760.803.9258https://www.silverageyoga.org/
URL:https://encinitaschurch.com/event/silver-age-yoga-97/
LOCATION:Founders Hall
END:VEVENT
BEGIN:VEVENT
DTSTART;TZID=America/Los_Angeles:20270506T100000
DTEND;TZID=America/Los_Angeles:20270506T110000
DTSTAMP:20260421T070048
CREATED:20250815T041549Z
LAST-MODIFIED:20250815T041549Z
UID:10004365-1809597600-1809601200@encinitaschurch.com
SUMMARY:Silver Age Yoga
DESCRIPTION:Yoga instructor – Butch – 760.803.9258https://www.silverageyoga.org/
URL:https://encinitaschurch.com/event/silver-age-yoga-98/
LOCATION:Founders Hall
END:VEVENT
BEGIN:VEVENT
DTSTART;TZID=America/Los_Angeles:20270510T173000
DTEND;TZID=America/Los_Angeles:20270510T210000
DTSTAMP:20260421T070048
CREATED:20250815T041601Z
LAST-MODIFIED:20250815T041601Z
UID:10004374-1809970200-1809982800@encinitaschurch.com
SUMMARY:Coin Club  Meeting
DESCRIPTION:Oceanside/Carlsbad Coin Club Monthly Meeting
URL:https://encinitaschurch.com/event/coin-club-meeting-23/
LOCATION:Founders Hall
END:VEVENT
BEGIN:VEVENT
DTSTART;TZID=America/Los_Angeles:20270513T100000
DTEND;TZID=America/Los_Angeles:20270513T110000
DTSTAMP:20260421T070048
CREATED:20250815T041602Z
LAST-MODIFIED:20250815T041602Z
UID:10004383-1810202400-1810206000@encinitaschurch.com
SUMMARY:Silver Age Yoga
DESCRIPTION:Yoga instructor – Butch – 760.803.9258https://www.silverageyoga.org/
URL:https://encinitaschurch.com/event/silver-age-yoga-99/
LOCATION:Founders Hall
END:VEVENT
BEGIN:VEVENT
DTSTART;TZID=America/Los_Angeles:20270519T183000
DTEND;TZID=America/Los_Angeles:20270519T203000
DTSTAMP:20260421T070048
CREATED:20250815T041628Z
LAST-MODIFIED:20250815T041628Z
UID:10004396-1810751400-1810758600@encinitaschurch.com
SUMMARY:Faith Flicks Movie NIght
DESCRIPTION:Gather to watch and discuss full-length contemporary movies from a faith perspective \nFavorite movie refreshments available
URL:https://encinitaschurch.com/event/faith-flicks-movie-night-23/
LOCATION:Founders Hall
END:VEVENT
BEGIN:VEVENT
DTSTART;TZID=America/Los_Angeles:20270520T100000
DTEND;TZID=America/Los_Angeles:20270520T110000
DTSTAMP:20260421T070048
CREATED:20250815T041628Z
LAST-MODIFIED:20250815T041628Z
UID:10004398-1810807200-1810810800@encinitaschurch.com
SUMMARY:Silver Age Yoga
DESCRIPTION:Yoga instructor – Butch – 760.803.9258https://www.silverageyoga.org/
URL:https://encinitaschurch.com/event/silver-age-yoga-100/
LOCATION:Founders Hall
END:VEVENT
BEGIN:VEVENT
DTSTART;TZID=America/Los_Angeles:20270527T100000
DTEND;TZID=America/Los_Angeles:20270527T110000
DTSTAMP:20260421T070048
CREATED:20250815T041641Z
LAST-MODIFIED:20250815T041641Z
UID:10004412-1811412000-1811415600@encinitaschurch.com
SUMMARY:Silver Age Yoga
DESCRIPTION:Yoga instructor – Butch – 760.803.9258https://www.silverageyoga.org/
URL:https://encinitaschurch.com/event/silver-age-yoga-101/
LOCATION:Founders Hall
END:VEVENT
BEGIN:VEVENT
DTSTART;TZID=America/Los_Angeles:20270603T100000
DTEND;TZID=America/Los_Angeles:20270603T110000
DTSTAMP:20260421T070048
CREATED:20250815T041705Z
LAST-MODIFIED:20250815T041705Z
UID:10004426-1812016800-1812020400@encinitaschurch.com
SUMMARY:Silver Age Yoga
DESCRIPTION:Yoga instructor – Butch – 760.803.9258https://www.silverageyoga.org/
URL:https://encinitaschurch.com/event/silver-age-yoga-102/
LOCATION:Founders Hall
END:VEVENT
BEGIN:VEVENT
DTSTART;TZID=America/Los_Angeles:20270610T100000
DTEND;TZID=America/Los_Angeles:20270610T110000
DTSTAMP:20260421T070048
CREATED:20250815T041731Z
LAST-MODIFIED:20250815T041731Z
UID:10004444-1812621600-1812625200@encinitaschurch.com
SUMMARY:Silver Age Yoga
DESCRIPTION:Yoga instructor – Butch – 760.803.9258https://www.silverageyoga.org/
URL:https://encinitaschurch.com/event/silver-age-yoga-103/
LOCATION:Founders Hall
END:VEVENT
BEGIN:VEVENT
DTSTART;TZID=America/Los_Angeles:20270614T173000
DTEND;TZID=America/Los_Angeles:20270614T210000
DTSTAMP:20260421T070048
CREATED:20250815T041732Z
LAST-MODIFIED:20250815T041732Z
UID:10004453-1812994200-1813006800@encinitaschurch.com
SUMMARY:Coin Club  Meeting
DESCRIPTION:Oceanside/Carlsbad Coin Club Monthly Meeting
URL:https://encinitaschurch.com/event/coin-club-meeting-24/
LOCATION:Founders Hall
END:VEVENT
END:VCALENDAR