BEGIN:VCALENDAR
VERSION:2.0
PRODID:-//San Dieguito United Methodist Church - ECPv6.15.15//NONSGML v1.0//EN
CALSCALE:GREGORIAN
METHOD:PUBLISH
X-WR-CALNAME:San Dieguito United Methodist Church
X-ORIGINAL-URL:https://encinitaschurch.com
X-WR-CALDESC:Events for San Dieguito United Methodist Church
REFRESH-INTERVAL;VALUE=DURATION:PT1H
X-Robots-Tag:noindex
X-PUBLISHED-TTL:PT1H
BEGIN:VTIMEZONE
TZID:America/Los_Angeles
BEGIN:DAYLIGHT
TZOFFSETFROM:-0800
TZOFFSETTO:-0700
TZNAME:PDT
DTSTART:20260308T100000
END:DAYLIGHT
BEGIN:STANDARD
TZOFFSETFROM:-0700
TZOFFSETTO:-0800
TZNAME:PST
DTSTART:20261101T090000
END:STANDARD
BEGIN:DAYLIGHT
TZOFFSETFROM:-0800
TZOFFSETTO:-0700
TZNAME:PDT
DTSTART:20270314T100000
END:DAYLIGHT
BEGIN:STANDARD
TZOFFSETFROM:-0700
TZOFFSETTO:-0800
TZNAME:PST
DTSTART:20271107T090000
END:STANDARD
BEGIN:DAYLIGHT
TZOFFSETFROM:-0800
TZOFFSETTO:-0700
TZNAME:PDT
DTSTART:20280312T100000
END:DAYLIGHT
BEGIN:STANDARD
TZOFFSETFROM:-0700
TZOFFSETTO:-0800
TZNAME:PST
DTSTART:20281105T090000
END:STANDARD
END:VTIMEZONE
BEGIN:VEVENT
DTSTART;TZID=America/Los_Angeles:20270412T173000
DTEND;TZID=America/Los_Angeles:20270412T210000
DTSTAMP:20260421T113613
CREATED:20250730T021933Z
LAST-MODIFIED:20250730T021933Z
UID:10004260-1807551000-1807563600@encinitaschurch.com
SUMMARY:Coin Club  Meeting
DESCRIPTION:Oceanside/Carlsbad Coin Club Monthly Meeting
URL:https://encinitaschurch.com/event/coin-club-meeting-22/
LOCATION:Founders Hall
END:VEVENT
BEGIN:VEVENT
DTSTART;TZID=America/Los_Angeles:20270415T100000
DTEND;TZID=America/Los_Angeles:20270415T110000
DTSTAMP:20260421T113613
CREATED:20250730T021945Z
LAST-MODIFIED:20250730T021945Z
UID:10004270-1807783200-1807786800@encinitaschurch.com
SUMMARY:Silver Age Yoga
DESCRIPTION:Yoga instructor – Butch – 760.803.9258https://www.silverageyoga.org/
URL:https://encinitaschurch.com/event/silver-age-yoga-95/
LOCATION:Founders Hall
END:VEVENT
BEGIN:VEVENT
DTSTART;TZID=America/Los_Angeles:20270421T183000
DTEND;TZID=America/Los_Angeles:20270421T203000
DTSTAMP:20260421T113613
CREATED:20250815T041458Z
LAST-MODIFIED:20250815T041458Z
UID:10004333-1808332200-1808339400@encinitaschurch.com
SUMMARY:Faith Flicks Movie NIght
DESCRIPTION:Gather to watch and discuss full-length contemporary movies from a faith perspective \nFavorite movie refreshments available
URL:https://encinitaschurch.com/event/faith-flicks-movie-night-22/
LOCATION:Founders Hall
END:VEVENT
BEGIN:VEVENT
DTSTART;TZID=America/Los_Angeles:20270422T100000
DTEND;TZID=America/Los_Angeles:20270422T110000
DTSTAMP:20260421T113613
CREATED:20250815T041510Z
LAST-MODIFIED:20250815T041510Z
UID:10004336-1808388000-1808391600@encinitaschurch.com
SUMMARY:Silver Age Yoga
DESCRIPTION:Yoga instructor – Butch – 760.803.9258https://www.silverageyoga.org/
URL:https://encinitaschurch.com/event/silver-age-yoga-96/
LOCATION:Founders Hall
END:VEVENT
BEGIN:VEVENT
DTSTART;TZID=America/Los_Angeles:20270429T100000
DTEND;TZID=America/Los_Angeles:20270429T110000
DTSTAMP:20260421T113613
CREATED:20250815T041524Z
LAST-MODIFIED:20250815T041524Z
UID:10004350-1808992800-1808996400@encinitaschurch.com
SUMMARY:Silver Age Yoga
DESCRIPTION:Yoga instructor – Butch – 760.803.9258https://www.silverageyoga.org/
URL:https://encinitaschurch.com/event/silver-age-yoga-97/
LOCATION:Founders Hall
END:VEVENT
BEGIN:VEVENT
DTSTART;TZID=America/Los_Angeles:20270506T100000
DTEND;TZID=America/Los_Angeles:20270506T110000
DTSTAMP:20260421T113613
CREATED:20250815T041549Z
LAST-MODIFIED:20250815T041549Z
UID:10004365-1809597600-1809601200@encinitaschurch.com
SUMMARY:Silver Age Yoga
DESCRIPTION:Yoga instructor – Butch – 760.803.9258https://www.silverageyoga.org/
URL:https://encinitaschurch.com/event/silver-age-yoga-98/
LOCATION:Founders Hall
END:VEVENT
BEGIN:VEVENT
DTSTART;TZID=America/Los_Angeles:20270510T173000
DTEND;TZID=America/Los_Angeles:20270510T210000
DTSTAMP:20260421T113613
CREATED:20250815T041601Z
LAST-MODIFIED:20250815T041601Z
UID:10004374-1809970200-1809982800@encinitaschurch.com
SUMMARY:Coin Club  Meeting
DESCRIPTION:Oceanside/Carlsbad Coin Club Monthly Meeting
URL:https://encinitaschurch.com/event/coin-club-meeting-23/
LOCATION:Founders Hall
END:VEVENT
BEGIN:VEVENT
DTSTART;TZID=America/Los_Angeles:20270513T100000
DTEND;TZID=America/Los_Angeles:20270513T110000
DTSTAMP:20260421T113613
CREATED:20250815T041602Z
LAST-MODIFIED:20250815T041602Z
UID:10004383-1810202400-1810206000@encinitaschurch.com
SUMMARY:Silver Age Yoga
DESCRIPTION:Yoga instructor – Butch – 760.803.9258https://www.silverageyoga.org/
URL:https://encinitaschurch.com/event/silver-age-yoga-99/
LOCATION:Founders Hall
END:VEVENT
BEGIN:VEVENT
DTSTART;TZID=America/Los_Angeles:20270519T183000
DTEND;TZID=America/Los_Angeles:20270519T203000
DTSTAMP:20260421T113613
CREATED:20250815T041628Z
LAST-MODIFIED:20250815T041628Z
UID:10004396-1810751400-1810758600@encinitaschurch.com
SUMMARY:Faith Flicks Movie NIght
DESCRIPTION:Gather to watch and discuss full-length contemporary movies from a faith perspective \nFavorite movie refreshments available
URL:https://encinitaschurch.com/event/faith-flicks-movie-night-23/
LOCATION:Founders Hall
END:VEVENT
BEGIN:VEVENT
DTSTART;TZID=America/Los_Angeles:20270520T100000
DTEND;TZID=America/Los_Angeles:20270520T110000
DTSTAMP:20260421T113613
CREATED:20250815T041628Z
LAST-MODIFIED:20250815T041628Z
UID:10004398-1810807200-1810810800@encinitaschurch.com
SUMMARY:Silver Age Yoga
DESCRIPTION:Yoga instructor – Butch – 760.803.9258https://www.silverageyoga.org/
URL:https://encinitaschurch.com/event/silver-age-yoga-100/
LOCATION:Founders Hall
END:VEVENT
BEGIN:VEVENT
DTSTART;TZID=America/Los_Angeles:20270527T100000
DTEND;TZID=America/Los_Angeles:20270527T110000
DTSTAMP:20260421T113613
CREATED:20250815T041641Z
LAST-MODIFIED:20250815T041641Z
UID:10004412-1811412000-1811415600@encinitaschurch.com
SUMMARY:Silver Age Yoga
DESCRIPTION:Yoga instructor – Butch – 760.803.9258https://www.silverageyoga.org/
URL:https://encinitaschurch.com/event/silver-age-yoga-101/
LOCATION:Founders Hall
END:VEVENT
BEGIN:VEVENT
DTSTART;TZID=America/Los_Angeles:20270603T100000
DTEND;TZID=America/Los_Angeles:20270603T110000
DTSTAMP:20260421T113613
CREATED:20250815T041705Z
LAST-MODIFIED:20250815T041705Z
UID:10004426-1812016800-1812020400@encinitaschurch.com
SUMMARY:Silver Age Yoga
DESCRIPTION:Yoga instructor – Butch – 760.803.9258https://www.silverageyoga.org/
URL:https://encinitaschurch.com/event/silver-age-yoga-102/
LOCATION:Founders Hall
END:VEVENT
BEGIN:VEVENT
DTSTART;TZID=America/Los_Angeles:20270610T100000
DTEND;TZID=America/Los_Angeles:20270610T110000
DTSTAMP:20260421T113613
CREATED:20250815T041731Z
LAST-MODIFIED:20250815T041731Z
UID:10004444-1812621600-1812625200@encinitaschurch.com
SUMMARY:Silver Age Yoga
DESCRIPTION:Yoga instructor – Butch – 760.803.9258https://www.silverageyoga.org/
URL:https://encinitaschurch.com/event/silver-age-yoga-103/
LOCATION:Founders Hall
END:VEVENT
BEGIN:VEVENT
DTSTART;TZID=America/Los_Angeles:20270614T173000
DTEND;TZID=America/Los_Angeles:20270614T210000
DTSTAMP:20260421T113613
CREATED:20250815T041732Z
LAST-MODIFIED:20250815T041732Z
UID:10004453-1812994200-1813006800@encinitaschurch.com
SUMMARY:Coin Club  Meeting
DESCRIPTION:Oceanside/Carlsbad Coin Club Monthly Meeting
URL:https://encinitaschurch.com/event/coin-club-meeting-24/
LOCATION:Founders Hall
END:VEVENT
BEGIN:VEVENT
DTSTART;TZID=America/Los_Angeles:20270616T183000
DTEND;TZID=America/Los_Angeles:20270616T203000
DTSTAMP:20260421T113613
CREATED:20250815T041744Z
LAST-MODIFIED:20250815T041744Z
UID:10004457-1813170600-1813177800@encinitaschurch.com
SUMMARY:Faith Flicks Movie NIght
DESCRIPTION:Gather to watch and discuss full-length contemporary movies from a faith perspective \nFavorite movie refreshments available
URL:https://encinitaschurch.com/event/faith-flicks-movie-night-24/
LOCATION:Founders Hall
END:VEVENT
BEGIN:VEVENT
DTSTART;TZID=America/Los_Angeles:20270617T100000
DTEND;TZID=America/Los_Angeles:20270617T110000
DTSTAMP:20260421T113613
CREATED:20250815T041744Z
LAST-MODIFIED:20250815T041744Z
UID:10004460-1813226400-1813230000@encinitaschurch.com
SUMMARY:Silver Age Yoga
DESCRIPTION:Yoga instructor – Butch – 760.803.9258https://www.silverageyoga.org/
URL:https://encinitaschurch.com/event/silver-age-yoga-104/
LOCATION:Founders Hall
END:VEVENT
BEGIN:VEVENT
DTSTART;TZID=America/Los_Angeles:20270624T100000
DTEND;TZID=America/Los_Angeles:20270624T110000
DTSTAMP:20260421T113613
CREATED:20250815T041758Z
LAST-MODIFIED:20250815T041758Z
UID:10004473-1813831200-1813834800@encinitaschurch.com
SUMMARY:Silver Age Yoga
DESCRIPTION:Yoga instructor – Butch – 760.803.9258https://www.silverageyoga.org/
URL:https://encinitaschurch.com/event/silver-age-yoga-105/
LOCATION:Founders Hall
END:VEVENT
BEGIN:VEVENT
DTSTART;TZID=America/Los_Angeles:20270701T100000
DTEND;TZID=America/Los_Angeles:20270701T110000
DTSTAMP:20260421T113613
CREATED:20250815T041822Z
LAST-MODIFIED:20250815T041822Z
UID:10004486-1814436000-1814439600@encinitaschurch.com
SUMMARY:Silver Age Yoga
DESCRIPTION:Yoga instructor – Butch – 760.803.9258https://www.silverageyoga.org/
URL:https://encinitaschurch.com/event/silver-age-yoga-106/
LOCATION:Founders Hall
END:VEVENT
BEGIN:VEVENT
DTSTART;TZID=America/Los_Angeles:20270708T100000
DTEND;TZID=America/Los_Angeles:20270708T110000
DTSTAMP:20260421T113613
CREATED:20250815T041834Z
LAST-MODIFIED:20250815T041834Z
UID:10004500-1815040800-1815044400@encinitaschurch.com
SUMMARY:Silver Age Yoga
DESCRIPTION:Yoga instructor – Butch – 760.803.9258https://www.silverageyoga.org/
URL:https://encinitaschurch.com/event/silver-age-yoga-107/
LOCATION:Founders Hall
END:VEVENT
BEGIN:VEVENT
DTSTART;TZID=America/Los_Angeles:20270712T173000
DTEND;TZID=America/Los_Angeles:20270712T210000
DTSTAMP:20260421T113613
CREATED:20250815T041847Z
LAST-MODIFIED:20250815T041847Z
UID:10004510-1815413400-1815426000@encinitaschurch.com
SUMMARY:Coin Club  Meeting
DESCRIPTION:Oceanside/Carlsbad Coin Club Monthly Meeting
URL:https://encinitaschurch.com/event/coin-club-meeting-25/
LOCATION:Founders Hall
END:VEVENT
BEGIN:VEVENT
DTSTART;TZID=America/Los_Angeles:20270715T100000
DTEND;TZID=America/Los_Angeles:20270715T110000
DTSTAMP:20260421T113613
CREATED:20250815T041859Z
LAST-MODIFIED:20250815T041859Z
UID:10004517-1815645600-1815649200@encinitaschurch.com
SUMMARY:Silver Age Yoga
DESCRIPTION:Yoga instructor – Butch – 760.803.9258https://www.silverageyoga.org/
URL:https://encinitaschurch.com/event/silver-age-yoga-108/
LOCATION:Founders Hall
END:VEVENT
BEGIN:VEVENT
DTSTART;TZID=America/Los_Angeles:20270721T183000
DTEND;TZID=America/Los_Angeles:20270721T203000
DTSTAMP:20260421T113613
CREATED:20250815T041912Z
LAST-MODIFIED:20250815T041912Z
UID:10004530-1816194600-1816201800@encinitaschurch.com
SUMMARY:Faith Flicks Movie NIght
DESCRIPTION:Gather to watch and discuss full-length contemporary movies from a faith perspective \nFavorite movie refreshments available
URL:https://encinitaschurch.com/event/faith-flicks-movie-night-25/
LOCATION:Founders Hall
END:VEVENT
BEGIN:VEVENT
DTSTART;TZID=America/Los_Angeles:20270722T100000
DTEND;TZID=America/Los_Angeles:20270722T110000
DTSTAMP:20260421T113613
CREATED:20250815T041912Z
LAST-MODIFIED:20250815T041912Z
UID:10004531-1816250400-1816254000@encinitaschurch.com
SUMMARY:Silver Age Yoga
DESCRIPTION:Yoga instructor – Butch – 760.803.9258https://www.silverageyoga.org/
URL:https://encinitaschurch.com/event/silver-age-yoga-109/
LOCATION:Founders Hall
END:VEVENT
BEGIN:VEVENT
DTSTART;TZID=America/Los_Angeles:20270729T100000
DTEND;TZID=America/Los_Angeles:20270729T110000
DTSTAMP:20260421T113613
CREATED:20250815T041936Z
LAST-MODIFIED:20250815T041936Z
UID:10004544-1816855200-1816858800@encinitaschurch.com
SUMMARY:Silver Age Yoga
DESCRIPTION:Yoga instructor – Butch – 760.803.9258https://www.silverageyoga.org/
URL:https://encinitaschurch.com/event/silver-age-yoga-110/
LOCATION:Founders Hall
END:VEVENT
BEGIN:VEVENT
DTSTART;TZID=America/Los_Angeles:20270805T100000
DTEND;TZID=America/Los_Angeles:20270805T110000
DTSTAMP:20260421T113613
CREATED:20250815T041949Z
LAST-MODIFIED:20250815T041949Z
UID:10004558-1817460000-1817463600@encinitaschurch.com
SUMMARY:Silver Age Yoga
DESCRIPTION:Yoga instructor – Butch – 760.803.9258https://www.silverageyoga.org/
URL:https://encinitaschurch.com/event/silver-age-yoga-111/
LOCATION:Founders Hall
END:VEVENT
BEGIN:VEVENT
DTSTART;TZID=America/Los_Angeles:20270809T173000
DTEND;TZID=America/Los_Angeles:20270809T210000
DTSTAMP:20260421T113613
CREATED:20250815T042001Z
LAST-MODIFIED:20250815T042001Z
UID:10004568-1817832600-1817845200@encinitaschurch.com
SUMMARY:Coin Club  Meeting
DESCRIPTION:Oceanside/Carlsbad Coin Club Monthly Meeting
URL:https://encinitaschurch.com/event/coin-club-meeting-26/
LOCATION:Founders Hall
END:VEVENT
BEGIN:VEVENT
DTSTART;TZID=America/Los_Angeles:20270812T100000
DTEND;TZID=America/Los_Angeles:20270812T110000
DTSTAMP:20260421T113613
CREATED:20250815T042015Z
LAST-MODIFIED:20250815T042015Z
UID:10004575-1818064800-1818068400@encinitaschurch.com
SUMMARY:Silver Age Yoga
DESCRIPTION:Yoga instructor – Butch – 760.803.9258https://www.silverageyoga.org/
URL:https://encinitaschurch.com/event/silver-age-yoga-112/
LOCATION:Founders Hall
END:VEVENT
BEGIN:VEVENT
DTSTART;TZID=America/Los_Angeles:20270818T183000
DTEND;TZID=America/Los_Angeles:20270818T203000
DTSTAMP:20260421T113613
CREATED:20250815T042027Z
LAST-MODIFIED:20250815T042027Z
UID:10004588-1818613800-1818621000@encinitaschurch.com
SUMMARY:Faith Flicks Movie NIght
DESCRIPTION:Gather to watch and discuss full-length contemporary movies from a faith perspective \nFavorite movie refreshments available
URL:https://encinitaschurch.com/event/faith-flicks-movie-night-26/
LOCATION:Founders Hall
END:VEVENT
BEGIN:VEVENT
DTSTART;TZID=America/Los_Angeles:20270819T100000
DTEND;TZID=America/Los_Angeles:20270819T110000
DTSTAMP:20260421T113613
CREATED:20250815T042027Z
LAST-MODIFIED:20250815T042027Z
UID:10004589-1818669600-1818673200@encinitaschurch.com
SUMMARY:Silver Age Yoga
DESCRIPTION:Yoga instructor – Butch – 760.803.9258https://www.silverageyoga.org/
URL:https://encinitaschurch.com/event/silver-age-yoga-113/
LOCATION:Founders Hall
END:VEVENT
BEGIN:VEVENT
DTSTART;TZID=America/Los_Angeles:20270826T100000
DTEND;TZID=America/Los_Angeles:20270826T110000
DTSTAMP:20260421T113613
CREATED:20250815T042040Z
LAST-MODIFIED:20250815T042040Z
UID:10004602-1819274400-1819278000@encinitaschurch.com
SUMMARY:Silver Age Yoga
DESCRIPTION:Yoga instructor – Butch – 760.803.9258https://www.silverageyoga.org/
URL:https://encinitaschurch.com/event/silver-age-yoga-114/
LOCATION:Founders Hall
END:VEVENT
END:VCALENDAR