BEGIN:VCALENDAR
VERSION:2.0
PRODID:-//San Dieguito United Methodist Church - ECPv6.15.15//NONSGML v1.0//EN
CALSCALE:GREGORIAN
METHOD:PUBLISH
X-WR-CALNAME:San Dieguito United Methodist Church
X-ORIGINAL-URL:https://encinitaschurch.com
X-WR-CALDESC:Events for San Dieguito United Methodist Church
REFRESH-INTERVAL;VALUE=DURATION:PT1H
X-Robots-Tag:noindex
X-PUBLISHED-TTL:PT1H
BEGIN:VTIMEZONE
TZID:America/Los_Angeles
BEGIN:DAYLIGHT
TZOFFSETFROM:-0800
TZOFFSETTO:-0700
TZNAME:PDT
DTSTART:20240310T100000
END:DAYLIGHT
BEGIN:STANDARD
TZOFFSETFROM:-0700
TZOFFSETTO:-0800
TZNAME:PST
DTSTART:20241103T090000
END:STANDARD
BEGIN:DAYLIGHT
TZOFFSETFROM:-0800
TZOFFSETTO:-0700
TZNAME:PDT
DTSTART:20250309T100000
END:DAYLIGHT
BEGIN:STANDARD
TZOFFSETFROM:-0700
TZOFFSETTO:-0800
TZNAME:PST
DTSTART:20251102T090000
END:STANDARD
BEGIN:DAYLIGHT
TZOFFSETFROM:-0800
TZOFFSETTO:-0700
TZNAME:PDT
DTSTART:20260308T100000
END:DAYLIGHT
BEGIN:STANDARD
TZOFFSETFROM:-0700
TZOFFSETTO:-0800
TZNAME:PST
DTSTART:20261101T090000
END:STANDARD
END:VTIMEZONE
BEGIN:VEVENT
DTSTART;TZID=America/Los_Angeles:20250702T083000
DTEND;TZID=America/Los_Angeles:20250702T163000
DTSTAMP:20260425T083737
CREATED:20250620T231229Z
LAST-MODIFIED:20250621T000603Z
UID:10002266-1751445000-1751473800@encinitaschurch.com
SUMMARY:Red Cross Blood Drive
DESCRIPTION:  \n 
URL:https://encinitaschurch.com/event/red-cross-blood-drive/
LOCATION:Founders Hall
CATEGORIES:Highlight Events
ATTACH;FMTTYPE=image/png:https://encinitaschurch.com/wp-content/uploads/2025/06/REDCROSS.png
END:VEVENT
BEGIN:VEVENT
DTSTART;TZID=America/Los_Angeles:20250701T180000
DTEND;TZID=America/Los_Angeles:20250701T210000
DTSTAMP:20260425T083737
CREATED:20250620T231215Z
LAST-MODIFIED:20250620T231215Z
UID:10002263-1751392800-1751403600@encinitaschurch.com
SUMMARY:North Coast Symphony Orchestra Rehearsal
DESCRIPTION:
URL:https://encinitaschurch.com/event/north-coast-symphony-orchestra-rehearsal-2/
LOCATION:Founders Hall
END:VEVENT
BEGIN:VEVENT
DTSTART;TZID=America/Los_Angeles:20250626T100000
DTEND;TZID=America/Los_Angeles:20250626T110000
DTSTAMP:20260425T083737
CREATED:20250620T231149Z
LAST-MODIFIED:20250620T231149Z
UID:10002242-1750932000-1750935600@encinitaschurch.com
SUMMARY:Silver Age Yoga
DESCRIPTION:Yoga instructor – Butch – 760.803.9258
URL:https://encinitaschurch.com/event/silver-age-yoga/
LOCATION:Founders Hall
END:VEVENT
BEGIN:VEVENT
DTSTART;TZID=America/Los_Angeles:20250624T180000
DTEND;TZID=America/Los_Angeles:20250624T210000
DTSTAMP:20260425T083737
CREATED:20250620T231136Z
LAST-MODIFIED:20250620T231136Z
UID:10002233-1750788000-1750798800@encinitaschurch.com
SUMMARY:North Coast Symphony Orchestra Rehearsal
DESCRIPTION:
URL:https://encinitaschurch.com/event/north-coast-symphony-orchestra-rehearsal/
LOCATION:Founders Hall
END:VEVENT
BEGIN:VEVENT
DTSTART;TZID=America/Los_Angeles:20250622T073000
DTEND;TZID=America/Los_Angeles:20250622T200000
DTSTAMP:20260425T083737
CREATED:20250620T231123Z
LAST-MODIFIED:20250912T225628Z
UID:10002219-1750577400-1750622400@encinitaschurch.com
SUMMARY:Soultry Sisters conference
DESCRIPTION:Conference contact: connect@soultrysisters.com\nAlyssa & Toni
URL:https://encinitaschurch.com/event/soultry-sisters-conference-2/
LOCATION:Founders Hall
END:VEVENT
BEGIN:VEVENT
DTSTART;TZID=America/Los_Angeles:20250621T073000
DTEND;TZID=America/Los_Angeles:20250621T200000
DTSTAMP:20260425T083737
CREATED:20250620T231123Z
LAST-MODIFIED:20250912T225447Z
UID:10002218-1750491000-1750536000@encinitaschurch.com
SUMMARY:Soultry Sisters conference
DESCRIPTION:Conference contact: connect@soultrysisters.com\nAlyssa & Toni
URL:https://encinitaschurch.com/event/soultry-sisters-conference/
LOCATION:Founders Hall
END:VEVENT
END:VCALENDAR