BEGIN:VCALENDAR
VERSION:2.0
PRODID:-//San Dieguito United Methodist Church - ECPv6.15.15//NONSGML v1.0//EN
CALSCALE:GREGORIAN
METHOD:PUBLISH
X-WR-CALNAME:San Dieguito United Methodist Church
X-ORIGINAL-URL:https://encinitaschurch.com
X-WR-CALDESC:Events for San Dieguito United Methodist Church
REFRESH-INTERVAL;VALUE=DURATION:PT1H
X-Robots-Tag:noindex
X-PUBLISHED-TTL:PT1H
BEGIN:VTIMEZONE
TZID:America/Los_Angeles
BEGIN:DAYLIGHT
TZOFFSETFROM:-0800
TZOFFSETTO:-0700
TZNAME:PDT
DTSTART:20240310T100000
END:DAYLIGHT
BEGIN:STANDARD
TZOFFSETFROM:-0700
TZOFFSETTO:-0800
TZNAME:PST
DTSTART:20241103T090000
END:STANDARD
BEGIN:DAYLIGHT
TZOFFSETFROM:-0800
TZOFFSETTO:-0700
TZNAME:PDT
DTSTART:20250309T100000
END:DAYLIGHT
BEGIN:STANDARD
TZOFFSETFROM:-0700
TZOFFSETTO:-0800
TZNAME:PST
DTSTART:20251102T090000
END:STANDARD
BEGIN:DAYLIGHT
TZOFFSETFROM:-0800
TZOFFSETTO:-0700
TZNAME:PDT
DTSTART:20260308T100000
END:DAYLIGHT
BEGIN:STANDARD
TZOFFSETFROM:-0700
TZOFFSETTO:-0800
TZNAME:PST
DTSTART:20261101T090000
END:STANDARD
END:VTIMEZONE
BEGIN:VEVENT
DTSTART;TZID=America/Los_Angeles:20250928T160000
DTEND;TZID=America/Los_Angeles:20250928T180000
DTSTAMP:20260419T181014
CREATED:20250821T231923Z
LAST-MODIFIED:20250928T234552Z
UID:10004669-1759075200-1759082400@encinitaschurch.com
SUMMARY:North Coast Singers Rehearsal
DESCRIPTION:
URL:https://encinitaschurch.com/event/north-coast-singers-rehearsal-99/
LOCATION:Music Room
END:VEVENT
BEGIN:VEVENT
DTSTART;TZID=America/Los_Angeles:20250928T130000
DTEND;TZID=America/Los_Angeles:20250928T150000
DTSTAMP:20260419T181014
CREATED:20250731T044703Z
LAST-MODIFIED:20250927T234553Z
UID:10004292-1759064400-1759071600@encinitaschurch.com
SUMMARY:Sorelle Choir Rehearsal
DESCRIPTION:Women’s Chamber Chorus https://www.sorellesandiego.com/
URL:https://encinitaschurch.com/event/sorelle-choir-rehearsal-9/
LOCATION:Music Room
END:VEVENT
BEGIN:VEVENT
DTSTART;TZID=America/Los_Angeles:20250928T104500
DTEND;TZID=America/Los_Angeles:20250928T114500
DTSTAMP:20260419T181014
CREATED:20250711T142040Z
LAST-MODIFIED:20250927T234553Z
UID:10002606-1759056300-1759059900@encinitaschurch.com
SUMMARY:Bell Choir Practice
DESCRIPTION:Youth and Adult Bell Choir Practice
URL:https://encinitaschurch.com/event/bell-choir-practice-12/
LOCATION:Music Room
END:VEVENT
BEGIN:VEVENT
DTSTART;TZID=America/Los_Angeles:20250925T190000
DTEND;TZID=America/Los_Angeles:20250925T210000
DTSTAMP:20260419T181014
CREATED:20250711T142028Z
LAST-MODIFIED:20250925T233045Z
UID:10002602-1758826800-1758834000@encinitaschurch.com
SUMMARY:Chancel Choir Practice
DESCRIPTION:San Dieguito  Chancel Choir \nDr. Yewon Lee\nyewon@encinitaschurch.com
URL:https://encinitaschurch.com/event/chancel-choir-practice-5/
LOCATION:Music Room
END:VEVENT
BEGIN:VEVENT
DTSTART;TZID=America/Los_Angeles:20250921T160000
DTEND;TZID=America/Los_Angeles:20250921T180000
DTSTAMP:20260419T181014
CREATED:20250821T231847Z
LAST-MODIFIED:20250921T233042Z
UID:10004668-1758470400-1758477600@encinitaschurch.com
SUMMARY:North Coast Singers Rehearsal
DESCRIPTION:
URL:https://encinitaschurch.com/event/north-coast-singers-rehearsal-98/
LOCATION:Music Room
END:VEVENT
BEGIN:VEVENT
DTSTART;TZID=America/Los_Angeles:20250921T130000
DTEND;TZID=America/Los_Angeles:20250921T150000
DTSTAMP:20260419T181014
CREATED:20250731T044626Z
LAST-MODIFIED:20250919T234549Z
UID:10004291-1758459600-1758466800@encinitaschurch.com
SUMMARY:Sorelle Choir Rehearsal
DESCRIPTION:Women’s Chamber Chorus https://www.sorellesandiego.com/
URL:https://encinitaschurch.com/event/sorelle-choir-rehearsal-8/
LOCATION:Music Room
END:VEVENT
BEGIN:VEVENT
DTSTART;TZID=America/Los_Angeles:20250921T104500
DTEND;TZID=America/Los_Angeles:20250921T114500
DTSTAMP:20260419T181014
CREATED:20250711T142005Z
LAST-MODIFIED:20250919T234548Z
UID:10002581-1758451500-1758455100@encinitaschurch.com
SUMMARY:Bell Choir Practice
DESCRIPTION:Youth and Adult Bell Choir Practice
URL:https://encinitaschurch.com/event/bell-choir-practice-11/
LOCATION:Music Room
END:VEVENT
BEGIN:VEVENT
DTSTART;TZID=America/Los_Angeles:20250918T190000
DTEND;TZID=America/Los_Angeles:20250918T210000
DTSTAMP:20260419T181014
CREATED:20250711T142004Z
LAST-MODIFIED:20250918T233056Z
UID:10002575-1758222000-1758229200@encinitaschurch.com
SUMMARY:Chancel Choir Practice
DESCRIPTION:San Dieguito  Chancel Choir \nDr. Yewon Lee\nyewon@encinitaschurch.com
URL:https://encinitaschurch.com/event/chancel-choir-practice-4/
LOCATION:Music Room
END:VEVENT
BEGIN:VEVENT
DTSTART;TZID=America/Los_Angeles:20250914T160000
DTEND;TZID=America/Los_Angeles:20250914T180000
DTSTAMP:20260419T181014
CREATED:20250821T231813Z
LAST-MODIFIED:20250913T234613Z
UID:10004667-1757865600-1757872800@encinitaschurch.com
SUMMARY:North Coast Singers Rehearsal
DESCRIPTION:
URL:https://encinitaschurch.com/event/north-coast-singers-rehearsal-97/
LOCATION:Music Room
END:VEVENT
BEGIN:VEVENT
DTSTART;TZID=America/Los_Angeles:20250914T130000
DTEND;TZID=America/Los_Angeles:20250914T150000
DTSTAMP:20260419T181014
CREATED:20250731T044549Z
LAST-MODIFIED:20250913T234613Z
UID:10004290-1757854800-1757862000@encinitaschurch.com
SUMMARY:Sorelle Choir Rehearsal
DESCRIPTION:Women’s Chamber Chorus https://www.sorellesandiego.com/
URL:https://encinitaschurch.com/event/sorelle-choir-rehearsal-7/
LOCATION:Music Room
END:VEVENT
BEGIN:VEVENT
DTSTART;TZID=America/Los_Angeles:20250914T104500
DTEND;TZID=America/Los_Angeles:20250914T114500
DTSTAMP:20260419T181014
CREATED:20250711T141940Z
LAST-MODIFIED:20250913T234613Z
UID:10002553-1757846700-1757850300@encinitaschurch.com
SUMMARY:Bell Choir Practice
DESCRIPTION:Youth and Adult Bell Choir Practice
URL:https://encinitaschurch.com/event/bell-choir-practice-10/
LOCATION:Music Room
END:VEVENT
BEGIN:VEVENT
DTSTART;TZID=America/Los_Angeles:20250911T190000
DTEND;TZID=America/Los_Angeles:20250911T210000
DTSTAMP:20260419T181014
CREATED:20250711T141928Z
LAST-MODIFIED:20250910T235127Z
UID:10002548-1757617200-1757624400@encinitaschurch.com
SUMMARY:Chancel Choir Practice
DESCRIPTION:San Dieguito  Chancel Choir \nDr. Yewon Lee\nyewon@encinitaschurch.com
URL:https://encinitaschurch.com/event/chancel-choir-practice-3/
LOCATION:Music Room
END:VEVENT
BEGIN:VEVENT
DTSTART;TZID=America/Los_Angeles:20250909T140000
DTEND;TZID=America/Los_Angeles:20250909T180000
DTSTAMP:20260419T181014
CREATED:20250711T141916Z
LAST-MODIFIED:20250805T234857Z
UID:10002536-1757426400-1757440800@encinitaschurch.com
SUMMARY:North Coast Singers
DESCRIPTION:Melissa Keylock – coaching class
URL:https://encinitaschurch.com/event/north-coast-singers-6/
LOCATION:Music Room
END:VEVENT
BEGIN:VEVENT
DTSTART;TZID=America/Los_Angeles:20250907T160000
DTEND;TZID=America/Los_Angeles:20250907T180000
DTSTAMP:20260419T181014
CREATED:20250821T231725Z
LAST-MODIFIED:20250921T203546Z
UID:10004666-1757260800-1757268000@encinitaschurch.com
SUMMARY:North Coast Singers Rehearsal
DESCRIPTION:
URL:https://encinitaschurch.com/event/north-coast-singers-rehearsal-96/
LOCATION:Music Room
END:VEVENT
BEGIN:VEVENT
DTSTART;TZID=America/Los_Angeles:20250907T130000
DTEND;TZID=America/Los_Angeles:20250907T150000
DTSTAMP:20260419T181014
CREATED:20250731T044513Z
LAST-MODIFIED:20250921T203546Z
UID:10004289-1757250000-1757257200@encinitaschurch.com
SUMMARY:Sorelle Choir Rehearsal
DESCRIPTION:Women’s Chamber Chorus https://www.sorellesandiego.com/
URL:https://encinitaschurch.com/event/sorelle-choir-rehearsal-6/
LOCATION:Music Room
END:VEVENT
BEGIN:VEVENT
DTSTART;TZID=America/Los_Angeles:20250907T104500
DTEND;TZID=America/Los_Angeles:20250907T114500
DTSTAMP:20260419T181014
CREATED:20250711T141904Z
LAST-MODIFIED:20250921T203546Z
UID:10002523-1757241900-1757245500@encinitaschurch.com
SUMMARY:Bell Choir Practice
DESCRIPTION:Youth and Adult Bell Choir Practice
URL:https://encinitaschurch.com/event/bell-choir-practice-9/
LOCATION:Music Room
END:VEVENT
BEGIN:VEVENT
DTSTART;TZID=America/Los_Angeles:20250904T190000
DTEND;TZID=America/Los_Angeles:20250904T210000
DTSTAMP:20260419T181014
CREATED:20250711T141853Z
LAST-MODIFIED:20250908T145752Z
UID:10002515-1757012400-1757019600@encinitaschurch.com
SUMMARY:Chancel Choir Practice
DESCRIPTION:San Dieguito  Chancel Choir \nDr. Yewon Lee\nyewon@encinitaschurch.com
URL:https://encinitaschurch.com/event/chancel-choir-practice-2/
LOCATION:Music Room
END:VEVENT
BEGIN:VEVENT
DTSTART;TZID=America/Los_Angeles:20250831T130000
DTEND;TZID=America/Los_Angeles:20250831T150000
DTSTAMP:20260419T181014
CREATED:20250731T044437Z
LAST-MODIFIED:20250830T235057Z
UID:10004288-1756645200-1756652400@encinitaschurch.com
SUMMARY:Sorelle Choir Rehearsal
DESCRIPTION:Women’s Chamber Chorus https://www.sorellesandiego.com/
URL:https://encinitaschurch.com/event/sorelle-choir-rehearsal-5/
LOCATION:Music Room
END:VEVENT
BEGIN:VEVENT
DTSTART;TZID=America/Los_Angeles:20250831T104500
DTEND;TZID=America/Los_Angeles:20250831T114500
DTSTAMP:20260419T181014
CREATED:20250711T141828Z
LAST-MODIFIED:20250830T235057Z
UID:10002497-1756637100-1756640700@encinitaschurch.com
SUMMARY:Bell Choir Practice
DESCRIPTION:Youth and Adult Bell Choir Practice
URL:https://encinitaschurch.com/event/bell-choir-practice-8/
LOCATION:Music Room
END:VEVENT
BEGIN:VEVENT
DTSTART;TZID=America/Los_Angeles:20250828T190000
DTEND;TZID=America/Los_Angeles:20250828T210000
DTSTAMP:20260419T181014
CREATED:20250711T141816Z
LAST-MODIFIED:20250827T233112Z
UID:10002491-1756407600-1756414800@encinitaschurch.com
SUMMARY:Chancel Choir Practice
DESCRIPTION:San Dieguito  Chancel Choir \nDr. Yewon Lee\nyewon@encinitaschurch.com
URL:https://encinitaschurch.com/event/chancel-choir-practice/
LOCATION:Music Room
END:VEVENT
BEGIN:VEVENT
DTSTART;TZID=America/Los_Angeles:20250826T140000
DTEND;TZID=America/Los_Angeles:20250826T180000
DTSTAMP:20260419T181014
CREATED:20250711T141803Z
LAST-MODIFIED:20250825T235102Z
UID:10002481-1756216800-1756231200@encinitaschurch.com
SUMMARY:North Coast Singers
DESCRIPTION:Melissa Keylock – coaching class
URL:https://encinitaschurch.com/event/north-coast-singers-5/
LOCATION:Music Room
END:VEVENT
BEGIN:VEVENT
DTSTART;TZID=America/Los_Angeles:20250824T130000
DTEND;TZID=America/Los_Angeles:20250824T150000
DTSTAMP:20260419T181014
CREATED:20250731T044414Z
LAST-MODIFIED:20250822T233612Z
UID:10004287-1756040400-1756047600@encinitaschurch.com
SUMMARY:Sorelle Choir Rehearsal
DESCRIPTION:Women’s Chamber Chorus https://www.sorellesandiego.com/
URL:https://encinitaschurch.com/event/sorelle-choir-rehearsal-4/
LOCATION:Music Room
END:VEVENT
BEGIN:VEVENT
DTSTART;TZID=America/Los_Angeles:20250824T104500
DTEND;TZID=America/Los_Angeles:20250824T114500
DTSTAMP:20260419T181014
CREATED:20250711T141803Z
LAST-MODIFIED:20250822T233612Z
UID:10002473-1756032300-1756035900@encinitaschurch.com
SUMMARY:Bell Choir Practice
DESCRIPTION:Youth and Adult Bell Choir Practice
URL:https://encinitaschurch.com/event/bell-choir-practice-7/
LOCATION:Music Room
END:VEVENT
BEGIN:VEVENT
DTSTART;TZID=America/Los_Angeles:20250824T084500
DTEND;TZID=America/Los_Angeles:20250824T091500
DTSTAMP:20260419T181014
CREATED:20250805T234729Z
LAST-MODIFIED:20250822T233612Z
UID:10004310-1756025100-1756026900@encinitaschurch.com
SUMMARY:Aloha Choir
DESCRIPTION:Would you love to join the choir but don’t have time to commit each week?\n \nJoin the Aloha Choir- Starts Sunday\, August 10 \nAugust 10\, 17\, 24. \nMeet in the Choir room at 8:45 to practice for the 9:30 service \nFor more information\, please contact Dr. Yewon Lee at yewon@encinitaschurch.com \n 
URL:https://encinitaschurch.com/event/aloha-choir-5/
LOCATION:Music Room
CATEGORIES:Home Event
END:VEVENT
BEGIN:VEVENT
DTSTART;TZID=America/Los_Angeles:20250817T130000
DTEND;TZID=America/Los_Angeles:20250817T150000
DTSTAMP:20260419T181014
CREATED:20250731T044339Z
LAST-MODIFIED:20250816T230048Z
UID:10004286-1755435600-1755442800@encinitaschurch.com
SUMMARY:Sorelle Choir Rehearsal
DESCRIPTION:Women’s Chamber Chorus https://www.sorellesandiego.com/
URL:https://encinitaschurch.com/event/sorelle-choir-rehearsal-3/
LOCATION:Music Room
END:VEVENT
BEGIN:VEVENT
DTSTART;TZID=America/Los_Angeles:20250817T104500
DTEND;TZID=America/Los_Angeles:20250817T114500
DTSTAMP:20260419T181014
CREATED:20250711T141727Z
LAST-MODIFIED:20250816T230048Z
UID:10002450-1755427500-1755431100@encinitaschurch.com
SUMMARY:Bell Choir Practice
DESCRIPTION:Youth and Adult Bell Choir Practice
URL:https://encinitaschurch.com/event/bell-choir-practice-6/
LOCATION:Music Room
END:VEVENT
BEGIN:VEVENT
DTSTART;TZID=America/Los_Angeles:20250817T084500
DTEND;TZID=America/Los_Angeles:20250817T091500
DTSTAMP:20260419T181014
CREATED:20250805T234652Z
LAST-MODIFIED:20250816T230048Z
UID:10004308-1755420300-1755422100@encinitaschurch.com
SUMMARY:Aloha Choir
DESCRIPTION:Would you love to join the choir but don’t have time to commit each week?\n \nJoin the Aloha Choir- Starts Sunday\, August 10 \nAugust 10\, 17\, 24. \nMeet in the Choir room at 8:45 to practice for the 9:30 service \nFor more information\, please contact Dr. Yewon Lee at yewon@encinitaschurch.com \n 
URL:https://encinitaschurch.com/event/aloha-choir-4/
LOCATION:Music Room
CATEGORIES:Home Event
END:VEVENT
BEGIN:VEVENT
DTSTART;TZID=America/Los_Angeles:20250812T140000
DTEND;TZID=America/Los_Angeles:20250812T180000
DTSTAMP:20260419T181014
CREATED:20250711T141715Z
LAST-MODIFIED:20250812T230117Z
UID:10002435-1755007200-1755021600@encinitaschurch.com
SUMMARY:North Coast Singers
DESCRIPTION:Melissa Keylock – coaching class
URL:https://encinitaschurch.com/event/north-coast-singers-4/
LOCATION:Music Room
END:VEVENT
BEGIN:VEVENT
DTSTART;TZID=America/Los_Angeles:20250810T130000
DTEND;TZID=America/Los_Angeles:20250810T150000
DTSTAMP:20260419T181014
CREATED:20250731T044304Z
LAST-MODIFIED:20250809T233050Z
UID:10004283-1754830800-1754838000@encinitaschurch.com
SUMMARY:Sorelle Choir Rehearsal
DESCRIPTION:Women’s Chamber Chorus https://www.sorellesandiego.com/
URL:https://encinitaschurch.com/event/sorelle-choir-rehearsal-2/
LOCATION:Music Room
END:VEVENT
BEGIN:VEVENT
DTSTART;TZID=America/Los_Angeles:20250810T104500
DTEND;TZID=America/Los_Angeles:20250810T114500
DTSTAMP:20260419T181014
CREATED:20250711T141652Z
LAST-MODIFIED:20250809T233050Z
UID:10002421-1754822700-1754826300@encinitaschurch.com
SUMMARY:Bell Choir Practice
DESCRIPTION:Youth and Adult Bell Choir Practice
URL:https://encinitaschurch.com/event/bell-choir-practice-5/
LOCATION:Music Room
END:VEVENT
END:VCALENDAR