BEGIN:VCALENDAR
VERSION:2.0
PRODID:-//San Dieguito United Methodist Church - ECPv6.15.15//NONSGML v1.0//EN
CALSCALE:GREGORIAN
METHOD:PUBLISH
X-ORIGINAL-URL:https://encinitaschurch.com
X-WR-CALDESC:Events for San Dieguito United Methodist Church
REFRESH-INTERVAL;VALUE=DURATION:PT1H
X-Robots-Tag:noindex
X-PUBLISHED-TTL:PT1H
BEGIN:VTIMEZONE
TZID:America/Los_Angeles
BEGIN:DAYLIGHT
TZOFFSETFROM:-0800
TZOFFSETTO:-0700
TZNAME:PDT
DTSTART:20260308T100000
END:DAYLIGHT
BEGIN:STANDARD
TZOFFSETFROM:-0700
TZOFFSETTO:-0800
TZNAME:PST
DTSTART:20261101T090000
END:STANDARD
BEGIN:DAYLIGHT
TZOFFSETFROM:-0800
TZOFFSETTO:-0700
TZNAME:PDT
DTSTART:20270314T100000
END:DAYLIGHT
BEGIN:STANDARD
TZOFFSETFROM:-0700
TZOFFSETTO:-0800
TZNAME:PST
DTSTART:20271107T090000
END:STANDARD
BEGIN:DAYLIGHT
TZOFFSETFROM:-0800
TZOFFSETTO:-0700
TZNAME:PDT
DTSTART:20280312T100000
END:DAYLIGHT
BEGIN:STANDARD
TZOFFSETFROM:-0700
TZOFFSETTO:-0800
TZNAME:PST
DTSTART:20281105T090000
END:STANDARD
END:VTIMEZONE
BEGIN:VEVENT
DTSTART;TZID=America/Los_Angeles:20270408T190000
DTEND;TZID=America/Los_Angeles:20270408T210000
DTSTAMP:20260419T212108
CREATED:20250730T021933Z
LAST-MODIFIED:20250730T021933Z
UID:10004254-1807210800-1807218000@encinitaschurch.com
SUMMARY:Chancel Choir Practice
DESCRIPTION:San Dieguito  Chancel Choir \nDr. Yewon Lee\nyewon@encinitaschurch.com
URL:https://encinitaschurch.com/event/chancel-choir-practice-85/
LOCATION:Music Room
END:VEVENT
BEGIN:VEVENT
DTSTART;TZID=America/Los_Angeles:20270411T104500
DTEND;TZID=America/Los_Angeles:20270411T114500
DTSTAMP:20260419T212108
CREATED:20250730T021933Z
LAST-MODIFIED:20250730T021933Z
UID:10004256-1807440300-1807443900@encinitaschurch.com
SUMMARY:Bell Choir Practice
DESCRIPTION:Youth and Adult Bell Choir Practice
URL:https://encinitaschurch.com/event/bell-choir-practice-92/
LOCATION:Music Room
END:VEVENT
BEGIN:VEVENT
DTSTART;TZID=America/Los_Angeles:20270415T190000
DTEND;TZID=America/Los_Angeles:20270415T210000
DTSTAMP:20260419T212108
CREATED:20250730T021957Z
LAST-MODIFIED:20250730T021957Z
UID:10004271-1807815600-1807822800@encinitaschurch.com
SUMMARY:Chancel Choir Practice
DESCRIPTION:San Dieguito  Chancel Choir \nDr. Yewon Lee\nyewon@encinitaschurch.com
URL:https://encinitaschurch.com/event/chancel-choir-practice-86/
LOCATION:Music Room
END:VEVENT
BEGIN:VEVENT
DTSTART;TZID=America/Los_Angeles:20270418T104500
DTEND;TZID=America/Los_Angeles:20270418T114500
DTSTAMP:20260419T212108
CREATED:20250730T021957Z
LAST-MODIFIED:20250815T041458Z
UID:10004274-1808045100-1808048700@encinitaschurch.com
SUMMARY:Bell Choir Practice
DESCRIPTION:Youth and Adult Bell Choir Practice
URL:https://encinitaschurch.com/event/bell-choir-practice-93/
LOCATION:Music Room
END:VEVENT
BEGIN:VEVENT
DTSTART;TZID=America/Los_Angeles:20270422T190000
DTEND;TZID=America/Los_Angeles:20270422T210000
DTSTAMP:20260419T212108
CREATED:20250815T041511Z
LAST-MODIFIED:20250815T041511Z
UID:10004338-1808420400-1808427600@encinitaschurch.com
SUMMARY:Chancel Choir Practice
DESCRIPTION:San Dieguito  Chancel Choir \nDr. Yewon Lee\nyewon@encinitaschurch.com
URL:https://encinitaschurch.com/event/chancel-choir-practice-87/
LOCATION:Music Room
END:VEVENT
BEGIN:VEVENT
DTSTART;TZID=America/Los_Angeles:20270425T104500
DTEND;TZID=America/Los_Angeles:20270425T114500
DTSTAMP:20260419T212108
CREATED:20250815T041511Z
LAST-MODIFIED:20250815T041511Z
UID:10004340-1808649900-1808653500@encinitaschurch.com
SUMMARY:Bell Choir Practice
DESCRIPTION:Youth and Adult Bell Choir Practice
URL:https://encinitaschurch.com/event/bell-choir-practice-94/
LOCATION:Music Room
END:VEVENT
BEGIN:VEVENT
DTSTART;TZID=America/Los_Angeles:20270429T190000
DTEND;TZID=America/Los_Angeles:20270429T210000
DTSTAMP:20260419T212108
CREATED:20250815T041524Z
LAST-MODIFIED:20250815T041524Z
UID:10004352-1809025200-1809032400@encinitaschurch.com
SUMMARY:Chancel Choir Practice
DESCRIPTION:San Dieguito  Chancel Choir \nDr. Yewon Lee\nyewon@encinitaschurch.com
URL:https://encinitaschurch.com/event/chancel-choir-practice-88/
LOCATION:Music Room
END:VEVENT
BEGIN:VEVENT
DTSTART;TZID=America/Los_Angeles:20270502T104500
DTEND;TZID=America/Los_Angeles:20270502T114500
DTSTAMP:20260419T212108
CREATED:20250815T041536Z
LAST-MODIFIED:20250815T041536Z
UID:10004356-1809254700-1809258300@encinitaschurch.com
SUMMARY:Bell Choir Practice
DESCRIPTION:Youth and Adult Bell Choir Practice
URL:https://encinitaschurch.com/event/bell-choir-practice-95/
LOCATION:Music Room
END:VEVENT
BEGIN:VEVENT
DTSTART;TZID=America/Los_Angeles:20270506T190000
DTEND;TZID=America/Los_Angeles:20270506T210000
DTSTAMP:20260419T212108
CREATED:20250815T041549Z
LAST-MODIFIED:20250815T041549Z
UID:10004366-1809630000-1809637200@encinitaschurch.com
SUMMARY:Chancel Choir Practice
DESCRIPTION:San Dieguito  Chancel Choir \nDr. Yewon Lee\nyewon@encinitaschurch.com
URL:https://encinitaschurch.com/event/chancel-choir-practice-89/
LOCATION:Music Room
END:VEVENT
BEGIN:VEVENT
DTSTART;TZID=America/Los_Angeles:20270509T104500
DTEND;TZID=America/Los_Angeles:20270509T114500
DTSTAMP:20260419T212108
CREATED:20250815T041550Z
LAST-MODIFIED:20250815T041550Z
UID:10004369-1809859500-1809863100@encinitaschurch.com
SUMMARY:Bell Choir Practice
DESCRIPTION:Youth and Adult Bell Choir Practice
URL:https://encinitaschurch.com/event/bell-choir-practice-96/
LOCATION:Music Room
END:VEVENT
BEGIN:VEVENT
DTSTART;TZID=America/Los_Angeles:20270513T190000
DTEND;TZID=America/Los_Angeles:20270513T210000
DTSTAMP:20260419T212108
CREATED:20250815T041615Z
LAST-MODIFIED:20250815T041615Z
UID:10004385-1810234800-1810242000@encinitaschurch.com
SUMMARY:Chancel Choir Practice
DESCRIPTION:San Dieguito  Chancel Choir \nDr. Yewon Lee\nyewon@encinitaschurch.com
URL:https://encinitaschurch.com/event/chancel-choir-practice-90/
LOCATION:Music Room
END:VEVENT
BEGIN:VEVENT
DTSTART;TZID=America/Los_Angeles:20270516T104500
DTEND;TZID=America/Los_Angeles:20270516T114500
DTSTAMP:20260419T212108
CREATED:20250815T041615Z
LAST-MODIFIED:20250815T041615Z
UID:10004388-1810464300-1810467900@encinitaschurch.com
SUMMARY:Bell Choir Practice
DESCRIPTION:Youth and Adult Bell Choir Practice
URL:https://encinitaschurch.com/event/bell-choir-practice-97/
LOCATION:Music Room
END:VEVENT
BEGIN:VEVENT
DTSTART;TZID=America/Los_Angeles:20270520T190000
DTEND;TZID=America/Los_Angeles:20270520T210000
DTSTAMP:20260419T212108
CREATED:20250815T041628Z
LAST-MODIFIED:20250815T041628Z
UID:10004400-1810839600-1810846800@encinitaschurch.com
SUMMARY:Chancel Choir Practice
DESCRIPTION:San Dieguito  Chancel Choir \nDr. Yewon Lee\nyewon@encinitaschurch.com
URL:https://encinitaschurch.com/event/chancel-choir-practice-91/
LOCATION:Music Room
END:VEVENT
BEGIN:VEVENT
DTSTART;TZID=America/Los_Angeles:20270523T104500
DTEND;TZID=America/Los_Angeles:20270523T114500
DTSTAMP:20260419T212108
CREATED:20250815T041629Z
LAST-MODIFIED:20250815T041629Z
UID:10004402-1811069100-1811072700@encinitaschurch.com
SUMMARY:Bell Choir Practice
DESCRIPTION:Youth and Adult Bell Choir Practice
URL:https://encinitaschurch.com/event/bell-choir-practice-98/
LOCATION:Music Room
END:VEVENT
BEGIN:VEVENT
DTSTART;TZID=America/Los_Angeles:20270527T190000
DTEND;TZID=America/Los_Angeles:20270527T210000
DTSTAMP:20260419T212108
CREATED:20250815T041652Z
LAST-MODIFIED:20250815T041652Z
UID:10004414-1811444400-1811451600@encinitaschurch.com
SUMMARY:Chancel Choir Practice
DESCRIPTION:San Dieguito  Chancel Choir \nDr. Yewon Lee\nyewon@encinitaschurch.com
URL:https://encinitaschurch.com/event/chancel-choir-practice-92/
LOCATION:Music Room
END:VEVENT
BEGIN:VEVENT
DTSTART;TZID=America/Los_Angeles:20270530T104500
DTEND;TZID=America/Los_Angeles:20270530T114500
DTSTAMP:20260419T212108
CREATED:20250815T041652Z
LAST-MODIFIED:20250815T041652Z
UID:10004417-1811673900-1811677500@encinitaschurch.com
SUMMARY:Bell Choir Practice
DESCRIPTION:Youth and Adult Bell Choir Practice
URL:https://encinitaschurch.com/event/bell-choir-practice-99/
LOCATION:Music Room
END:VEVENT
BEGIN:VEVENT
DTSTART;TZID=America/Los_Angeles:20270603T190000
DTEND;TZID=America/Los_Angeles:20270603T210000
DTSTAMP:20260419T212108
CREATED:20250815T041705Z
LAST-MODIFIED:20250815T041705Z
UID:10004428-1812049200-1812056400@encinitaschurch.com
SUMMARY:Chancel Choir Practice
DESCRIPTION:San Dieguito  Chancel Choir \nDr. Yewon Lee\nyewon@encinitaschurch.com
URL:https://encinitaschurch.com/event/chancel-choir-practice-93/
LOCATION:Music Room
END:VEVENT
BEGIN:VEVENT
DTSTART;TZID=America/Los_Angeles:20270606T104500
DTEND;TZID=America/Los_Angeles:20270606T114500
DTSTAMP:20260419T212108
CREATED:20250815T041705Z
LAST-MODIFIED:20250815T041705Z
UID:10004430-1812278700-1812282300@encinitaschurch.com
SUMMARY:Bell Choir Practice
DESCRIPTION:Youth and Adult Bell Choir Practice
URL:https://encinitaschurch.com/event/bell-choir-practice-100/
LOCATION:Music Room
END:VEVENT
BEGIN:VEVENT
DTSTART;TZID=America/Los_Angeles:20270610T190000
DTEND;TZID=America/Los_Angeles:20270610T210000
DTSTAMP:20260419T212108
CREATED:20250815T041731Z
LAST-MODIFIED:20250815T041731Z
UID:10004445-1812654000-1812661200@encinitaschurch.com
SUMMARY:Chancel Choir Practice
DESCRIPTION:San Dieguito  Chancel Choir \nDr. Yewon Lee\nyewon@encinitaschurch.com
URL:https://encinitaschurch.com/event/chancel-choir-practice-94/
LOCATION:Music Room
END:VEVENT
BEGIN:VEVENT
DTSTART;TZID=America/Los_Angeles:20270613T104500
DTEND;TZID=America/Los_Angeles:20270613T114500
DTSTAMP:20260419T212108
CREATED:20250815T041731Z
LAST-MODIFIED:20250815T041731Z
UID:10004448-1812883500-1812887100@encinitaschurch.com
SUMMARY:Bell Choir Practice
DESCRIPTION:Youth and Adult Bell Choir Practice
URL:https://encinitaschurch.com/event/bell-choir-practice-101/
LOCATION:Music Room
END:VEVENT
BEGIN:VEVENT
DTSTART;TZID=America/Los_Angeles:20270617T190000
DTEND;TZID=America/Los_Angeles:20270617T210000
DTSTAMP:20260419T212108
CREATED:20250815T041744Z
LAST-MODIFIED:20250815T041744Z
UID:10004461-1813258800-1813266000@encinitaschurch.com
SUMMARY:Chancel Choir Practice
DESCRIPTION:San Dieguito  Chancel Choir \nDr. Yewon Lee\nyewon@encinitaschurch.com
URL:https://encinitaschurch.com/event/chancel-choir-practice-95/
LOCATION:Music Room
END:VEVENT
BEGIN:VEVENT
DTSTART;TZID=America/Los_Angeles:20270620T104500
DTEND;TZID=America/Los_Angeles:20270620T114500
DTSTAMP:20260419T212108
CREATED:20250815T041757Z
LAST-MODIFIED:20250815T041757Z
UID:10004465-1813488300-1813491900@encinitaschurch.com
SUMMARY:Bell Choir Practice
DESCRIPTION:Youth and Adult Bell Choir Practice
URL:https://encinitaschurch.com/event/bell-choir-practice-102/
LOCATION:Music Room
END:VEVENT
BEGIN:VEVENT
DTSTART;TZID=America/Los_Angeles:20270624T190000
DTEND;TZID=America/Los_Angeles:20270624T210000
DTSTAMP:20260419T212108
CREATED:20250815T041809Z
LAST-MODIFIED:20250815T041809Z
UID:10004474-1813863600-1813870800@encinitaschurch.com
SUMMARY:Chancel Choir Practice
DESCRIPTION:San Dieguito  Chancel Choir \nDr. Yewon Lee\nyewon@encinitaschurch.com
URL:https://encinitaschurch.com/event/chancel-choir-practice-96/
LOCATION:Music Room
END:VEVENT
BEGIN:VEVENT
DTSTART;TZID=America/Los_Angeles:20270627T104500
DTEND;TZID=America/Los_Angeles:20270627T114500
DTSTAMP:20260419T212108
CREATED:20250815T041809Z
LAST-MODIFIED:20250815T041809Z
UID:10004477-1814093100-1814096700@encinitaschurch.com
SUMMARY:Bell Choir Practice
DESCRIPTION:Youth and Adult Bell Choir Practice
URL:https://encinitaschurch.com/event/bell-choir-practice-103/
LOCATION:Music Room
END:VEVENT
BEGIN:VEVENT
DTSTART;TZID=America/Los_Angeles:20270701T190000
DTEND;TZID=America/Los_Angeles:20270701T210000
DTSTAMP:20260419T212108
CREATED:20250815T041822Z
LAST-MODIFIED:20250815T041822Z
UID:10004487-1814468400-1814475600@encinitaschurch.com
SUMMARY:Chancel Choir Practice
DESCRIPTION:San Dieguito  Chancel Choir \nDr. Yewon Lee\nyewon@encinitaschurch.com
URL:https://encinitaschurch.com/event/chancel-choir-practice-97/
LOCATION:Music Room
END:VEVENT
BEGIN:VEVENT
DTSTART;TZID=America/Los_Angeles:20270704T104500
DTEND;TZID=America/Los_Angeles:20270704T114500
DTSTAMP:20260419T212108
CREATED:20250815T041823Z
LAST-MODIFIED:20250815T041823Z
UID:10004490-1814697900-1814701500@encinitaschurch.com
SUMMARY:Bell Choir Practice
DESCRIPTION:Youth and Adult Bell Choir Practice
URL:https://encinitaschurch.com/event/bell-choir-practice-104/
LOCATION:Music Room
END:VEVENT
BEGIN:VEVENT
DTSTART;TZID=America/Los_Angeles:20270708T190000
DTEND;TZID=America/Los_Angeles:20270708T210000
DTSTAMP:20260419T212108
CREATED:20250815T041835Z
LAST-MODIFIED:20250815T041835Z
UID:10004502-1815073200-1815080400@encinitaschurch.com
SUMMARY:Chancel Choir Practice
DESCRIPTION:San Dieguito  Chancel Choir \nDr. Yewon Lee\nyewon@encinitaschurch.com
URL:https://encinitaschurch.com/event/chancel-choir-practice-98/
LOCATION:Music Room
END:VEVENT
BEGIN:VEVENT
DTSTART;TZID=America/Los_Angeles:20270711T104500
DTEND;TZID=America/Los_Angeles:20270711T114500
DTSTAMP:20260419T212108
CREATED:20250815T041847Z
LAST-MODIFIED:20250815T041847Z
UID:10004504-1815302700-1815306300@encinitaschurch.com
SUMMARY:Bell Choir Practice
DESCRIPTION:Youth and Adult Bell Choir Practice
URL:https://encinitaschurch.com/event/bell-choir-practice-105/
LOCATION:Music Room
END:VEVENT
BEGIN:VEVENT
DTSTART;TZID=America/Los_Angeles:20270715T190000
DTEND;TZID=America/Los_Angeles:20270715T210000
DTSTAMP:20260419T212108
CREATED:20250815T041859Z
LAST-MODIFIED:20250815T041859Z
UID:10004518-1815678000-1815685200@encinitaschurch.com
SUMMARY:Chancel Choir Practice
DESCRIPTION:San Dieguito  Chancel Choir \nDr. Yewon Lee\nyewon@encinitaschurch.com
URL:https://encinitaschurch.com/event/chancel-choir-practice-99/
LOCATION:Music Room
END:VEVENT
BEGIN:VEVENT
DTSTART;TZID=America/Los_Angeles:20270718T104500
DTEND;TZID=America/Los_Angeles:20270718T114500
DTSTAMP:20260419T212108
CREATED:20250815T041859Z
LAST-MODIFIED:20250815T041859Z
UID:10004521-1815907500-1815911100@encinitaschurch.com
SUMMARY:Bell Choir Practice
DESCRIPTION:Youth and Adult Bell Choir Practice
URL:https://encinitaschurch.com/event/bell-choir-practice-106/
LOCATION:Music Room
END:VEVENT
END:VCALENDAR