BEGIN:VCALENDAR
VERSION:2.0
PRODID:-//San Dieguito United Methodist Church - ECPv6.15.15//NONSGML v1.0//EN
CALSCALE:GREGORIAN
METHOD:PUBLISH
X-WR-CALNAME:San Dieguito United Methodist Church
X-ORIGINAL-URL:https://encinitaschurch.com
X-WR-CALDESC:Events for San Dieguito United Methodist Church
REFRESH-INTERVAL;VALUE=DURATION:PT1H
X-Robots-Tag:noindex
X-PUBLISHED-TTL:PT1H
BEGIN:VTIMEZONE
TZID:America/Los_Angeles
BEGIN:DAYLIGHT
TZOFFSETFROM:-0800
TZOFFSETTO:-0700
TZNAME:PDT
DTSTART:20250309T100000
END:DAYLIGHT
BEGIN:STANDARD
TZOFFSETFROM:-0700
TZOFFSETTO:-0800
TZNAME:PST
DTSTART:20251102T090000
END:STANDARD
BEGIN:DAYLIGHT
TZOFFSETFROM:-0800
TZOFFSETTO:-0700
TZNAME:PDT
DTSTART:20260308T100000
END:DAYLIGHT
BEGIN:STANDARD
TZOFFSETFROM:-0700
TZOFFSETTO:-0800
TZNAME:PST
DTSTART:20261101T090000
END:STANDARD
BEGIN:DAYLIGHT
TZOFFSETFROM:-0800
TZOFFSETTO:-0700
TZNAME:PDT
DTSTART:20270314T100000
END:DAYLIGHT
BEGIN:STANDARD
TZOFFSETFROM:-0700
TZOFFSETTO:-0800
TZNAME:PST
DTSTART:20271107T090000
END:STANDARD
BEGIN:DAYLIGHT
TZOFFSETFROM:-0800
TZOFFSETTO:-0700
TZNAME:PDT
DTSTART:20280312T100000
END:DAYLIGHT
BEGIN:STANDARD
TZOFFSETFROM:-0700
TZOFFSETTO:-0800
TZNAME:PST
DTSTART:20281105T090000
END:STANDARD
END:VTIMEZONE
BEGIN:VEVENT
DTSTART;TZID=America/Los_Angeles:20261112T190000
DTEND;TZID=America/Los_Angeles:20261112T210000
DTSTAMP:20260419T133120
CREATED:20250730T000910Z
LAST-MODIFIED:20250730T000910Z
UID:10003906-1794510000-1794517200@encinitaschurch.com
SUMMARY:Chancel Choir Practice
DESCRIPTION:San Dieguito  Chancel Choir \nDr. Yewon Lee\nyewon@encinitaschurch.com
URL:https://encinitaschurch.com/event/chancel-choir-practice-64/
LOCATION:Music Room
END:VEVENT
BEGIN:VEVENT
DTSTART;TZID=America/Los_Angeles:20261115T104500
DTEND;TZID=America/Los_Angeles:20261115T114500
DTSTAMP:20260419T133120
CREATED:20250730T000910Z
LAST-MODIFIED:20250730T000910Z
UID:10003910-1794739500-1794743100@encinitaschurch.com
SUMMARY:Bell Choir Practice
DESCRIPTION:Youth and Adult Bell Choir Practice
URL:https://encinitaschurch.com/event/bell-choir-practice-71/
LOCATION:Music Room
END:VEVENT
BEGIN:VEVENT
DTSTART;TZID=America/Los_Angeles:20261119T190000
DTEND;TZID=America/Los_Angeles:20261119T210000
DTSTAMP:20260419T133120
CREATED:20250730T000924Z
LAST-MODIFIED:20250730T000924Z
UID:10003924-1795114800-1795122000@encinitaschurch.com
SUMMARY:Chancel Choir Practice
DESCRIPTION:San Dieguito  Chancel Choir \nDr. Yewon Lee\nyewon@encinitaschurch.com
URL:https://encinitaschurch.com/event/chancel-choir-practice-65/
LOCATION:Music Room
END:VEVENT
BEGIN:VEVENT
DTSTART;TZID=America/Los_Angeles:20261122T104500
DTEND;TZID=America/Los_Angeles:20261122T114500
DTSTAMP:20260419T133120
CREATED:20250730T000937Z
LAST-MODIFIED:20250730T000937Z
UID:10003929-1795344300-1795347900@encinitaschurch.com
SUMMARY:Bell Choir Practice
DESCRIPTION:Youth and Adult Bell Choir Practice
URL:https://encinitaschurch.com/event/bell-choir-practice-72/
LOCATION:Music Room
END:VEVENT
BEGIN:VEVENT
DTSTART;TZID=America/Los_Angeles:20261126T190000
DTEND;TZID=America/Los_Angeles:20261126T210000
DTSTAMP:20260419T133120
CREATED:20250730T000949Z
LAST-MODIFIED:20250730T000949Z
UID:10003940-1795719600-1795726800@encinitaschurch.com
SUMMARY:Chancel Choir Practice
DESCRIPTION:San Dieguito  Chancel Choir \nDr. Yewon Lee\nyewon@encinitaschurch.com
URL:https://encinitaschurch.com/event/chancel-choir-practice-66/
LOCATION:Music Room
END:VEVENT
BEGIN:VEVENT
DTSTART;TZID=America/Los_Angeles:20261129T104500
DTEND;TZID=America/Los_Angeles:20261129T114500
DTSTAMP:20260419T133120
CREATED:20250730T001002Z
LAST-MODIFIED:20250730T001002Z
UID:10003946-1795949100-1795952700@encinitaschurch.com
SUMMARY:Bell Choir Practice
DESCRIPTION:Youth and Adult Bell Choir Practice
URL:https://encinitaschurch.com/event/bell-choir-practice-73/
LOCATION:Music Room
END:VEVENT
BEGIN:VEVENT
DTSTART;TZID=America/Los_Angeles:20261203T190000
DTEND;TZID=America/Los_Angeles:20261203T210000
DTSTAMP:20260419T133120
CREATED:20250730T001017Z
LAST-MODIFIED:20250730T001017Z
UID:10003958-1796324400-1796331600@encinitaschurch.com
SUMMARY:Chancel Choir Practice
DESCRIPTION:San Dieguito  Chancel Choir \nDr. Yewon Lee\nyewon@encinitaschurch.com
URL:https://encinitaschurch.com/event/chancel-choir-practice-67/
LOCATION:Music Room
END:VEVENT
BEGIN:VEVENT
DTSTART;TZID=America/Los_Angeles:20261206T104500
DTEND;TZID=America/Los_Angeles:20261206T114500
DTSTAMP:20260419T133120
CREATED:20250730T001017Z
LAST-MODIFIED:20250730T001017Z
UID:10003963-1796553900-1796557500@encinitaschurch.com
SUMMARY:Bell Choir Practice
DESCRIPTION:Youth and Adult Bell Choir Practice
URL:https://encinitaschurch.com/event/bell-choir-practice-74/
LOCATION:Music Room
END:VEVENT
BEGIN:VEVENT
DTSTART;TZID=America/Los_Angeles:20261210T190000
DTEND;TZID=America/Los_Angeles:20261210T210000
DTSTAMP:20260419T133120
CREATED:20250730T001044Z
LAST-MODIFIED:20250730T001044Z
UID:10003979-1796929200-1796936400@encinitaschurch.com
SUMMARY:Chancel Choir Practice
DESCRIPTION:San Dieguito  Chancel Choir \nDr. Yewon Lee\nyewon@encinitaschurch.com
URL:https://encinitaschurch.com/event/chancel-choir-practice-68/
LOCATION:Music Room
END:VEVENT
BEGIN:VEVENT
DTSTART;TZID=America/Los_Angeles:20261213T104500
DTEND;TZID=America/Los_Angeles:20261213T114500
DTSTAMP:20260419T133120
CREATED:20250730T001057Z
LAST-MODIFIED:20250730T001057Z
UID:10003988-1797158700-1797162300@encinitaschurch.com
SUMMARY:Bell Choir Practice
DESCRIPTION:Youth and Adult Bell Choir Practice
URL:https://encinitaschurch.com/event/bell-choir-practice-75/
LOCATION:Music Room
END:VEVENT
BEGIN:VEVENT
DTSTART;TZID=America/Los_Angeles:20261217T190000
DTEND;TZID=America/Los_Angeles:20261217T210000
DTSTAMP:20260419T133120
CREATED:20250730T001110Z
LAST-MODIFIED:20250730T001110Z
UID:10004001-1797534000-1797541200@encinitaschurch.com
SUMMARY:Chancel Choir Practice
DESCRIPTION:San Dieguito  Chancel Choir \nDr. Yewon Lee\nyewon@encinitaschurch.com
URL:https://encinitaschurch.com/event/chancel-choir-practice-69/
LOCATION:Music Room
END:VEVENT
BEGIN:VEVENT
DTSTART;TZID=America/Los_Angeles:20261220T104500
DTEND;TZID=America/Los_Angeles:20261220T114500
DTSTAMP:20260419T133120
CREATED:20250730T001122Z
LAST-MODIFIED:20250730T001122Z
UID:10004007-1797763500-1797767100@encinitaschurch.com
SUMMARY:Bell Choir Practice
DESCRIPTION:Youth and Adult Bell Choir Practice
URL:https://encinitaschurch.com/event/bell-choir-practice-76/
LOCATION:Music Room
END:VEVENT
BEGIN:VEVENT
DTSTART;TZID=America/Los_Angeles:20261224T190000
DTEND;TZID=America/Los_Angeles:20261224T210000
DTSTAMP:20260419T133120
CREATED:20250730T001136Z
LAST-MODIFIED:20250730T001136Z
UID:10004019-1798138800-1798146000@encinitaschurch.com
SUMMARY:Chancel Choir Practice
DESCRIPTION:San Dieguito  Chancel Choir \nDr. Yewon Lee\nyewon@encinitaschurch.com
URL:https://encinitaschurch.com/event/chancel-choir-practice-70/
LOCATION:Music Room
END:VEVENT
BEGIN:VEVENT
DTSTART;TZID=America/Los_Angeles:20261227T104500
DTEND;TZID=America/Los_Angeles:20261227T114500
DTSTAMP:20260419T133120
CREATED:20250730T001136Z
LAST-MODIFIED:20250730T001136Z
UID:10004023-1798368300-1798371900@encinitaschurch.com
SUMMARY:Bell Choir Practice
DESCRIPTION:Youth and Adult Bell Choir Practice
URL:https://encinitaschurch.com/event/bell-choir-practice-77/
LOCATION:Music Room
END:VEVENT
BEGIN:VEVENT
DTSTART;TZID=America/Los_Angeles:20261231T190000
DTEND;TZID=America/Los_Angeles:20261231T210000
DTSTAMP:20260419T133120
CREATED:20250730T001200Z
LAST-MODIFIED:20250730T001200Z
UID:10004036-1798743600-1798750800@encinitaschurch.com
SUMMARY:Chancel Choir Practice
DESCRIPTION:San Dieguito  Chancel Choir \nDr. Yewon Lee\nyewon@encinitaschurch.com
URL:https://encinitaschurch.com/event/chancel-choir-practice-71/
LOCATION:Music Room
END:VEVENT
BEGIN:VEVENT
DTSTART;TZID=America/Los_Angeles:20270103T104500
DTEND;TZID=America/Los_Angeles:20270103T114500
DTSTAMP:20260419T133120
CREATED:20250730T001201Z
LAST-MODIFIED:20250730T001201Z
UID:10004040-1798973100-1798976700@encinitaschurch.com
SUMMARY:Bell Choir Practice
DESCRIPTION:Youth and Adult Bell Choir Practice
URL:https://encinitaschurch.com/event/bell-choir-practice-78/
LOCATION:Music Room
END:VEVENT
BEGIN:VEVENT
DTSTART;TZID=America/Los_Angeles:20270107T190000
DTEND;TZID=America/Los_Angeles:20270107T210000
DTSTAMP:20260419T133120
CREATED:20250730T001215Z
LAST-MODIFIED:20250730T001215Z
UID:10004053-1799348400-1799355600@encinitaschurch.com
SUMMARY:Chancel Choir Practice
DESCRIPTION:San Dieguito  Chancel Choir \nDr. Yewon Lee\nyewon@encinitaschurch.com
URL:https://encinitaschurch.com/event/chancel-choir-practice-72/
LOCATION:Music Room
END:VEVENT
BEGIN:VEVENT
DTSTART;TZID=America/Los_Angeles:20270110T104500
DTEND;TZID=America/Los_Angeles:20270110T114500
DTSTAMP:20260419T133120
CREATED:20250730T001227Z
LAST-MODIFIED:20250730T001227Z
UID:10004057-1799577900-1799581500@encinitaschurch.com
SUMMARY:Bell Choir Practice
DESCRIPTION:Youth and Adult Bell Choir Practice
URL:https://encinitaschurch.com/event/bell-choir-practice-79/
LOCATION:Music Room
END:VEVENT
BEGIN:VEVENT
DTSTART;TZID=America/Los_Angeles:20270114T190000
DTEND;TZID=America/Los_Angeles:20270114T210000
DTSTAMP:20260419T133120
CREATED:20250730T001240Z
LAST-MODIFIED:20250730T001240Z
UID:10004072-1799953200-1799960400@encinitaschurch.com
SUMMARY:Chancel Choir Practice
DESCRIPTION:San Dieguito  Chancel Choir \nDr. Yewon Lee\nyewon@encinitaschurch.com
URL:https://encinitaschurch.com/event/chancel-choir-practice-73/
LOCATION:Music Room
END:VEVENT
BEGIN:VEVENT
DTSTART;TZID=America/Los_Angeles:20270117T104500
DTEND;TZID=America/Los_Angeles:20270117T114500
DTSTAMP:20260419T133120
CREATED:20250730T001240Z
LAST-MODIFIED:20250730T001240Z
UID:10004075-1800182700-1800186300@encinitaschurch.com
SUMMARY:Bell Choir Practice
DESCRIPTION:Youth and Adult Bell Choir Practice
URL:https://encinitaschurch.com/event/bell-choir-practice-80/
LOCATION:Music Room
END:VEVENT
BEGIN:VEVENT
DTSTART;TZID=America/Los_Angeles:20270121T190000
DTEND;TZID=America/Los_Angeles:20270121T210000
DTSTAMP:20260419T133120
CREATED:20250730T001304Z
LAST-MODIFIED:20250730T021604Z
UID:10004086-1800558000-1800565200@encinitaschurch.com
SUMMARY:Chancel Choir Practice
DESCRIPTION:San Dieguito  Chancel Choir \nDr. Yewon Lee\nyewon@encinitaschurch.com
URL:https://encinitaschurch.com/event/chancel-choir-practice-74/
LOCATION:Music Room
END:VEVENT
BEGIN:VEVENT
DTSTART;TZID=America/Los_Angeles:20270124T104500
DTEND;TZID=America/Los_Angeles:20270124T114500
DTSTAMP:20260419T133120
CREATED:20250730T001304Z
LAST-MODIFIED:20250730T021604Z
UID:10004089-1800787500-1800791100@encinitaschurch.com
SUMMARY:Bell Choir Practice
DESCRIPTION:Youth and Adult Bell Choir Practice
URL:https://encinitaschurch.com/event/bell-choir-practice-81/
LOCATION:Music Room
END:VEVENT
BEGIN:VEVENT
DTSTART;TZID=America/Los_Angeles:20270128T190000
DTEND;TZID=America/Los_Angeles:20270128T210000
DTSTAMP:20260419T133120
CREATED:20250730T021617Z
LAST-MODIFIED:20250730T021617Z
UID:10004100-1801162800-1801170000@encinitaschurch.com
SUMMARY:Chancel Choir Practice
DESCRIPTION:San Dieguito  Chancel Choir \nDr. Yewon Lee\nyewon@encinitaschurch.com
URL:https://encinitaschurch.com/event/chancel-choir-practice-75/
LOCATION:Music Room
END:VEVENT
BEGIN:VEVENT
DTSTART;TZID=America/Los_Angeles:20270131T104500
DTEND;TZID=America/Los_Angeles:20270131T114500
DTSTAMP:20260419T133120
CREATED:20250730T021628Z
LAST-MODIFIED:20250730T021628Z
UID:10004103-1801392300-1801395900@encinitaschurch.com
SUMMARY:Bell Choir Practice
DESCRIPTION:Youth and Adult Bell Choir Practice
URL:https://encinitaschurch.com/event/bell-choir-practice-82/
LOCATION:Music Room
END:VEVENT
BEGIN:VEVENT
DTSTART;TZID=America/Los_Angeles:20270204T190000
DTEND;TZID=America/Los_Angeles:20270204T210000
DTSTAMP:20260419T133120
CREATED:20250730T021641Z
LAST-MODIFIED:20250730T021641Z
UID:10004115-1801767600-1801774800@encinitaschurch.com
SUMMARY:Chancel Choir Practice
DESCRIPTION:San Dieguito  Chancel Choir \nDr. Yewon Lee\nyewon@encinitaschurch.com
URL:https://encinitaschurch.com/event/chancel-choir-practice-76/
LOCATION:Music Room
END:VEVENT
BEGIN:VEVENT
DTSTART;TZID=America/Los_Angeles:20270207T104500
DTEND;TZID=America/Los_Angeles:20270207T114500
DTSTAMP:20260419T133120
CREATED:20250730T021641Z
LAST-MODIFIED:20250730T021641Z
UID:10004118-1801997100-1802000700@encinitaschurch.com
SUMMARY:Bell Choir Practice
DESCRIPTION:Youth and Adult Bell Choir Practice
URL:https://encinitaschurch.com/event/bell-choir-practice-83/
LOCATION:Music Room
END:VEVENT
BEGIN:VEVENT
DTSTART;TZID=America/Los_Angeles:20270211T190000
DTEND;TZID=America/Los_Angeles:20270211T210000
DTSTAMP:20260419T133120
CREATED:20250730T021704Z
LAST-MODIFIED:20250730T021704Z
UID:10004133-1802372400-1802379600@encinitaschurch.com
SUMMARY:Chancel Choir Practice
DESCRIPTION:San Dieguito  Chancel Choir \nDr. Yewon Lee\nyewon@encinitaschurch.com
URL:https://encinitaschurch.com/event/chancel-choir-practice-77/
LOCATION:Music Room
END:VEVENT
BEGIN:VEVENT
DTSTART;TZID=America/Los_Angeles:20270214T104500
DTEND;TZID=America/Los_Angeles:20270214T114500
DTSTAMP:20260419T133120
CREATED:20250730T021705Z
LAST-MODIFIED:20250730T021705Z
UID:10004136-1802601900-1802605500@encinitaschurch.com
SUMMARY:Bell Choir Practice
DESCRIPTION:Youth and Adult Bell Choir Practice
URL:https://encinitaschurch.com/event/bell-choir-practice-84/
LOCATION:Music Room
END:VEVENT
BEGIN:VEVENT
DTSTART;TZID=America/Los_Angeles:20270218T190000
DTEND;TZID=America/Los_Angeles:20270218T210000
DTSTAMP:20260419T133120
CREATED:20250730T021716Z
LAST-MODIFIED:20250730T021716Z
UID:10004149-1802977200-1802984400@encinitaschurch.com
SUMMARY:Chancel Choir Practice
DESCRIPTION:San Dieguito  Chancel Choir \nDr. Yewon Lee\nyewon@encinitaschurch.com
URL:https://encinitaschurch.com/event/chancel-choir-practice-78/
LOCATION:Music Room
END:VEVENT
BEGIN:VEVENT
DTSTART;TZID=America/Los_Angeles:20270221T104500
DTEND;TZID=America/Los_Angeles:20270221T114500
DTSTAMP:20260419T133120
CREATED:20250730T021729Z
LAST-MODIFIED:20250730T021729Z
UID:10004151-1803206700-1803210300@encinitaschurch.com
SUMMARY:Bell Choir Practice
DESCRIPTION:Youth and Adult Bell Choir Practice
URL:https://encinitaschurch.com/event/bell-choir-practice-85/
LOCATION:Music Room
END:VEVENT
END:VCALENDAR