BEGIN:VCALENDAR
VERSION:2.0
PRODID:-//San Dieguito United Methodist Church - ECPv6.15.15//NONSGML v1.0//EN
CALSCALE:GREGORIAN
METHOD:PUBLISH
X-ORIGINAL-URL:https://encinitaschurch.com
X-WR-CALDESC:Events for San Dieguito United Methodist Church
REFRESH-INTERVAL;VALUE=DURATION:PT1H
X-Robots-Tag:noindex
X-PUBLISHED-TTL:PT1H
BEGIN:VTIMEZONE
TZID:America/Los_Angeles
BEGIN:DAYLIGHT
TZOFFSETFROM:-0800
TZOFFSETTO:-0700
TZNAME:PDT
DTSTART:20250309T100000
END:DAYLIGHT
BEGIN:STANDARD
TZOFFSETFROM:-0700
TZOFFSETTO:-0800
TZNAME:PST
DTSTART:20251102T090000
END:STANDARD
BEGIN:DAYLIGHT
TZOFFSETFROM:-0800
TZOFFSETTO:-0700
TZNAME:PDT
DTSTART:20260308T100000
END:DAYLIGHT
BEGIN:STANDARD
TZOFFSETFROM:-0700
TZOFFSETTO:-0800
TZNAME:PST
DTSTART:20261101T090000
END:STANDARD
BEGIN:DAYLIGHT
TZOFFSETFROM:-0800
TZOFFSETTO:-0700
TZNAME:PDT
DTSTART:20270314T100000
END:DAYLIGHT
BEGIN:STANDARD
TZOFFSETFROM:-0700
TZOFFSETTO:-0800
TZNAME:PST
DTSTART:20271107T090000
END:STANDARD
END:VTIMEZONE
BEGIN:VEVENT
DTSTART;TZID=America/Los_Angeles:20260821T193000
DTEND;TZID=America/Los_Angeles:20260821T203000
DTSTAMP:20260421T204025
CREATED:20260223T220240Z
LAST-MODIFIED:20260223T220240Z
UID:10005557-1787340600-1787344200@encinitaschurch.com
SUMMARY:AA Group Meeting
DESCRIPTION:
URL:https://encinitaschurch.com/event/aa-group-meeting-268/
LOCATION:Room 9/10
END:VEVENT
BEGIN:VEVENT
DTSTART;TZID=America/Los_Angeles:20260822T100000
DTEND;TZID=America/Los_Angeles:20260822T113000
DTSTAMP:20260421T204025
CREATED:20250729T235934Z
LAST-MODIFIED:20260223T220240Z
UID:10003686-1787392800-1787398200@encinitaschurch.com
SUMMARY:AA Group Meeting
DESCRIPTION:
URL:https://encinitaschurch.com/event/aa-group-meeting-154/
LOCATION:Room 9/10
END:VEVENT
BEGIN:VEVENT
DTSTART;TZID=America/Los_Angeles:20260824T193000
DTEND;TZID=America/Los_Angeles:20260824T203000
DTSTAMP:20260421T204025
CREATED:20260223T220254Z
LAST-MODIFIED:20260223T220254Z
UID:10005560-1787599800-1787603400@encinitaschurch.com
SUMMARY:AA Group Meeting
DESCRIPTION:
URL:https://encinitaschurch.com/event/aa-group-meeting-269/
LOCATION:Room 9/10
END:VEVENT
BEGIN:VEVENT
DTSTART;TZID=America/Los_Angeles:20260825T190000
DTEND;TZID=America/Los_Angeles:20260825T210000
DTSTAMP:20260421T204025
CREATED:20260223T220254Z
LAST-MODIFIED:20260223T220254Z
UID:10005562-1787684400-1787691600@encinitaschurch.com
SUMMARY:Scouts Troop 774
DESCRIPTION:
URL:https://encinitaschurch.com/event/scouts-troop-774-30/
LOCATION:Room 9/10
END:VEVENT
BEGIN:VEVENT
DTSTART;TZID=America/Los_Angeles:20260826T193000
DTEND;TZID=America/Los_Angeles:20260826T213000
DTSTAMP:20260421T204025
CREATED:20250729T235947Z
LAST-MODIFIED:20260223T220306Z
UID:10003698-1787772600-1787779800@encinitaschurch.com
SUMMARY:AA Group Meeting
DESCRIPTION:
URL:https://encinitaschurch.com/event/aa-group-meeting-155/
LOCATION:Room 9/10
END:VEVENT
BEGIN:VEVENT
DTSTART;TZID=America/Los_Angeles:20260828T193000
DTEND;TZID=America/Los_Angeles:20260828T203000
DTSTAMP:20260421T204025
CREATED:20260223T220306Z
LAST-MODIFIED:20260223T220306Z
UID:10005567-1787945400-1787949000@encinitaschurch.com
SUMMARY:AA Group Meeting
DESCRIPTION:
URL:https://encinitaschurch.com/event/aa-group-meeting-270/
LOCATION:Room 9/10
END:VEVENT
BEGIN:VEVENT
DTSTART;TZID=America/Los_Angeles:20260829T100000
DTEND;TZID=America/Los_Angeles:20260829T113000
DTSTAMP:20260421T204025
CREATED:20250730T000001Z
LAST-MODIFIED:20260223T220307Z
UID:10003703-1787997600-1788003000@encinitaschurch.com
SUMMARY:AA Group Meeting
DESCRIPTION:
URL:https://encinitaschurch.com/event/aa-group-meeting-156/
LOCATION:Room 9/10
END:VEVENT
BEGIN:VEVENT
DTSTART;TZID=America/Los_Angeles:20260831T193000
DTEND;TZID=America/Los_Angeles:20260831T203000
DTSTAMP:20260421T204025
CREATED:20260223T220320Z
LAST-MODIFIED:20260223T220320Z
UID:10005570-1788204600-1788208200@encinitaschurch.com
SUMMARY:AA Group Meeting
DESCRIPTION:
URL:https://encinitaschurch.com/event/aa-group-meeting-271/
LOCATION:Room 9/10
END:VEVENT
BEGIN:VEVENT
DTSTART;TZID=America/Los_Angeles:20260901T190000
DTEND;TZID=America/Los_Angeles:20260901T210000
DTSTAMP:20260421T204025
CREATED:20260223T220320Z
LAST-MODIFIED:20260223T220320Z
UID:10005572-1788289200-1788296400@encinitaschurch.com
SUMMARY:Scouts Troop 774
DESCRIPTION:
URL:https://encinitaschurch.com/event/scouts-troop-774-31/
LOCATION:Room 9/10
END:VEVENT
BEGIN:VEVENT
DTSTART;TZID=America/Los_Angeles:20260902T193000
DTEND;TZID=America/Los_Angeles:20260902T213000
DTSTAMP:20260421T204025
CREATED:20250730T000016Z
LAST-MODIFIED:20260223T220334Z
UID:10003714-1788377400-1788384600@encinitaschurch.com
SUMMARY:AA Group Meeting
DESCRIPTION:
URL:https://encinitaschurch.com/event/aa-group-meeting-157/
LOCATION:Room 9/10
END:VEVENT
BEGIN:VEVENT
DTSTART;TZID=America/Los_Angeles:20260904T193000
DTEND;TZID=America/Los_Angeles:20260904T203000
DTSTAMP:20260421T204025
CREATED:20260223T220334Z
LAST-MODIFIED:20260223T220334Z
UID:10005579-1788550200-1788553800@encinitaschurch.com
SUMMARY:AA Group Meeting
DESCRIPTION:
URL:https://encinitaschurch.com/event/aa-group-meeting-272/
LOCATION:Room 9/10
END:VEVENT
BEGIN:VEVENT
DTSTART;TZID=America/Los_Angeles:20260905T100000
DTEND;TZID=America/Los_Angeles:20260905T113000
DTSTAMP:20260421T204025
CREATED:20250730T000016Z
LAST-MODIFIED:20260223T220335Z
UID:10003720-1788602400-1788607800@encinitaschurch.com
SUMMARY:AA Group Meeting
DESCRIPTION:
URL:https://encinitaschurch.com/event/aa-group-meeting-158/
LOCATION:Room 9/10
END:VEVENT
BEGIN:VEVENT
DTSTART;TZID=America/Los_Angeles:20260907T193000
DTEND;TZID=America/Los_Angeles:20260907T203000
DTSTAMP:20260421T204025
CREATED:20260223T220348Z
LAST-MODIFIED:20260223T220348Z
UID:10005581-1788809400-1788813000@encinitaschurch.com
SUMMARY:AA Group Meeting
DESCRIPTION:
URL:https://encinitaschurch.com/event/aa-group-meeting-273/
LOCATION:Room 9/10
END:VEVENT
BEGIN:VEVENT
DTSTART;TZID=America/Los_Angeles:20260908T190000
DTEND;TZID=America/Los_Angeles:20260908T210000
DTSTAMP:20260421T204025
CREATED:20260223T220401Z
LAST-MODIFIED:20260223T220401Z
UID:10005583-1788894000-1788901200@encinitaschurch.com
SUMMARY:Scouts Troop 774
DESCRIPTION:
URL:https://encinitaschurch.com/event/scouts-troop-774-32/
LOCATION:Room 9/10
END:VEVENT
BEGIN:VEVENT
DTSTART;TZID=America/Los_Angeles:20260909T193000
DTEND;TZID=America/Los_Angeles:20260909T213000
DTSTAMP:20260421T204025
CREATED:20250730T000042Z
LAST-MODIFIED:20260223T220401Z
UID:10003735-1788982200-1788989400@encinitaschurch.com
SUMMARY:AA Group Meeting
DESCRIPTION:
URL:https://encinitaschurch.com/event/aa-group-meeting-159/
LOCATION:Room 9/10
END:VEVENT
BEGIN:VEVENT
DTSTART;TZID=America/Los_Angeles:20260911T193000
DTEND;TZID=America/Los_Angeles:20260911T203000
DTSTAMP:20260421T204025
CREATED:20260223T220415Z
LAST-MODIFIED:20260223T220415Z
UID:10005590-1789155000-1789158600@encinitaschurch.com
SUMMARY:AA Group Meeting
DESCRIPTION:
URL:https://encinitaschurch.com/event/aa-group-meeting-274/
LOCATION:Room 9/10
END:VEVENT
BEGIN:VEVENT
DTSTART;TZID=America/Los_Angeles:20260912T100000
DTEND;TZID=America/Los_Angeles:20260912T113000
DTSTAMP:20260421T204025
CREATED:20250730T000043Z
LAST-MODIFIED:20260223T220416Z
UID:10003741-1789207200-1789212600@encinitaschurch.com
SUMMARY:AA Group Meeting
DESCRIPTION:
URL:https://encinitaschurch.com/event/aa-group-meeting-160/
LOCATION:Room 9/10
END:VEVENT
BEGIN:VEVENT
DTSTART;TZID=America/Los_Angeles:20260914T193000
DTEND;TZID=America/Los_Angeles:20260914T203000
DTSTAMP:20260421T204025
CREATED:20260223T220430Z
LAST-MODIFIED:20260223T220430Z
UID:10005593-1789414200-1789417800@encinitaschurch.com
SUMMARY:AA Group Meeting
DESCRIPTION:
URL:https://encinitaschurch.com/event/aa-group-meeting-275/
LOCATION:Room 9/10
END:VEVENT
BEGIN:VEVENT
DTSTART;TZID=America/Los_Angeles:20260915T190000
DTEND;TZID=America/Los_Angeles:20260915T210000
DTSTAMP:20260421T204025
CREATED:20260223T220430Z
LAST-MODIFIED:20260223T220430Z
UID:10005594-1789498800-1789506000@encinitaschurch.com
SUMMARY:Scouts Troop 774
DESCRIPTION:
URL:https://encinitaschurch.com/event/scouts-troop-774-33/
LOCATION:Room 9/10
END:VEVENT
BEGIN:VEVENT
DTSTART;TZID=America/Los_Angeles:20260916T193000
DTEND;TZID=America/Los_Angeles:20260916T213000
DTSTAMP:20260421T204025
CREATED:20250730T000106Z
LAST-MODIFIED:20260223T220442Z
UID:10003753-1789587000-1789594200@encinitaschurch.com
SUMMARY:AA Group Meeting
DESCRIPTION:
URL:https://encinitaschurch.com/event/aa-group-meeting-161/
LOCATION:Room 9/10
END:VEVENT
BEGIN:VEVENT
DTSTART;TZID=America/Los_Angeles:20260918T193000
DTEND;TZID=America/Los_Angeles:20260918T203000
DTSTAMP:20260421T204025
CREATED:20260223T220442Z
LAST-MODIFIED:20260223T220442Z
UID:10005600-1789759800-1789763400@encinitaschurch.com
SUMMARY:AA Group Meeting
DESCRIPTION:
URL:https://encinitaschurch.com/event/aa-group-meeting-276/
LOCATION:Room 9/10
END:VEVENT
BEGIN:VEVENT
DTSTART;TZID=America/Los_Angeles:20260919T100000
DTEND;TZID=America/Los_Angeles:20260919T113000
DTSTAMP:20260421T204025
CREATED:20250730T000107Z
LAST-MODIFIED:20260223T220442Z
UID:10003760-1789812000-1789817400@encinitaschurch.com
SUMMARY:AA Group Meeting
DESCRIPTION:
URL:https://encinitaschurch.com/event/aa-group-meeting-162/
LOCATION:Room 9/10
END:VEVENT
BEGIN:VEVENT
DTSTART;TZID=America/Los_Angeles:20260921T193000
DTEND;TZID=America/Los_Angeles:20260921T203000
DTSTAMP:20260421T204025
CREATED:20260223T220455Z
LAST-MODIFIED:20260223T220455Z
UID:10005603-1790019000-1790022600@encinitaschurch.com
SUMMARY:AA Group Meeting
DESCRIPTION:
URL:https://encinitaschurch.com/event/aa-group-meeting-277/
LOCATION:Room 9/10
END:VEVENT
BEGIN:VEVENT
DTSTART;TZID=America/Los_Angeles:20260922T190000
DTEND;TZID=America/Los_Angeles:20260922T210000
DTSTAMP:20260421T204025
CREATED:20260223T220508Z
LAST-MODIFIED:20260223T220508Z
UID:10005606-1790103600-1790110800@encinitaschurch.com
SUMMARY:Scouts Troop 774
DESCRIPTION:
URL:https://encinitaschurch.com/event/scouts-troop-774-34/
LOCATION:Room 9/10
END:VEVENT
BEGIN:VEVENT
DTSTART;TZID=America/Los_Angeles:20260923T193000
DTEND;TZID=America/Los_Angeles:20260923T213000
DTSTAMP:20260421T204025
CREATED:20250730T000132Z
LAST-MODIFIED:20260223T220508Z
UID:10003773-1790191800-1790199000@encinitaschurch.com
SUMMARY:AA Group Meeting
DESCRIPTION:
URL:https://encinitaschurch.com/event/aa-group-meeting-163/
LOCATION:Room 9/10
END:VEVENT
BEGIN:VEVENT
DTSTART;TZID=America/Los_Angeles:20260925T193000
DTEND;TZID=America/Los_Angeles:20260925T203000
DTSTAMP:20260421T204025
CREATED:20260223T220509Z
LAST-MODIFIED:20260223T220509Z
UID:10005611-1790364600-1790368200@encinitaschurch.com
SUMMARY:AA Group Meeting
DESCRIPTION:
URL:https://encinitaschurch.com/event/aa-group-meeting-278/
LOCATION:Room 9/10
END:VEVENT
BEGIN:VEVENT
DTSTART;TZID=America/Los_Angeles:20260926T100000
DTEND;TZID=America/Los_Angeles:20260926T113000
DTSTAMP:20260421T204025
CREATED:20250730T000133Z
LAST-MODIFIED:20260223T220521Z
UID:10003777-1790416800-1790422200@encinitaschurch.com
SUMMARY:AA Group Meeting
DESCRIPTION:
URL:https://encinitaschurch.com/event/aa-group-meeting-164/
LOCATION:Room 9/10
END:VEVENT
BEGIN:VEVENT
DTSTART;TZID=America/Los_Angeles:20260928T193000
DTEND;TZID=America/Los_Angeles:20260928T203000
DTSTAMP:20260421T204025
CREATED:20260223T220522Z
LAST-MODIFIED:20260223T220522Z
UID:10005613-1790623800-1790627400@encinitaschurch.com
SUMMARY:AA Group Meeting
DESCRIPTION:
URL:https://encinitaschurch.com/event/aa-group-meeting-279/
LOCATION:Room 9/10
END:VEVENT
BEGIN:VEVENT
DTSTART;TZID=America/Los_Angeles:20260929T190000
DTEND;TZID=America/Los_Angeles:20260929T210000
DTSTAMP:20260421T204025
CREATED:20260223T220535Z
LAST-MODIFIED:20260223T220535Z
UID:10005615-1790708400-1790715600@encinitaschurch.com
SUMMARY:Scouts Troop 774
DESCRIPTION:
URL:https://encinitaschurch.com/event/scouts-troop-774-35/
LOCATION:Room 9/10
END:VEVENT
BEGIN:VEVENT
DTSTART;TZID=America/Los_Angeles:20260930T193000
DTEND;TZID=America/Los_Angeles:20260930T213000
DTSTAMP:20260421T204025
CREATED:20250730T000146Z
LAST-MODIFIED:20260223T220536Z
UID:10003788-1790796600-1790803800@encinitaschurch.com
SUMMARY:AA Group Meeting
DESCRIPTION:
URL:https://encinitaschurch.com/event/aa-group-meeting-165/
LOCATION:Room 9/10
END:VEVENT
END:VCALENDAR