BEGIN:VCALENDAR
VERSION:2.0
PRODID:-//San Dieguito United Methodist Church - ECPv6.15.15//NONSGML v1.0//EN
CALSCALE:GREGORIAN
METHOD:PUBLISH
X-WR-CALNAME:San Dieguito United Methodist Church
X-ORIGINAL-URL:https://encinitaschurch.com
X-WR-CALDESC:Events for San Dieguito United Methodist Church
REFRESH-INTERVAL;VALUE=DURATION:PT1H
X-Robots-Tag:noindex
X-PUBLISHED-TTL:PT1H
BEGIN:VTIMEZONE
TZID:America/Los_Angeles
BEGIN:DAYLIGHT
TZOFFSETFROM:-0800
TZOFFSETTO:-0700
TZNAME:PDT
DTSTART:20250309T100000
END:DAYLIGHT
BEGIN:STANDARD
TZOFFSETFROM:-0700
TZOFFSETTO:-0800
TZNAME:PST
DTSTART:20251102T090000
END:STANDARD
BEGIN:DAYLIGHT
TZOFFSETFROM:-0800
TZOFFSETTO:-0700
TZNAME:PDT
DTSTART:20260308T100000
END:DAYLIGHT
BEGIN:STANDARD
TZOFFSETFROM:-0700
TZOFFSETTO:-0800
TZNAME:PST
DTSTART:20261101T090000
END:STANDARD
BEGIN:DAYLIGHT
TZOFFSETFROM:-0800
TZOFFSETTO:-0700
TZNAME:PDT
DTSTART:20270314T100000
END:DAYLIGHT
BEGIN:STANDARD
TZOFFSETFROM:-0700
TZOFFSETTO:-0800
TZNAME:PST
DTSTART:20271107T090000
END:STANDARD
BEGIN:DAYLIGHT
TZOFFSETFROM:-0800
TZOFFSETTO:-0700
TZNAME:PDT
DTSTART:20280312T100000
END:DAYLIGHT
BEGIN:STANDARD
TZOFFSETFROM:-0700
TZOFFSETTO:-0800
TZNAME:PST
DTSTART:20281105T090000
END:STANDARD
END:VTIMEZONE
BEGIN:VEVENT
DTSTART;TZID=America/Los_Angeles:20261016T193000
DTEND;TZID=America/Los_Angeles:20261016T203000
DTSTAMP:20260421T112824
CREATED:20260223T220656Z
LAST-MODIFIED:20260223T220656Z
UID:10005643-1792179000-1792182600@encinitaschurch.com
SUMMARY:AA Group Meeting
DESCRIPTION:
URL:https://encinitaschurch.com/event/aa-group-meeting-284/
LOCATION:Room 9/10
END:VEVENT
BEGIN:VEVENT
DTSTART;TZID=America/Los_Angeles:20261017T100000
DTEND;TZID=America/Los_Angeles:20261017T113000
DTSTAMP:20260421T112824
CREATED:20250730T000247Z
LAST-MODIFIED:20260223T220656Z
UID:10003833-1792231200-1792236600@encinitaschurch.com
SUMMARY:AA Group Meeting
DESCRIPTION:
URL:https://encinitaschurch.com/event/aa-group-meeting-170/
LOCATION:Room 9/10
END:VEVENT
BEGIN:VEVENT
DTSTART;TZID=America/Los_Angeles:20261019T193000
DTEND;TZID=America/Los_Angeles:20261019T203000
DTSTAMP:20260421T112824
CREATED:20260223T220656Z
LAST-MODIFIED:20260223T220656Z
UID:10005645-1792438200-1792441800@encinitaschurch.com
SUMMARY:AA Group Meeting
DESCRIPTION:
URL:https://encinitaschurch.com/event/aa-group-meeting-285/
LOCATION:Room 9/10
END:VEVENT
BEGIN:VEVENT
DTSTART;TZID=America/Los_Angeles:20261020T190000
DTEND;TZID=America/Los_Angeles:20261020T210000
DTSTAMP:20260421T112824
CREATED:20260223T220709Z
LAST-MODIFIED:20260223T220709Z
UID:10005647-1792522800-1792530000@encinitaschurch.com
SUMMARY:Scouts Troop 774
DESCRIPTION:
URL:https://encinitaschurch.com/event/scouts-troop-774-38/
LOCATION:Room 9/10
END:VEVENT
BEGIN:VEVENT
DTSTART;TZID=America/Los_Angeles:20261021T193000
DTEND;TZID=America/Los_Angeles:20261021T213000
DTSTAMP:20260421T112824
CREATED:20250730T000259Z
LAST-MODIFIED:20260223T220722Z
UID:10003847-1792611000-1792618200@encinitaschurch.com
SUMMARY:AA Group Meeting
DESCRIPTION:
URL:https://encinitaschurch.com/event/aa-group-meeting-171/
LOCATION:Room 9/10
END:VEVENT
BEGIN:VEVENT
DTSTART;TZID=America/Los_Angeles:20261023T193000
DTEND;TZID=America/Los_Angeles:20261023T203000
DTSTAMP:20260421T112824
CREATED:20260223T220723Z
LAST-MODIFIED:20260223T220723Z
UID:10005653-1792783800-1792787400@encinitaschurch.com
SUMMARY:AA Group Meeting
DESCRIPTION:
URL:https://encinitaschurch.com/event/aa-group-meeting-286/
LOCATION:Room 9/10
END:VEVENT
BEGIN:VEVENT
DTSTART;TZID=America/Los_Angeles:20261024T100000
DTEND;TZID=America/Los_Angeles:20261024T113000
DTSTAMP:20260421T112824
CREATED:20250730T000259Z
LAST-MODIFIED:20260223T220723Z
UID:10003851-1792836000-1792841400@encinitaschurch.com
SUMMARY:AA Group Meeting
DESCRIPTION:
URL:https://encinitaschurch.com/event/aa-group-meeting-172/
LOCATION:Room 9/10
END:VEVENT
BEGIN:VEVENT
DTSTART;TZID=America/Los_Angeles:20261028T193000
DTEND;TZID=America/Los_Angeles:20261028T213000
DTSTAMP:20260421T112824
CREATED:20250730T000803Z
LAST-MODIFIED:20250730T000803Z
UID:10003862-1793215800-1793223000@encinitaschurch.com
SUMMARY:AA Group Meeting
DESCRIPTION:
URL:https://encinitaschurch.com/event/aa-group-meeting-173/
LOCATION:Room 9/10
END:VEVENT
BEGIN:VEVENT
DTSTART;TZID=America/Los_Angeles:20261031T100000
DTEND;TZID=America/Los_Angeles:20261031T113000
DTSTAMP:20260421T112824
CREATED:20250730T000816Z
LAST-MODIFIED:20250730T000816Z
UID:10003868-1793440800-1793446200@encinitaschurch.com
SUMMARY:AA Group Meeting
DESCRIPTION:
URL:https://encinitaschurch.com/event/aa-group-meeting-174/
LOCATION:Room 9/10
END:VEVENT
BEGIN:VEVENT
DTSTART;TZID=America/Los_Angeles:20261104T193000
DTEND;TZID=America/Los_Angeles:20261104T213000
DTSTAMP:20260421T112824
CREATED:20250730T000829Z
LAST-MODIFIED:20250730T000829Z
UID:10003880-1793820600-1793827800@encinitaschurch.com
SUMMARY:AA Group Meeting
DESCRIPTION:
URL:https://encinitaschurch.com/event/aa-group-meeting-175/
LOCATION:Room 9/10
END:VEVENT
BEGIN:VEVENT
DTSTART;TZID=America/Los_Angeles:20261107T100000
DTEND;TZID=America/Los_Angeles:20261107T113000
DTSTAMP:20260421T112824
CREATED:20250730T000844Z
LAST-MODIFIED:20250730T000844Z
UID:10003886-1794045600-1794051000@encinitaschurch.com
SUMMARY:AA Group Meeting
DESCRIPTION:
URL:https://encinitaschurch.com/event/aa-group-meeting-176/
LOCATION:Room 9/10
END:VEVENT
BEGIN:VEVENT
DTSTART;TZID=America/Los_Angeles:20261111T193000
DTEND;TZID=America/Los_Angeles:20261111T213000
DTSTAMP:20260421T112824
CREATED:20250730T000858Z
LAST-MODIFIED:20250730T000858Z
UID:10003903-1794425400-1794432600@encinitaschurch.com
SUMMARY:AA Group Meeting
DESCRIPTION:
URL:https://encinitaschurch.com/event/aa-group-meeting-177/
LOCATION:Room 9/10
END:VEVENT
BEGIN:VEVENT
DTSTART;TZID=America/Los_Angeles:20261114T100000
DTEND;TZID=America/Los_Angeles:20261114T113000
DTSTAMP:20260421T112824
CREATED:20250730T000910Z
LAST-MODIFIED:20250730T000910Z
UID:10003907-1794650400-1794655800@encinitaschurch.com
SUMMARY:AA Group Meeting
DESCRIPTION:
URL:https://encinitaschurch.com/event/aa-group-meeting-178/
LOCATION:Room 9/10
END:VEVENT
BEGIN:VEVENT
DTSTART;TZID=America/Los_Angeles:20261118T193000
DTEND;TZID=America/Los_Angeles:20261118T213000
DTSTAMP:20260421T112824
CREATED:20250730T000923Z
LAST-MODIFIED:20250730T000923Z
UID:10003919-1795030200-1795037400@encinitaschurch.com
SUMMARY:AA Group Meeting
DESCRIPTION:
URL:https://encinitaschurch.com/event/aa-group-meeting-179/
LOCATION:Room 9/10
END:VEVENT
BEGIN:VEVENT
DTSTART;TZID=America/Los_Angeles:20261121T100000
DTEND;TZID=America/Los_Angeles:20261121T113000
DTSTAMP:20260421T112824
CREATED:20250730T000924Z
LAST-MODIFIED:20250730T000924Z
UID:10003925-1795255200-1795260600@encinitaschurch.com
SUMMARY:AA Group Meeting
DESCRIPTION:
URL:https://encinitaschurch.com/event/aa-group-meeting-180/
LOCATION:Room 9/10
END:VEVENT
BEGIN:VEVENT
DTSTART;TZID=America/Los_Angeles:20261125T193000
DTEND;TZID=America/Los_Angeles:20261125T213000
DTSTAMP:20260421T112824
CREATED:20250730T000949Z
LAST-MODIFIED:20250730T000949Z
UID:10003936-1795635000-1795642200@encinitaschurch.com
SUMMARY:AA Group Meeting
DESCRIPTION:
URL:https://encinitaschurch.com/event/aa-group-meeting-181/
LOCATION:Room 9/10
END:VEVENT
BEGIN:VEVENT
DTSTART;TZID=America/Los_Angeles:20261128T100000
DTEND;TZID=America/Los_Angeles:20261128T113000
DTSTAMP:20260421T112824
CREATED:20250730T000949Z
LAST-MODIFIED:20250730T000949Z
UID:10003942-1795860000-1795865400@encinitaschurch.com
SUMMARY:AA Group Meeting
DESCRIPTION:
URL:https://encinitaschurch.com/event/aa-group-meeting-182/
LOCATION:Room 9/10
END:VEVENT
BEGIN:VEVENT
DTSTART;TZID=America/Los_Angeles:20261202T193000
DTEND;TZID=America/Los_Angeles:20261202T213000
DTSTAMP:20260421T112824
CREATED:20250730T001002Z
LAST-MODIFIED:20250730T001002Z
UID:10003954-1796239800-1796247000@encinitaschurch.com
SUMMARY:AA Group Meeting
DESCRIPTION:
URL:https://encinitaschurch.com/event/aa-group-meeting-183/
LOCATION:Room 9/10
END:VEVENT
BEGIN:VEVENT
DTSTART;TZID=America/Los_Angeles:20261205T100000
DTEND;TZID=America/Los_Angeles:20261205T113000
DTSTAMP:20260421T112824
CREATED:20250730T001017Z
LAST-MODIFIED:20250730T001017Z
UID:10003959-1796464800-1796470200@encinitaschurch.com
SUMMARY:AA Group Meeting
DESCRIPTION:
URL:https://encinitaschurch.com/event/aa-group-meeting-184/
LOCATION:Room 9/10
END:VEVENT
BEGIN:VEVENT
DTSTART;TZID=America/Los_Angeles:20261209T193000
DTEND;TZID=America/Los_Angeles:20261209T213000
DTSTAMP:20260421T112824
CREATED:20250730T001044Z
LAST-MODIFIED:20250730T001044Z
UID:10003976-1796844600-1796851800@encinitaschurch.com
SUMMARY:AA Group Meeting
DESCRIPTION:
URL:https://encinitaschurch.com/event/aa-group-meeting-185/
LOCATION:Room 9/10
END:VEVENT
BEGIN:VEVENT
DTSTART;TZID=America/Los_Angeles:20261212T100000
DTEND;TZID=America/Los_Angeles:20261212T113000
DTSTAMP:20260421T112824
CREATED:20250730T001044Z
LAST-MODIFIED:20250730T001044Z
UID:10003983-1797069600-1797075000@encinitaschurch.com
SUMMARY:AA Group Meeting
DESCRIPTION:
URL:https://encinitaschurch.com/event/aa-group-meeting-186/
LOCATION:Room 9/10
END:VEVENT
BEGIN:VEVENT
DTSTART;TZID=America/Los_Angeles:20261216T193000
DTEND;TZID=America/Los_Angeles:20261216T213000
DTSTAMP:20260421T112824
CREATED:20250730T001110Z
LAST-MODIFIED:20250730T001110Z
UID:10003996-1797449400-1797456600@encinitaschurch.com
SUMMARY:AA Group Meeting
DESCRIPTION:
URL:https://encinitaschurch.com/event/aa-group-meeting-187/
LOCATION:Room 9/10
END:VEVENT
BEGIN:VEVENT
DTSTART;TZID=America/Los_Angeles:20261219T100000
DTEND;TZID=America/Los_Angeles:20261219T113000
DTSTAMP:20260421T112824
CREATED:20250730T001111Z
LAST-MODIFIED:20250730T001111Z
UID:10004003-1797674400-1797679800@encinitaschurch.com
SUMMARY:AA Group Meeting
DESCRIPTION:
URL:https://encinitaschurch.com/event/aa-group-meeting-188/
LOCATION:Room 9/10
END:VEVENT
BEGIN:VEVENT
DTSTART;TZID=America/Los_Angeles:20261223T193000
DTEND;TZID=America/Los_Angeles:20261223T213000
DTSTAMP:20260421T112824
CREATED:20250730T001123Z
LAST-MODIFIED:20250730T001123Z
UID:10004014-1798054200-1798061400@encinitaschurch.com
SUMMARY:AA Group Meeting
DESCRIPTION:
URL:https://encinitaschurch.com/event/aa-group-meeting-189/
LOCATION:Room 9/10
END:VEVENT
BEGIN:VEVENT
DTSTART;TZID=America/Los_Angeles:20261226T100000
DTEND;TZID=America/Los_Angeles:20261226T113000
DTSTAMP:20260421T112824
CREATED:20250730T001136Z
LAST-MODIFIED:20250730T001136Z
UID:10004020-1798279200-1798284600@encinitaschurch.com
SUMMARY:AA Group Meeting
DESCRIPTION:
URL:https://encinitaschurch.com/event/aa-group-meeting-190/
LOCATION:Room 9/10
END:VEVENT
BEGIN:VEVENT
DTSTART;TZID=America/Los_Angeles:20261230T193000
DTEND;TZID=America/Los_Angeles:20261230T213000
DTSTAMP:20260421T112824
CREATED:20250730T001148Z
LAST-MODIFIED:20250730T001148Z
UID:10004032-1798659000-1798666200@encinitaschurch.com
SUMMARY:AA Group Meeting
DESCRIPTION:
URL:https://encinitaschurch.com/event/aa-group-meeting-191/
LOCATION:Room 9/10
END:VEVENT
BEGIN:VEVENT
DTSTART;TZID=America/Los_Angeles:20270102T100000
DTEND;TZID=America/Los_Angeles:20270102T113000
DTSTAMP:20260421T112824
CREATED:20250730T001201Z
LAST-MODIFIED:20250730T001201Z
UID:10004037-1798884000-1798889400@encinitaschurch.com
SUMMARY:AA Group Meeting
DESCRIPTION:
URL:https://encinitaschurch.com/event/aa-group-meeting-192/
LOCATION:Room 9/10
END:VEVENT
BEGIN:VEVENT
DTSTART;TZID=America/Los_Angeles:20270106T193000
DTEND;TZID=America/Los_Angeles:20270106T213000
DTSTAMP:20260421T112824
CREATED:20250730T001214Z
LAST-MODIFIED:20250730T001214Z
UID:10004049-1799263800-1799271000@encinitaschurch.com
SUMMARY:AA Group Meeting
DESCRIPTION:
URL:https://encinitaschurch.com/event/aa-group-meeting-193/
LOCATION:Room 9/10
END:VEVENT
END:VCALENDAR