BEGIN:VCALENDAR
VERSION:2.0
PRODID:-//San Dieguito United Methodist Church - ECPv6.15.15//NONSGML v1.0//EN
CALSCALE:GREGORIAN
METHOD:PUBLISH
X-WR-CALNAME:San Dieguito United Methodist Church
X-ORIGINAL-URL:https://encinitaschurch.com
X-WR-CALDESC:Events for San Dieguito United Methodist Church
REFRESH-INTERVAL;VALUE=DURATION:PT1H
X-Robots-Tag:noindex
X-PUBLISHED-TTL:PT1H
BEGIN:VTIMEZONE
TZID:America/Los_Angeles
BEGIN:DAYLIGHT
TZOFFSETFROM:-0800
TZOFFSETTO:-0700
TZNAME:PDT
DTSTART:20250309T100000
END:DAYLIGHT
BEGIN:STANDARD
TZOFFSETFROM:-0700
TZOFFSETTO:-0800
TZNAME:PST
DTSTART:20251102T090000
END:STANDARD
BEGIN:DAYLIGHT
TZOFFSETFROM:-0800
TZOFFSETTO:-0700
TZNAME:PDT
DTSTART:20260308T100000
END:DAYLIGHT
BEGIN:STANDARD
TZOFFSETFROM:-0700
TZOFFSETTO:-0800
TZNAME:PST
DTSTART:20261101T090000
END:STANDARD
BEGIN:DAYLIGHT
TZOFFSETFROM:-0800
TZOFFSETTO:-0700
TZNAME:PDT
DTSTART:20270314T100000
END:DAYLIGHT
BEGIN:STANDARD
TZOFFSETFROM:-0700
TZOFFSETTO:-0800
TZNAME:PST
DTSTART:20271107T090000
END:STANDARD
END:VTIMEZONE
BEGIN:VEVENT
DTSTART;TZID=America/Los_Angeles:20260224T190000
DTEND;TZID=America/Los_Angeles:20260224T210000
DTSTAMP:20260421T160903
CREATED:20260129T171638Z
LAST-MODIFIED:20260224T221540Z
UID:10005265-1771959600-1771966800@encinitaschurch.com
SUMMARY:Scouts Troop 774
DESCRIPTION:
URL:https://encinitaschurch.com/event/scouts-troop-774-4/
LOCATION:Room 9/10
END:VEVENT
BEGIN:VEVENT
DTSTART;TZID=America/Los_Angeles:20260223T193000
DTEND;TZID=America/Los_Angeles:20260223T203000
DTSTAMP:20260421T160903
CREATED:20260112T235426Z
LAST-MODIFIED:20260223T214602Z
UID:10005220-1771875000-1771878600@encinitaschurch.com
SUMMARY:AA Group Meeting
DESCRIPTION:
URL:https://encinitaschurch.com/event/aa-group-meeting-228/
LOCATION:Room 9/10
END:VEVENT
BEGIN:VEVENT
DTSTART;TZID=America/Los_Angeles:20260221T100000
DTEND;TZID=America/Los_Angeles:20260221T113000
DTSTAMP:20260421T160903
CREATED:20250729T234228Z
LAST-MODIFIED:20260220T233102Z
UID:10003170-1771668000-1771673400@encinitaschurch.com
SUMMARY:AA Group Meeting
DESCRIPTION:
URL:https://encinitaschurch.com/event/aa-group-meeting-101/
LOCATION:Room 9/10
END:VEVENT
BEGIN:VEVENT
DTSTART;TZID=America/Los_Angeles:20260220T193000
DTEND;TZID=America/Los_Angeles:20260220T203000
DTSTAMP:20260421T160903
CREATED:20251030T234016Z
LAST-MODIFIED:20260220T233102Z
UID:10004987-1771615800-1771619400@encinitaschurch.com
SUMMARY:AA Group Meeting
DESCRIPTION:
URL:https://encinitaschurch.com/event/aa-group-meeting-210/
LOCATION:Room 9/10
END:VEVENT
BEGIN:VEVENT
DTSTART;TZID=America/Los_Angeles:20260218T193000
DTEND;TZID=America/Los_Angeles:20260218T213000
DTSTAMP:20260421T160903
CREATED:20250729T234216Z
LAST-MODIFIED:20260218T230603Z
UID:10003163-1771443000-1771450200@encinitaschurch.com
SUMMARY:AA Group Meeting
DESCRIPTION:
URL:https://encinitaschurch.com/event/aa-group-meeting-100/
LOCATION:Room 9/10
END:VEVENT
BEGIN:VEVENT
DTSTART;TZID=America/Los_Angeles:20260217T190000
DTEND;TZID=America/Los_Angeles:20260217T210000
DTSTAMP:20260421T160903
CREATED:20260129T171601Z
LAST-MODIFIED:20260218T010221Z
UID:10005257-1771354800-1771362000@encinitaschurch.com
SUMMARY:Scouts Troop 774
DESCRIPTION:
URL:https://encinitaschurch.com/event/scouts-troop-774-3/
LOCATION:Room 9/10
END:VEVENT
BEGIN:VEVENT
DTSTART;TZID=America/Los_Angeles:20260216T193000
DTEND;TZID=America/Los_Angeles:20260216T203000
DTSTAMP:20260421T160903
CREATED:20260112T235351Z
LAST-MODIFIED:20260216T234554Z
UID:10005219-1771270200-1771273800@encinitaschurch.com
SUMMARY:AA Group Meeting
DESCRIPTION:
URL:https://encinitaschurch.com/event/aa-group-meeting-227/
LOCATION:Room 9/10
END:VEVENT
BEGIN:VEVENT
DTSTART;TZID=America/Los_Angeles:20260214T100000
DTEND;TZID=America/Los_Angeles:20260214T113000
DTSTAMP:20260421T160903
CREATED:20250729T234203Z
LAST-MODIFIED:20260214T004558Z
UID:10003151-1771063200-1771068600@encinitaschurch.com
SUMMARY:AA Group Meeting
DESCRIPTION:
URL:https://encinitaschurch.com/event/aa-group-meeting-99/
LOCATION:Room 9/10
END:VEVENT
BEGIN:VEVENT
DTSTART;TZID=America/Los_Angeles:20260213T193000
DTEND;TZID=America/Los_Angeles:20260213T203000
DTSTAMP:20260421T160903
CREATED:20251030T233940Z
LAST-MODIFIED:20260214T004558Z
UID:10004986-1771011000-1771014600@encinitaschurch.com
SUMMARY:AA Group Meeting
DESCRIPTION:
URL:https://encinitaschurch.com/event/aa-group-meeting-209/
LOCATION:Room 9/10
END:VEVENT
BEGIN:VEVENT
DTSTART;TZID=America/Los_Angeles:20260211T193000
DTEND;TZID=America/Los_Angeles:20260211T213000
DTSTAMP:20260421T160903
CREATED:20250729T234152Z
LAST-MODIFIED:20260212T005850Z
UID:10003145-1770838200-1770845400@encinitaschurch.com
SUMMARY:AA Group Meeting
DESCRIPTION:
URL:https://encinitaschurch.com/event/aa-group-meeting-98/
LOCATION:Room 9/10
END:VEVENT
BEGIN:VEVENT
DTSTART;TZID=America/Los_Angeles:20260210T190000
DTEND;TZID=America/Los_Angeles:20260210T210000
DTSTAMP:20260421T160903
CREATED:20260129T171513Z
LAST-MODIFIED:20260211T015621Z
UID:10005249-1770750000-1770757200@encinitaschurch.com
SUMMARY:Scouts Troop 774
DESCRIPTION:
URL:https://encinitaschurch.com/event/scouts-troop-774-2/
LOCATION:Room 9/10
END:VEVENT
BEGIN:VEVENT
DTSTART;TZID=America/Los_Angeles:20260209T193000
DTEND;TZID=America/Los_Angeles:20260209T203000
DTSTAMP:20260421T160903
CREATED:20260112T235316Z
LAST-MODIFIED:20260210T012233Z
UID:10005218-1770665400-1770669000@encinitaschurch.com
SUMMARY:AA Group Meeting
DESCRIPTION:
URL:https://encinitaschurch.com/event/aa-group-meeting-226/
LOCATION:Room 9/10
END:VEVENT
BEGIN:VEVENT
DTSTART;TZID=America/Los_Angeles:20260207T100000
DTEND;TZID=America/Los_Angeles:20260207T113000
DTSTAMP:20260421T160903
CREATED:20250726T160018Z
LAST-MODIFIED:20260207T003155Z
UID:10003126-1770458400-1770463800@encinitaschurch.com
SUMMARY:AA Group Meeting
DESCRIPTION:
URL:https://encinitaschurch.com/event/aa-group-meeting-97/
LOCATION:Room 9/10
END:VEVENT
BEGIN:VEVENT
DTSTART;TZID=America/Los_Angeles:20260206T193000
DTEND;TZID=America/Los_Angeles:20260206T203000
DTSTAMP:20260421T160903
CREATED:20251030T233915Z
LAST-MODIFIED:20260207T003155Z
UID:10004985-1770406200-1770409800@encinitaschurch.com
SUMMARY:AA Group Meeting
DESCRIPTION:
URL:https://encinitaschurch.com/event/aa-group-meeting-208/
LOCATION:Room 9/10
END:VEVENT
BEGIN:VEVENT
DTSTART;TZID=America/Los_Angeles:20260204T193000
DTEND;TZID=America/Los_Angeles:20260204T213000
DTSTAMP:20260421T160903
CREATED:20250726T160006Z
LAST-MODIFIED:20260205T010143Z
UID:10003119-1770233400-1770240600@encinitaschurch.com
SUMMARY:AA Group Meeting
DESCRIPTION:
URL:https://encinitaschurch.com/event/aa-group-meeting-96/
LOCATION:Room 9/10
END:VEVENT
BEGIN:VEVENT
DTSTART;TZID=America/Los_Angeles:20260203T190000
DTEND;TZID=America/Los_Angeles:20260203T210000
DTSTAMP:20260421T160903
CREATED:20260129T171423Z
LAST-MODIFIED:20260204T014343Z
UID:10005237-1770145200-1770152400@encinitaschurch.com
SUMMARY:Scouts Troop 774
DESCRIPTION:
URL:https://encinitaschurch.com/event/scouts-troop-774/
LOCATION:Room 9/10
END:VEVENT
BEGIN:VEVENT
DTSTART;TZID=America/Los_Angeles:20260202T193000
DTEND;TZID=America/Los_Angeles:20260202T203000
DTSTAMP:20260421T160903
CREATED:20260112T235241Z
LAST-MODIFIED:20260201T191607Z
UID:10005217-1770060600-1770064200@encinitaschurch.com
SUMMARY:AA Group Meeting
DESCRIPTION:
URL:https://encinitaschurch.com/event/aa-group-meeting-225/
LOCATION:Room 9/10
END:VEVENT
BEGIN:VEVENT
DTSTART;TZID=America/Los_Angeles:20260131T100000
DTEND;TZID=America/Los_Angeles:20260131T113000
DTSTAMP:20260421T160903
CREATED:20250726T155953Z
LAST-MODIFIED:20260131T164605Z
UID:10003107-1769853600-1769859000@encinitaschurch.com
SUMMARY:AA Group Meeting
DESCRIPTION:
URL:https://encinitaschurch.com/event/aa-group-meeting-95/
LOCATION:Room 9/10
END:VEVENT
BEGIN:VEVENT
DTSTART;TZID=America/Los_Angeles:20260130T193000
DTEND;TZID=America/Los_Angeles:20260130T203000
DTSTAMP:20260421T160903
CREATED:20251030T233841Z
LAST-MODIFIED:20260131T021058Z
UID:10004984-1769801400-1769805000@encinitaschurch.com
SUMMARY:AA Group Meeting
DESCRIPTION:
URL:https://encinitaschurch.com/event/aa-group-meeting-207/
LOCATION:Room 9/10
END:VEVENT
BEGIN:VEVENT
DTSTART;TZID=America/Los_Angeles:20260128T193000
DTEND;TZID=America/Los_Angeles:20260128T213000
DTSTAMP:20260421T160903
CREATED:20250726T155941Z
LAST-MODIFIED:20260112T235206Z
UID:10003101-1769628600-1769635800@encinitaschurch.com
SUMMARY:AA Group Meeting
DESCRIPTION:
URL:https://encinitaschurch.com/event/aa-group-meeting-94/
LOCATION:Room 9/10
END:VEVENT
BEGIN:VEVENT
DTSTART;TZID=America/Los_Angeles:20260126T193000
DTEND;TZID=America/Los_Angeles:20260126T203000
DTSTAMP:20260421T160903
CREATED:20260112T235154Z
LAST-MODIFIED:20260112T235154Z
UID:10005216-1769455800-1769459400@encinitaschurch.com
SUMMARY:AA Group Meeting
DESCRIPTION:
URL:https://encinitaschurch.com/event/aa-group-meeting-224/
LOCATION:Room 9/10
END:VEVENT
BEGIN:VEVENT
DTSTART;TZID=America/Los_Angeles:20260124T100000
DTEND;TZID=America/Los_Angeles:20260124T113000
DTSTAMP:20260421T160903
CREATED:20250711T142948Z
LAST-MODIFIED:20260112T235154Z
UID:10003053-1769248800-1769254200@encinitaschurch.com
SUMMARY:AA Group Meeting
DESCRIPTION:
URL:https://encinitaschurch.com/event/aa-group-meeting-93/
LOCATION:Room 9/10
END:VEVENT
BEGIN:VEVENT
DTSTART;TZID=America/Los_Angeles:20260123T193000
DTEND;TZID=America/Los_Angeles:20260123T203000
DTSTAMP:20260421T160903
CREATED:20251030T233818Z
LAST-MODIFIED:20260112T235143Z
UID:10004982-1769196600-1769200200@encinitaschurch.com
SUMMARY:AA Group Meeting
DESCRIPTION:
URL:https://encinitaschurch.com/event/aa-group-meeting-206/
LOCATION:Room 9/10
END:VEVENT
BEGIN:VEVENT
DTSTART;TZID=America/Los_Angeles:20260121T193000
DTEND;TZID=America/Los_Angeles:20260121T213000
DTSTAMP:20260421T160903
CREATED:20250711T142936Z
LAST-MODIFIED:20260112T235143Z
UID:10003048-1769023800-1769031000@encinitaschurch.com
SUMMARY:AA Group Meeting
DESCRIPTION:
URL:https://encinitaschurch.com/event/aa-group-meeting-92/
LOCATION:Room 9/10
END:VEVENT
BEGIN:VEVENT
DTSTART;TZID=America/Los_Angeles:20260119T193000
DTEND;TZID=America/Los_Angeles:20260119T203000
DTSTAMP:20260421T160903
CREATED:20260112T235119Z
LAST-MODIFIED:20260112T235119Z
UID:10005215-1768851000-1768854600@encinitaschurch.com
SUMMARY:AA Group Meeting
DESCRIPTION:
URL:https://encinitaschurch.com/event/aa-group-meeting-223/
LOCATION:Room 9/10
END:VEVENT
BEGIN:VEVENT
DTSTART;TZID=America/Los_Angeles:20260117T100000
DTEND;TZID=America/Los_Angeles:20260117T113000
DTSTAMP:20260421T160903
CREATED:20250711T142924Z
LAST-MODIFIED:20260112T235105Z
UID:10003034-1768644000-1768649400@encinitaschurch.com
SUMMARY:AA Group Meeting
DESCRIPTION:
URL:https://encinitaschurch.com/event/aa-group-meeting-91/
LOCATION:Room 9/10
END:VEVENT
BEGIN:VEVENT
DTSTART;TZID=America/Los_Angeles:20260116T193000
DTEND;TZID=America/Los_Angeles:20260116T203000
DTSTAMP:20260421T160903
CREATED:20251030T233754Z
LAST-MODIFIED:20260112T235105Z
UID:10004981-1768591800-1768595400@encinitaschurch.com
SUMMARY:AA Group Meeting
DESCRIPTION:
URL:https://encinitaschurch.com/event/aa-group-meeting-205/
LOCATION:Room 9/10
END:VEVENT
BEGIN:VEVENT
DTSTART;TZID=America/Los_Angeles:20260114T193000
DTEND;TZID=America/Los_Angeles:20260114T213000
DTSTAMP:20260421T160903
CREATED:20250711T142913Z
LAST-MODIFIED:20260112T235053Z
UID:10003028-1768419000-1768426200@encinitaschurch.com
SUMMARY:AA Group Meeting
DESCRIPTION:
URL:https://encinitaschurch.com/event/aa-group-meeting-90/
LOCATION:Room 9/10
END:VEVENT
BEGIN:VEVENT
DTSTART;TZID=America/Los_Angeles:20260112T193000
DTEND;TZID=America/Los_Angeles:20260112T203000
DTSTAMP:20260421T160903
CREATED:20260112T235040Z
LAST-MODIFIED:20260112T235040Z
UID:10005213-1768246200-1768249800@encinitaschurch.com
SUMMARY:AA Group Meeting
DESCRIPTION:
URL:https://encinitaschurch.com/event/aa-group-meeting-222/
LOCATION:Room 9/10
END:VEVENT
BEGIN:VEVENT
DTSTART;TZID=America/Los_Angeles:20260110T100000
DTEND;TZID=America/Los_Angeles:20260110T113000
DTSTAMP:20260421T160903
CREATED:20250711T142849Z
LAST-MODIFIED:20260109T235056Z
UID:10003011-1768039200-1768044600@encinitaschurch.com
SUMMARY:AA Group Meeting
DESCRIPTION:
URL:https://encinitaschurch.com/event/aa-group-meeting-89/
LOCATION:Room 9/10
END:VEVENT
END:VCALENDAR