BEGIN:VCALENDAR
VERSION:2.0
PRODID:-//San Dieguito United Methodist Church - ECPv6.15.15//NONSGML v1.0//EN
CALSCALE:GREGORIAN
METHOD:PUBLISH
X-ORIGINAL-URL:https://encinitaschurch.com
X-WR-CALDESC:Events for San Dieguito United Methodist Church
REFRESH-INTERVAL;VALUE=DURATION:PT1H
X-Robots-Tag:noindex
X-PUBLISHED-TTL:PT1H
BEGIN:VTIMEZONE
TZID:America/Los_Angeles
BEGIN:DAYLIGHT
TZOFFSETFROM:-0800
TZOFFSETTO:-0700
TZNAME:PDT
DTSTART:20240310T100000
END:DAYLIGHT
BEGIN:STANDARD
TZOFFSETFROM:-0700
TZOFFSETTO:-0800
TZNAME:PST
DTSTART:20241103T090000
END:STANDARD
BEGIN:DAYLIGHT
TZOFFSETFROM:-0800
TZOFFSETTO:-0700
TZNAME:PDT
DTSTART:20250309T100000
END:DAYLIGHT
BEGIN:STANDARD
TZOFFSETFROM:-0700
TZOFFSETTO:-0800
TZNAME:PST
DTSTART:20251102T090000
END:STANDARD
BEGIN:DAYLIGHT
TZOFFSETFROM:-0800
TZOFFSETTO:-0700
TZNAME:PDT
DTSTART:20260308T100000
END:DAYLIGHT
BEGIN:STANDARD
TZOFFSETFROM:-0700
TZOFFSETTO:-0800
TZNAME:PST
DTSTART:20261101T090000
END:STANDARD
BEGIN:DAYLIGHT
TZOFFSETFROM:-0800
TZOFFSETTO:-0700
TZNAME:PDT
DTSTART:20270314T100000
END:DAYLIGHT
BEGIN:STANDARD
TZOFFSETFROM:-0700
TZOFFSETTO:-0800
TZNAME:PST
DTSTART:20271107T090000
END:STANDARD
END:VTIMEZONE
BEGIN:VEVENT
DTSTART;TZID=America/Los_Angeles:20260420T190000
DTEND;TZID=America/Los_Angeles:20260420T210000
DTSTAMP:20260421T174944
CREATED:20251211T234017Z
LAST-MODIFIED:20260420T173040Z
UID:10005084-1776711600-1776718800@encinitaschurch.com
SUMMARY:170 Club Band practice
DESCRIPTION: Band practice
URL:https://encinitaschurch.com/event/170-club-band-practice-148/
LOCATION:Youth Room
END:VEVENT
BEGIN:VEVENT
DTSTART;TZID=America/Los_Angeles:20260416T193000
DTEND;TZID=America/Los_Angeles:20260416T210000
DTSTAMP:20260421T174944
CREATED:20251211T234004Z
LAST-MODIFIED:20260417T015431Z
UID:10005077-1776367800-1776373200@encinitaschurch.com
SUMMARY:170 Club
DESCRIPTION:Youth Room
URL:https://encinitaschurch.com/event/170-club-468/
LOCATION:Youth Room
END:VEVENT
BEGIN:VEVENT
DTSTART;TZID=America/Los_Angeles:20260413T190000
DTEND;TZID=America/Los_Angeles:20260413T210000
DTSTAMP:20260421T174944
CREATED:20251208T234021Z
LAST-MODIFIED:20260413T154540Z
UID:10005065-1776106800-1776114000@encinitaschurch.com
SUMMARY:170 Club Band practice
DESCRIPTION: Band practice
URL:https://encinitaschurch.com/event/170-club-band-practice-147/
LOCATION:Youth Room
END:VEVENT
BEGIN:VEVENT
DTSTART;TZID=America/Los_Angeles:20260409T193000
DTEND;TZID=America/Los_Angeles:20260409T210000
DTSTAMP:20260421T174944
CREATED:20251205T031809Z
LAST-MODIFIED:20260409T144545Z
UID:10005059-1775763000-1775768400@encinitaschurch.com
SUMMARY:170 Club
DESCRIPTION:Youth Room
URL:https://encinitaschurch.com/event/170-club-465/
LOCATION:Youth Room
END:VEVENT
BEGIN:VEVENT
DTSTART;TZID=America/Los_Angeles:20260406T190000
DTEND;TZID=America/Los_Angeles:20260406T210000
DTSTAMP:20260421T174944
CREATED:20251202T234031Z
LAST-MODIFIED:20260406T234703Z
UID:10005054-1775502000-1775509200@encinitaschurch.com
SUMMARY:170 Club Band practice
DESCRIPTION: Band practice
URL:https://encinitaschurch.com/event/170-club-band-practice-146/
LOCATION:Youth Room
END:VEVENT
BEGIN:VEVENT
DTSTART;TZID=America/Los_Angeles:20260402T193000
DTEND;TZID=America/Los_Angeles:20260402T210000
DTSTAMP:20260421T174944
CREATED:20251121T235535Z
LAST-MODIFIED:20260402T224709Z
UID:10005015-1775158200-1775163600@encinitaschurch.com
SUMMARY:170 Club
DESCRIPTION:Youth Room
URL:https://encinitaschurch.com/event/170-club-462/
LOCATION:Youth Room
END:VEVENT
BEGIN:VEVENT
DTSTART;TZID=America/Los_Angeles:20260330T190000
DTEND;TZID=America/Los_Angeles:20260330T210000
DTSTAMP:20260421T174944
CREATED:20251120T234024Z
LAST-MODIFIED:20260330T220045Z
UID:10005008-1774897200-1774904400@encinitaschurch.com
SUMMARY:170 Club Band practice
DESCRIPTION: Band practice
URL:https://encinitaschurch.com/event/170-club-band-practice-145/
LOCATION:Youth Room
END:VEVENT
BEGIN:VEVENT
DTSTART;TZID=America/Los_Angeles:20260326T193000
DTEND;TZID=America/Los_Angeles:20260326T210000
DTSTAMP:20260421T174944
CREATED:20250918T234551Z
LAST-MODIFIED:20260326T210044Z
UID:10004912-1774553400-1774558800@encinitaschurch.com
SUMMARY:170 Club
DESCRIPTION:Youth Room
URL:https://encinitaschurch.com/event/170-club-459/
LOCATION:Youth Room
END:VEVENT
BEGIN:VEVENT
DTSTART;TZID=America/Los_Angeles:20260323T190000
DTEND;TZID=America/Los_Angeles:20260323T210000
DTSTAMP:20260421T174944
CREATED:20250918T234538Z
LAST-MODIFIED:20260324T013935Z
UID:10004908-1774292400-1774299600@encinitaschurch.com
SUMMARY:170 Club Band practice
DESCRIPTION: Band practice
URL:https://encinitaschurch.com/event/170-club-band-practice-144/
LOCATION:Youth Room
END:VEVENT
BEGIN:VEVENT
DTSTART;TZID=America/Los_Angeles:20260319T193000
DTEND;TZID=America/Los_Angeles:20260319T210000
DTSTAMP:20260421T174944
CREATED:20250915T234519Z
LAST-MODIFIED:20260319T181540Z
UID:10004878-1773948600-1773954000@encinitaschurch.com
SUMMARY:170 Club
DESCRIPTION:Youth Room
URL:https://encinitaschurch.com/event/170-club-456/
LOCATION:Youth Room
END:VEVENT
BEGIN:VEVENT
DTSTART;TZID=America/Los_Angeles:20260316T190000
DTEND;TZID=America/Los_Angeles:20260316T210000
DTSTAMP:20260421T174944
CREATED:20250912T234546Z
LAST-MODIFIED:20260316T173046Z
UID:10004872-1773687600-1773694800@encinitaschurch.com
SUMMARY:170 Club Band practice
DESCRIPTION: Band practice
URL:https://encinitaschurch.com/event/170-club-band-practice-143/
LOCATION:Youth Room
END:VEVENT
BEGIN:VEVENT
DTSTART;TZID=America/Los_Angeles:20260312T193000
DTEND;TZID=America/Los_Angeles:20260312T210000
DTSTAMP:20260421T174944
CREATED:20250908T234447Z
LAST-MODIFIED:20260312T163040Z
UID:10004850-1773343800-1773349200@encinitaschurch.com
SUMMARY:170 Club
DESCRIPTION:Youth Room
URL:https://encinitaschurch.com/event/170-club-434/
LOCATION:Youth Room
END:VEVENT
BEGIN:VEVENT
DTSTART;TZID=America/Los_Angeles:20260309T190000
DTEND;TZID=America/Los_Angeles:20260309T210000
DTSTAMP:20260421T174944
CREATED:20250908T234435Z
LAST-MODIFIED:20260309T154537Z
UID:10004847-1773082800-1773090000@encinitaschurch.com
SUMMARY:170 Club Band practice
DESCRIPTION: Band practice
URL:https://encinitaschurch.com/event/170-club-band-practice-142/
LOCATION:Youth Room
END:VEVENT
BEGIN:VEVENT
DTSTART;TZID=America/Los_Angeles:20260305T193000
DTEND;TZID=America/Los_Angeles:20260305T210000
DTSTAMP:20260421T174944
CREATED:20250908T234410Z
LAST-MODIFIED:20260305T144546Z
UID:10004844-1772739000-1772744400@encinitaschurch.com
SUMMARY:170 Club
DESCRIPTION:Youth Room
URL:https://encinitaschurch.com/event/170-club-431/
LOCATION:Youth Room
END:VEVENT
BEGIN:VEVENT
DTSTART;TZID=America/Los_Angeles:20260226T193000
DTEND;TZID=America/Los_Angeles:20260226T210000
DTSTAMP:20260421T174944
CREATED:20250908T234346Z
LAST-MODIFIED:20260226T224551Z
UID:10004839-1772134200-1772139600@encinitaschurch.com
SUMMARY:170 Club
DESCRIPTION:Youth Room
URL:https://encinitaschurch.com/event/170-club-429/
LOCATION:Youth Room
END:VEVENT
BEGIN:VEVENT
DTSTART;TZID=America/Los_Angeles:20260219T193000
DTEND;TZID=America/Los_Angeles:20260219T210000
DTSTAMP:20260421T174944
CREATED:20250908T234324Z
LAST-MODIFIED:20260220T035855Z
UID:10004838-1771529400-1771534800@encinitaschurch.com
SUMMARY:170 Club
DESCRIPTION:Youth Room
URL:https://encinitaschurch.com/event/170-club-428/
LOCATION:Youth Room
END:VEVENT
BEGIN:VEVENT
DTSTART;TZID=America/Los_Angeles:20260212T193000
DTEND;TZID=America/Los_Angeles:20260212T210000
DTSTAMP:20260421T174944
CREATED:20250908T233922Z
LAST-MODIFIED:20260213T005027Z
UID:10004837-1770924600-1770930000@encinitaschurch.com
SUMMARY:170 Club
DESCRIPTION:Youth Room
URL:https://encinitaschurch.com/event/170-club-427/
LOCATION:Youth Room
END:VEVENT
BEGIN:VEVENT
DTSTART;TZID=America/Los_Angeles:20260205T193000
DTEND;TZID=America/Los_Angeles:20260205T210000
DTSTAMP:20260421T174944
CREATED:20250908T233848Z
LAST-MODIFIED:20260206T003031Z
UID:10004836-1770319800-1770325200@encinitaschurch.com
SUMMARY:170 Club
DESCRIPTION:Youth Room
URL:https://encinitaschurch.com/event/170-club-426/
LOCATION:Youth Room
END:VEVENT
BEGIN:VEVENT
DTSTART;TZID=America/Los_Angeles:20260129T193000
DTEND;TZID=America/Los_Angeles:20260129T210000
DTSTAMP:20260421T174944
CREATED:20250908T233823Z
LAST-MODIFIED:20260129T171358Z
UID:10004835-1769715000-1769720400@encinitaschurch.com
SUMMARY:170 Club
DESCRIPTION:Youth Room
URL:https://encinitaschurch.com/event/170-club-425/
LOCATION:Youth Room
END:VEVENT
BEGIN:VEVENT
DTSTART;TZID=America/Los_Angeles:20260122T193000
DTEND;TZID=America/Los_Angeles:20260122T210000
DTSTAMP:20260421T174944
CREATED:20250908T233759Z
LAST-MODIFIED:20260112T235143Z
UID:10004834-1769110200-1769115600@encinitaschurch.com
SUMMARY:170 Club
DESCRIPTION:Youth Room
URL:https://encinitaschurch.com/event/170-club-424/
LOCATION:Youth Room
END:VEVENT
BEGIN:VEVENT
DTSTART;TZID=America/Los_Angeles:20260115T193000
DTEND;TZID=America/Los_Angeles:20260115T210000
DTSTAMP:20260421T174944
CREATED:20250909T234215Z
LAST-MODIFIED:20260112T235105Z
UID:10004871-1768505400-1768510800@encinitaschurch.com
SUMMARY:170 Club
DESCRIPTION:Youth Room
URL:https://encinitaschurch.com/event/170-club-454/
LOCATION:Youth Room
END:VEVENT
BEGIN:VEVENT
DTSTART;TZID=America/Los_Angeles:20260115T193000
DTEND;TZID=America/Los_Angeles:20260115T210000
DTSTAMP:20260421T174944
CREATED:20250711T142913Z
LAST-MODIFIED:20250903T000245Z
UID:10003031-1768505400-1768510800@encinitaschurch.com
SUMMARY:170 Club
DESCRIPTION:Youth Room
URL:https://encinitaschurch.com/event/170-club-90/
LOCATION:Youth Room
END:VEVENT
BEGIN:VEVENT
DTSTART;TZID=America/Los_Angeles:20260112T190000
DTEND;TZID=America/Los_Angeles:20260112T210000
DTSTAMP:20260421T174944
CREATED:20250711T142901Z
LAST-MODIFIED:20250903T000233Z
UID:10003018-1768244400-1768251600@encinitaschurch.com
SUMMARY:170 Club Band practice
DESCRIPTION: Band practice
URL:https://encinitaschurch.com/event/170-club-band-practice-30/
LOCATION:Youth Room
END:VEVENT
BEGIN:VEVENT
DTSTART;TZID=America/Los_Angeles:20260108T193000
DTEND;TZID=America/Los_Angeles:20260108T210000
DTSTAMP:20260421T174944
CREATED:20250909T234142Z
LAST-MODIFIED:20260108T233048Z
UID:10004870-1767900600-1767906000@encinitaschurch.com
SUMMARY:170 Club
DESCRIPTION:Youth Room
URL:https://encinitaschurch.com/event/170-club-453/
LOCATION:Youth Room
END:VEVENT
BEGIN:VEVENT
DTSTART;TZID=America/Los_Angeles:20260108T193000
DTEND;TZID=America/Los_Angeles:20260108T210000
DTSTAMP:20260421T174944
CREATED:20250711T142848Z
LAST-MODIFIED:20250903T000222Z
UID:10003008-1767900600-1767906000@encinitaschurch.com
SUMMARY:170 Club
DESCRIPTION:Youth Room
URL:https://encinitaschurch.com/event/170-club-87/
LOCATION:Youth Room
END:VEVENT
BEGIN:VEVENT
DTSTART;TZID=America/Los_Angeles:20260105T190000
DTEND;TZID=America/Los_Angeles:20260105T210000
DTSTAMP:20260421T174944
CREATED:20250711T142837Z
LAST-MODIFIED:20250903T000211Z
UID:10003000-1767639600-1767646800@encinitaschurch.com
SUMMARY:170 Club Band practice
DESCRIPTION: Band practice
URL:https://encinitaschurch.com/event/170-club-band-practice-29/
LOCATION:Youth Room
END:VEVENT
BEGIN:VEVENT
DTSTART;TZID=America/Los_Angeles:20260101T193000
DTEND;TZID=America/Los_Angeles:20260101T210000
DTSTAMP:20260421T174944
CREATED:20250909T234119Z
LAST-MODIFIED:20251231T235049Z
UID:10004869-1767295800-1767301200@encinitaschurch.com
SUMMARY:170 Club
DESCRIPTION:Youth Room
URL:https://encinitaschurch.com/event/170-club-452/
LOCATION:Youth Room
END:VEVENT
BEGIN:VEVENT
DTSTART;TZID=America/Los_Angeles:20260101T193000
DTEND;TZID=America/Los_Angeles:20260101T210000
DTSTAMP:20260421T174944
CREATED:20250711T142824Z
LAST-MODIFIED:20250903T000144Z
UID:10002989-1767295800-1767301200@encinitaschurch.com
SUMMARY:170 Club
DESCRIPTION:Youth Room
URL:https://encinitaschurch.com/event/170-club-84/
LOCATION:Youth Room
END:VEVENT
BEGIN:VEVENT
DTSTART;TZID=America/Los_Angeles:20251229T190000
DTEND;TZID=America/Los_Angeles:20251229T210000
DTSTAMP:20260421T174944
CREATED:20250711T142812Z
LAST-MODIFIED:20250903T000132Z
UID:10002977-1767034800-1767042000@encinitaschurch.com
SUMMARY:170 Club Band practice
DESCRIPTION: Band practice
URL:https://encinitaschurch.com/event/170-club-band-practice-28/
LOCATION:Youth Room
END:VEVENT
BEGIN:VEVENT
DTSTART;TZID=America/Los_Angeles:20251222T190000
DTEND;TZID=America/Los_Angeles:20251222T210000
DTSTAMP:20260421T174944
CREATED:20250711T142747Z
LAST-MODIFIED:20250903T000106Z
UID:10002953-1766430000-1766437200@encinitaschurch.com
SUMMARY:170 Club Band practice
DESCRIPTION: Band practice
URL:https://encinitaschurch.com/event/170-club-band-practice-27/
LOCATION:Youth Room
END:VEVENT
END:VCALENDAR